BEGIN:VCALENDAR
VERSION:2.0
PRODID:-//Mosport Karting Centre - ECPv6.15.20//NONSGML v1.0//EN
CALSCALE:GREGORIAN
METHOD:PUBLISH
X-WR-CALNAME:Mosport Karting Centre
X-ORIGINAL-URL:https://mosportkartingcentre.com
X-WR-CALDESC:Events for Mosport Karting Centre
REFRESH-INTERVAL;VALUE=DURATION:PT1H
X-Robots-Tag:noindex
X-PUBLISHED-TTL:PT1H
BEGIN:VTIMEZONE
TZID:America/Toronto
BEGIN:DAYLIGHT
TZOFFSETFROM:-0500
TZOFFSETTO:-0400
TZNAME:EDT
DTSTART:20230312T070000
END:DAYLIGHT
BEGIN:STANDARD
TZOFFSETFROM:-0400
TZOFFSETTO:-0500
TZNAME:EST
DTSTART:20231105T060000
END:STANDARD
BEGIN:DAYLIGHT
TZOFFSETFROM:-0500
TZOFFSETTO:-0400
TZNAME:EDT
DTSTART:20240310T070000
END:DAYLIGHT
BEGIN:STANDARD
TZOFFSETFROM:-0400
TZOFFSETTO:-0500
TZNAME:EST
DTSTART:20241103T060000
END:STANDARD
BEGIN:DAYLIGHT
TZOFFSETFROM:-0500
TZOFFSETTO:-0400
TZNAME:EDT
DTSTART:20250309T070000
END:DAYLIGHT
BEGIN:STANDARD
TZOFFSETFROM:-0400
TZOFFSETTO:-0500
TZNAME:EST
DTSTART:20251102T060000
END:STANDARD
END:VTIMEZONE
BEGIN:VEVENT
DTSTART;TZID=America/Toronto:20240721T100000
DTEND;TZID=America/Toronto:20240721T130000
DTSTAMP:20260419T132226
CREATED:20240628T170234Z
LAST-MODIFIED:20240628T170234Z
UID:10001596-1721556000-1721566800@mosportkartingcentre.com
SUMMARY:Group Event
DESCRIPTION:
URL:https://mosportkartingcentre.com/event/group-event-42/
LOCATION:Mosport Karting Centre\, 3233 Concession Rd10\, Bowmanville\, Ontario\, L1C3K6\, Canada
CATEGORIES:Group Events
END:VEVENT
BEGIN:VEVENT
DTSTART;TZID=America/Toronto:20240721T103000
DTEND;TZID=America/Toronto:20240721T133000
DTSTAMP:20260419T132226
CREATED:20240628T170348Z
LAST-MODIFIED:20240628T170348Z
UID:10001597-1721557800-1721568600@mosportkartingcentre.com
SUMMARY:Group Event
DESCRIPTION:
URL:https://mosportkartingcentre.com/event/group-event-43/
LOCATION:Mosport Karting Centre\, 3233 Concession Rd10\, Bowmanville\, Ontario\, L1C3K6\, Canada
CATEGORIES:Group Events
END:VEVENT
BEGIN:VEVENT
DTSTART;TZID=America/Toronto:20240721T140000
DTEND;TZID=America/Toronto:20240721T170000
DTSTAMP:20260419T132226
CREATED:20240628T170433Z
LAST-MODIFIED:20240628T170433Z
UID:10001598-1721570400-1721581200@mosportkartingcentre.com
SUMMARY:Group Event
DESCRIPTION:
URL:https://mosportkartingcentre.com/event/group-event-44/
LOCATION:Mosport Karting Centre\, 3233 Concession Rd10\, Bowmanville\, Ontario\, L1C3K6\, Canada
CATEGORIES:Group Events
END:VEVENT
END:VCALENDAR