BEGIN:VCALENDAR
VERSION:2.0
PRODID:-//Mosport Karting Centre - ECPv6.15.18//NONSGML v1.0//EN
CALSCALE:GREGORIAN
METHOD:PUBLISH
X-ORIGINAL-URL:https://mosportkartingcentre.com
X-WR-CALDESC:Events for Mosport Karting Centre
REFRESH-INTERVAL;VALUE=DURATION:PT1H
X-Robots-Tag:noindex
X-PUBLISHED-TTL:PT1H
BEGIN:VTIMEZONE
TZID:America/Toronto
BEGIN:DAYLIGHT
TZOFFSETFROM:-0500
TZOFFSETTO:-0400
TZNAME:EDT
DTSTART:20250309T070000
END:DAYLIGHT
BEGIN:STANDARD
TZOFFSETFROM:-0400
TZOFFSETTO:-0500
TZNAME:EST
DTSTART:20251102T060000
END:STANDARD
BEGIN:DAYLIGHT
TZOFFSETFROM:-0500
TZOFFSETTO:-0400
TZNAME:EDT
DTSTART:20260308T070000
END:DAYLIGHT
BEGIN:STANDARD
TZOFFSETFROM:-0400
TZOFFSETTO:-0500
TZNAME:EST
DTSTART:20261101T060000
END:STANDARD
BEGIN:DAYLIGHT
TZOFFSETFROM:-0500
TZOFFSETTO:-0400
TZNAME:EDT
DTSTART:20270314T070000
END:DAYLIGHT
BEGIN:STANDARD
TZOFFSETFROM:-0400
TZOFFSETTO:-0500
TZNAME:EST
DTSTART:20271107T060000
END:STANDARD
END:VTIMEZONE
BEGIN:VEVENT
DTSTART;TZID=America/Toronto:20260430T100000
DTEND;TZID=America/Toronto:20260430T120000
DTSTAMP:20260419T083609
CREATED:20260418T211857Z
LAST-MODIFIED:20260418T211857Z
UID:10002505-1777543200-1777550400@mosportkartingcentre.com
SUMMARY:MADRL Pre-Season Rookie Training
DESCRIPTION:
URL:https://mosportkartingcentre.com/event/madrl-pre-season-rookie-training-18/
LOCATION:Mosport Karting Centre\, 3233 Concession Rd10\, Bowmanville\, Ontario\, L1C3K6\, Canada
CATEGORIES:Arrive and Drive
END:VEVENT
BEGIN:VEVENT
DTSTART;TZID=America/Toronto:20260430T100000
DTEND;TZID=America/Toronto:20260430T163000
DTSTAMP:20260419T083609
CREATED:20260326T200800Z
LAST-MODIFIED:20260326T200800Z
UID:10002498-1777543200-1777566600@mosportkartingcentre.com
SUMMARY:Open Practice
DESCRIPTION:
URL:https://mosportkartingcentre.com/event/open-practice-424/
LOCATION:Mosport Karting Centre\, 3233 Concession Rd10\, Bowmanville\, Ontario\, L1C3K6\, Canada
CATEGORIES:Open Practice
END:VEVENT
BEGIN:VEVENT
DTSTART;TZID=America/Toronto:20260430T120000
DTEND;TZID=America/Toronto:20260430T140000
DTSTAMP:20260419T083609
CREATED:20260418T211931Z
LAST-MODIFIED:20260418T211931Z
UID:10002506-1777550400-1777557600@mosportkartingcentre.com
SUMMARY:MADRL Pre-Season Rookie Training
DESCRIPTION:
URL:https://mosportkartingcentre.com/event/madrl-pre-season-rookie-training-19/
LOCATION:Mosport Karting Centre\, 3233 Concession Rd10\, Bowmanville\, Ontario\, L1C3K6\, Canada
CATEGORIES:Arrive and Drive
END:VEVENT
BEGIN:VEVENT
DTSTART;TZID=America/Toronto:20260430T170000
DTEND;TZID=America/Toronto:20260430T190000
DTSTAMP:20260419T083609
CREATED:20260215T181102Z
LAST-MODIFIED:20260215T182349Z
UID:10002383-1777568400-1777575600@mosportkartingcentre.com
SUMMARY:MADRL Pre-Season Rookie Training
DESCRIPTION:
URL:https://mosportkartingcentre.com/event/madrl-rookie-training-16/
LOCATION:Mosport Karting Centre\, 3233 Concession Rd10\, Bowmanville\, Ontario\, L1C3K6\, Canada
CATEGORIES:Arrive and Drive
END:VEVENT
END:VCALENDAR