BEGIN:VCALENDAR
VERSION:2.0
PRODID:-//Mosport Karting Centre - ECPv6.15.20//NONSGML v1.0//EN
CALSCALE:GREGORIAN
METHOD:PUBLISH
X-WR-CALNAME:Mosport Karting Centre
X-ORIGINAL-URL:https://mosportkartingcentre.com
X-WR-CALDESC:Events for Mosport Karting Centre
REFRESH-INTERVAL;VALUE=DURATION:PT1H
X-Robots-Tag:noindex
X-PUBLISHED-TTL:PT1H
BEGIN:VTIMEZONE
TZID:America/Toronto
BEGIN:DAYLIGHT
TZOFFSETFROM:-0500
TZOFFSETTO:-0400
TZNAME:EDT
DTSTART:20240310T070000
END:DAYLIGHT
BEGIN:STANDARD
TZOFFSETFROM:-0400
TZOFFSETTO:-0500
TZNAME:EST
DTSTART:20241103T060000
END:STANDARD
BEGIN:DAYLIGHT
TZOFFSETFROM:-0500
TZOFFSETTO:-0400
TZNAME:EDT
DTSTART:20250309T070000
END:DAYLIGHT
BEGIN:STANDARD
TZOFFSETFROM:-0400
TZOFFSETTO:-0500
TZNAME:EST
DTSTART:20251102T060000
END:STANDARD
BEGIN:DAYLIGHT
TZOFFSETFROM:-0500
TZOFFSETTO:-0400
TZNAME:EDT
DTSTART:20260308T070000
END:DAYLIGHT
BEGIN:STANDARD
TZOFFSETFROM:-0400
TZOFFSETTO:-0500
TZNAME:EST
DTSTART:20261101T060000
END:STANDARD
END:VTIMEZONE
BEGIN:VEVENT
DTSTART;VALUE=DATE:20250804
DTEND;VALUE=DATE:20250805
DTSTAMP:20260425T073147
CREATED:20250211T231154Z
LAST-MODIFIED:20250211T231154Z
UID:10001890-1754265600-1754351999@mosportkartingcentre.com
SUMMARY:Track Closed
DESCRIPTION:
URL:https://mosportkartingcentre.com/event/track-closed-47/
LOCATION:Mosport Karting Centre\, 3233 Concession Rd10\, Bowmanville\, Ontario\, L1C3K6\, Canada
CATEGORIES:Closed
ORGANIZER;CN="Mosport Karting Centre":MAILTO:info@mosportkartingcentre.com
END:VEVENT
BEGIN:VEVENT
DTSTART;VALUE=DATE:20250811
DTEND;VALUE=DATE:20250812
DTSTAMP:20260425T073147
CREATED:20250211T231238Z
LAST-MODIFIED:20250211T231238Z
UID:10001892-1754870400-1754956799@mosportkartingcentre.com
SUMMARY:Track Closed
DESCRIPTION:
URL:https://mosportkartingcentre.com/event/track-closed-49/
LOCATION:Mosport Karting Centre\, 3233 Concession Rd10\, Bowmanville\, Ontario\, L1C3K6\, Canada
CATEGORIES:Closed
ORGANIZER;CN="Mosport Karting Centre":MAILTO:info@mosportkartingcentre.com
END:VEVENT
BEGIN:VEVENT
DTSTART;VALUE=DATE:20250818
DTEND;VALUE=DATE:20250819
DTSTAMP:20260425T073147
CREATED:20250211T231215Z
LAST-MODIFIED:20250211T231215Z
UID:10001891-1755475200-1755561599@mosportkartingcentre.com
SUMMARY:Track Closed
DESCRIPTION:
URL:https://mosportkartingcentre.com/event/track-closed-48/
LOCATION:Mosport Karting Centre\, 3233 Concession Rd10\, Bowmanville\, Ontario\, L1C3K6\, Canada
CATEGORIES:Closed
ORGANIZER;CN="Mosport Karting Centre":MAILTO:info@mosportkartingcentre.com
END:VEVENT
BEGIN:VEVENT
DTSTART;VALUE=DATE:20250825
DTEND;VALUE=DATE:20250826
DTSTAMP:20260425T073148
CREATED:20250211T231300Z
LAST-MODIFIED:20250211T231300Z
UID:10001893-1756080000-1756166399@mosportkartingcentre.com
SUMMARY:Track Closed
DESCRIPTION:
URL:https://mosportkartingcentre.com/event/track-closed-50/
LOCATION:Mosport Karting Centre\, 3233 Concession Rd10\, Bowmanville\, Ontario\, L1C3K6\, Canada
CATEGORIES:Closed
ORGANIZER;CN="Mosport Karting Centre":MAILTO:info@mosportkartingcentre.com
END:VEVENT
END:VCALENDAR