BEGIN:VCALENDAR
VERSION:2.0
PRODID:-//Mosport Karting Centre - ECPv6.15.20//NONSGML v1.0//EN
CALSCALE:GREGORIAN
METHOD:PUBLISH
X-ORIGINAL-URL:https://mosportkartingcentre.com
X-WR-CALDESC:Events for Mosport Karting Centre
REFRESH-INTERVAL;VALUE=DURATION:PT1H
X-Robots-Tag:noindex
X-PUBLISHED-TTL:PT1H
BEGIN:VTIMEZONE
TZID:America/Toronto
BEGIN:DAYLIGHT
TZOFFSETFROM:-0500
TZOFFSETTO:-0400
TZNAME:EDT
DTSTART:20250309T070000
END:DAYLIGHT
BEGIN:STANDARD
TZOFFSETFROM:-0400
TZOFFSETTO:-0500
TZNAME:EST
DTSTART:20251102T060000
END:STANDARD
BEGIN:DAYLIGHT
TZOFFSETFROM:-0500
TZOFFSETTO:-0400
TZNAME:EDT
DTSTART:20260308T070000
END:DAYLIGHT
BEGIN:STANDARD
TZOFFSETFROM:-0400
TZOFFSETTO:-0500
TZNAME:EST
DTSTART:20261101T060000
END:STANDARD
BEGIN:DAYLIGHT
TZOFFSETFROM:-0500
TZOFFSETTO:-0400
TZNAME:EDT
DTSTART:20270314T070000
END:DAYLIGHT
BEGIN:STANDARD
TZOFFSETFROM:-0400
TZOFFSETTO:-0500
TZNAME:EST
DTSTART:20271107T060000
END:STANDARD
END:VTIMEZONE
BEGIN:VEVENT
DTSTART;VALUE=DATE:20260420
DTEND;VALUE=DATE:20260421
DTSTAMP:20260419T202316
CREATED:20260208T174556Z
LAST-MODIFIED:20260208T174556Z
UID:10002338-1776643200-1776729599@mosportkartingcentre.com
SUMMARY:Track Closed
DESCRIPTION:
URL:https://mosportkartingcentre.com/event/track-closed-88/
LOCATION:Mosport Karting Centre\, 3233 Concession Rd10\, Bowmanville\, Ontario\, L1C3K6\, Canada
CATEGORIES:Closed
END:VEVENT
BEGIN:VEVENT
DTSTART;VALUE=DATE:20260427
DTEND;VALUE=DATE:20260428
DTSTAMP:20260419T202317
CREATED:20260208T171102Z
LAST-MODIFIED:20260208T171102Z
UID:10002309-1777248000-1777334399@mosportkartingcentre.com
SUMMARY:Track Closed
DESCRIPTION:
URL:https://mosportkartingcentre.com/event/track-closed-43/
LOCATION:Mosport Karting Centre\, 3233 Concession Rd10\, Bowmanville\, Ontario\, L1C3K6\, Canada
CATEGORIES:Closed
END:VEVENT
BEGIN:VEVENT
DTSTART;VALUE=DATE:20260504
DTEND;VALUE=DATE:20260505
DTSTAMP:20260419T202317
CREATED:20260208T171221Z
LAST-MODIFIED:20260208T171805Z
UID:10002310-1777852800-1777939199@mosportkartingcentre.com
SUMMARY:Track Closed
DESCRIPTION:
URL:https://mosportkartingcentre.com/event/track-closed-60/
LOCATION:Mosport Karting Centre\, 3233 Concession Rd10\, Bowmanville\, Ontario\, L1C3K6\, Canada
CATEGORIES:Closed
END:VEVENT
BEGIN:VEVENT
DTSTART;VALUE=DATE:20260511
DTEND;VALUE=DATE:20260512
DTSTAMP:20260419T202317
CREATED:20260208T171514Z
LAST-MODIFIED:20260208T171726Z
UID:10002311-1778457600-1778543999@mosportkartingcentre.com
SUMMARY:Track Closed
DESCRIPTION:
URL:https://mosportkartingcentre.com/event/track-closed-61/
LOCATION:Mosport Karting Centre\, 3233 Concession Rd10\, Bowmanville\, Ontario\, L1C3K6\, Canada
CATEGORIES:Closed
END:VEVENT
BEGIN:VEVENT
DTSTART;VALUE=DATE:20260518
DTEND;VALUE=DATE:20260519
DTSTAMP:20260419T202317
CREATED:20260208T171626Z
LAST-MODIFIED:20260208T171959Z
UID:10002312-1779062400-1779148799@mosportkartingcentre.com
SUMMARY:Track Closed
DESCRIPTION:
URL:https://mosportkartingcentre.com/event/track-closed-62/
LOCATION:Mosport Karting Centre\, 3233 Concession Rd10\, Bowmanville\, Ontario\, L1C3K6\, Canada
CATEGORIES:Closed
END:VEVENT
BEGIN:VEVENT
DTSTART;VALUE=DATE:20260525
DTEND;VALUE=DATE:20260526
DTSTAMP:20260419T202317
CREATED:20260208T171926Z
LAST-MODIFIED:20260208T171926Z
UID:10002313-1779667200-1779753599@mosportkartingcentre.com
SUMMARY:Track Closed
DESCRIPTION:
URL:https://mosportkartingcentre.com/event/track-closed-63/
LOCATION:Mosport Karting Centre\, 3233 Concession Rd10\, Bowmanville\, Ontario\, L1C3K6\, Canada
CATEGORIES:Closed
END:VEVENT
BEGIN:VEVENT
DTSTART;VALUE=DATE:20260601
DTEND;VALUE=DATE:20260602
DTSTAMP:20260419T202317
CREATED:20260208T172052Z
LAST-MODIFIED:20260208T172204Z
UID:10002314-1780272000-1780358399@mosportkartingcentre.com
SUMMARY:Track Closed
DESCRIPTION:
URL:https://mosportkartingcentre.com/event/track-closed-64/
LOCATION:Mosport Karting Centre\, 3233 Concession Rd10\, Bowmanville\, Ontario\, L1C3K6\, Canada
CATEGORIES:Closed
END:VEVENT
BEGIN:VEVENT
DTSTART;VALUE=DATE:20260608
DTEND;VALUE=DATE:20260609
DTSTAMP:20260419T202317
CREATED:20260208T172128Z
LAST-MODIFIED:20260208T172128Z
UID:10002315-1780876800-1780963199@mosportkartingcentre.com
SUMMARY:Track Closed
DESCRIPTION:
URL:https://mosportkartingcentre.com/event/track-closed-65/
LOCATION:Mosport Karting Centre\, 3233 Concession Rd10\, Bowmanville\, Ontario\, L1C3K6\, Canada
CATEGORIES:Closed
END:VEVENT
BEGIN:VEVENT
DTSTART;VALUE=DATE:20260615
DTEND;VALUE=DATE:20260616
DTSTAMP:20260419T202317
CREATED:20260208T172300Z
LAST-MODIFIED:20260208T172417Z
UID:10002316-1781481600-1781567999@mosportkartingcentre.com
SUMMARY:Track Closed
DESCRIPTION:
URL:https://mosportkartingcentre.com/event/track-closed-66/
LOCATION:Mosport Karting Centre\, 3233 Concession Rd10\, Bowmanville\, Ontario\, L1C3K6\, Canada
CATEGORIES:Closed
END:VEVENT
BEGIN:VEVENT
DTSTART;VALUE=DATE:20260622
DTEND;VALUE=DATE:20260623
DTSTAMP:20260419T202317
CREATED:20260208T172335Z
LAST-MODIFIED:20260208T172352Z
UID:10002317-1782086400-1782172799@mosportkartingcentre.com
SUMMARY:Track Closed
DESCRIPTION:
URL:https://mosportkartingcentre.com/event/track-closed-67/
LOCATION:Mosport Karting Centre\, 3233 Concession Rd10\, Bowmanville\, Ontario\, L1C3K6\, Canada
CATEGORIES:Closed
END:VEVENT
BEGIN:VEVENT
DTSTART;VALUE=DATE:20260629
DTEND;VALUE=DATE:20260630
DTSTAMP:20260419T202317
CREATED:20260208T172503Z
LAST-MODIFIED:20260208T172503Z
UID:10002318-1782691200-1782777599@mosportkartingcentre.com
SUMMARY:Track Closed
DESCRIPTION:
URL:https://mosportkartingcentre.com/event/track-closed-68/
LOCATION:Mosport Karting Centre\, 3233 Concession Rd10\, Bowmanville\, Ontario\, L1C3K6\, Canada
CATEGORIES:Closed
END:VEVENT
BEGIN:VEVENT
DTSTART;VALUE=DATE:20260706
DTEND;VALUE=DATE:20260707
DTSTAMP:20260419T202317
CREATED:20260208T172643Z
LAST-MODIFIED:20260208T172643Z
UID:10002319-1783296000-1783382399@mosportkartingcentre.com
SUMMARY:Track Closed
DESCRIPTION:
URL:https://mosportkartingcentre.com/event/track-closed-69/
LOCATION:Mosport Karting Centre\, 3233 Concession Rd10\, Bowmanville\, Ontario\, L1C3K6\, Canada
CATEGORIES:Closed
END:VEVENT
BEGIN:VEVENT
DTSTART;VALUE=DATE:20260713
DTEND;VALUE=DATE:20260714
DTSTAMP:20260419T202317
CREATED:20260208T172725Z
LAST-MODIFIED:20260208T172725Z
UID:10002320-1783900800-1783987199@mosportkartingcentre.com
SUMMARY:Track Closed
DESCRIPTION:
URL:https://mosportkartingcentre.com/event/track-closed-70/
LOCATION:Mosport Karting Centre\, 3233 Concession Rd10\, Bowmanville\, Ontario\, L1C3K6\, Canada
CATEGORIES:Closed
END:VEVENT
BEGIN:VEVENT
DTSTART;VALUE=DATE:20260720
DTEND;VALUE=DATE:20260721
DTSTAMP:20260419T202317
CREATED:20260208T172804Z
LAST-MODIFIED:20260208T172804Z
UID:10002321-1784505600-1784591999@mosportkartingcentre.com
SUMMARY:Track Closed
DESCRIPTION:
URL:https://mosportkartingcentre.com/event/track-closed-71/
LOCATION:Mosport Karting Centre\, 3233 Concession Rd10\, Bowmanville\, Ontario\, L1C3K6\, Canada
CATEGORIES:Closed
END:VEVENT
BEGIN:VEVENT
DTSTART;VALUE=DATE:20260727
DTEND;VALUE=DATE:20260728
DTSTAMP:20260419T202317
CREATED:20260208T172847Z
LAST-MODIFIED:20260208T172847Z
UID:10002322-1785110400-1785196799@mosportkartingcentre.com
SUMMARY:Track Closed
DESCRIPTION:
URL:https://mosportkartingcentre.com/event/track-closed-72/
LOCATION:Mosport Karting Centre\, 3233 Concession Rd10\, Bowmanville\, Ontario\, L1C3K6\, Canada
CATEGORIES:Closed
END:VEVENT
BEGIN:VEVENT
DTSTART;VALUE=DATE:20260803
DTEND;VALUE=DATE:20260804
DTSTAMP:20260419T202317
CREATED:20260208T172934Z
LAST-MODIFIED:20260208T172934Z
UID:10002323-1785715200-1785801599@mosportkartingcentre.com
SUMMARY:Track Closed
DESCRIPTION:
URL:https://mosportkartingcentre.com/event/track-closed-73/
LOCATION:Mosport Karting Centre\, 3233 Concession Rd10\, Bowmanville\, Ontario\, L1C3K6\, Canada
CATEGORIES:Closed
END:VEVENT
BEGIN:VEVENT
DTSTART;VALUE=DATE:20260810
DTEND;VALUE=DATE:20260811
DTSTAMP:20260419T202317
CREATED:20260208T173013Z
LAST-MODIFIED:20260208T173013Z
UID:10002324-1786320000-1786406399@mosportkartingcentre.com
SUMMARY:Track Closed
DESCRIPTION:
URL:https://mosportkartingcentre.com/event/track-closed-74/
LOCATION:Mosport Karting Centre\, 3233 Concession Rd10\, Bowmanville\, Ontario\, L1C3K6\, Canada
CATEGORIES:Closed
END:VEVENT
BEGIN:VEVENT
DTSTART;VALUE=DATE:20260817
DTEND;VALUE=DATE:20260818
DTSTAMP:20260419T202317
CREATED:20260208T173059Z
LAST-MODIFIED:20260208T173059Z
UID:10002325-1786924800-1787011199@mosportkartingcentre.com
SUMMARY:Track Closed
DESCRIPTION:
URL:https://mosportkartingcentre.com/event/track-closed-75/
LOCATION:Mosport Karting Centre\, 3233 Concession Rd10\, Bowmanville\, Ontario\, L1C3K6\, Canada
CATEGORIES:Closed
END:VEVENT
BEGIN:VEVENT
DTSTART;VALUE=DATE:20260824
DTEND;VALUE=DATE:20260825
DTSTAMP:20260419T202317
CREATED:20260208T173130Z
LAST-MODIFIED:20260208T173130Z
UID:10002326-1787529600-1787615999@mosportkartingcentre.com
SUMMARY:Track Closed
DESCRIPTION:
URL:https://mosportkartingcentre.com/event/track-closed-76/
LOCATION:Mosport Karting Centre\, 3233 Concession Rd10\, Bowmanville\, Ontario\, L1C3K6\, Canada
CATEGORIES:Closed
END:VEVENT
BEGIN:VEVENT
DTSTART;VALUE=DATE:20260831
DTEND;VALUE=DATE:20260901
DTSTAMP:20260419T202317
CREATED:20260208T173203Z
LAST-MODIFIED:20260208T173203Z
UID:10002327-1788134400-1788220799@mosportkartingcentre.com
SUMMARY:Track Closed
DESCRIPTION:
URL:https://mosportkartingcentre.com/event/track-closed-77/
LOCATION:Mosport Karting Centre\, 3233 Concession Rd10\, Bowmanville\, Ontario\, L1C3K6\, Canada
CATEGORIES:Closed
END:VEVENT
BEGIN:VEVENT
DTSTART;VALUE=DATE:20260907
DTEND;VALUE=DATE:20260908
DTSTAMP:20260419T202317
CREATED:20260208T173327Z
LAST-MODIFIED:20260208T173327Z
UID:10002328-1788739200-1788825599@mosportkartingcentre.com
SUMMARY:Track Closed
DESCRIPTION:
URL:https://mosportkartingcentre.com/event/track-closed-78/
LOCATION:Mosport Karting Centre\, 3233 Concession Rd10\, Bowmanville\, Ontario\, L1C3K6\, Canada
CATEGORIES:Closed
END:VEVENT
BEGIN:VEVENT
DTSTART;VALUE=DATE:20260914
DTEND;VALUE=DATE:20260915
DTSTAMP:20260419T202317
CREATED:20260208T173419Z
LAST-MODIFIED:20260208T173419Z
UID:10002329-1789344000-1789430399@mosportkartingcentre.com
SUMMARY:Track Closed
DESCRIPTION:
URL:https://mosportkartingcentre.com/event/track-closed-79/
LOCATION:Mosport Karting Centre\, 3233 Concession Rd10\, Bowmanville\, Ontario\, L1C3K6\, Canada
CATEGORIES:Closed
END:VEVENT
BEGIN:VEVENT
DTSTART;VALUE=DATE:20260921
DTEND;VALUE=DATE:20260922
DTSTAMP:20260419T202317
CREATED:20260208T173528Z
LAST-MODIFIED:20260208T173541Z
UID:10002330-1789948800-1790035199@mosportkartingcentre.com
SUMMARY:Track Closed
DESCRIPTION:
URL:https://mosportkartingcentre.com/event/track-closed-80/
LOCATION:Mosport Karting Centre\, 3233 Concession Rd10\, Bowmanville\, Ontario\, L1C3K6\, Canada
CATEGORIES:Closed
END:VEVENT
BEGIN:VEVENT
DTSTART;VALUE=DATE:20260928
DTEND;VALUE=DATE:20260929
DTSTAMP:20260419T202317
CREATED:20260208T173637Z
LAST-MODIFIED:20260208T173637Z
UID:10002331-1790553600-1790639999@mosportkartingcentre.com
SUMMARY:Track Closed
DESCRIPTION:
URL:https://mosportkartingcentre.com/event/track-closed-81/
LOCATION:Mosport Karting Centre\, 3233 Concession Rd10\, Bowmanville\, Ontario\, L1C3K6\, Canada
CATEGORIES:Closed
END:VEVENT
BEGIN:VEVENT
DTSTART;VALUE=DATE:20261005
DTEND;VALUE=DATE:20261006
DTSTAMP:20260419T202317
CREATED:20260208T173747Z
LAST-MODIFIED:20260208T173747Z
UID:10002332-1791158400-1791244799@mosportkartingcentre.com
SUMMARY:Track Closed
DESCRIPTION:
URL:https://mosportkartingcentre.com/event/track-closed-82/
LOCATION:Mosport Karting Centre\, 3233 Concession Rd10\, Bowmanville\, Ontario\, L1C3K6\, Canada
CATEGORIES:Closed
END:VEVENT
BEGIN:VEVENT
DTSTART;TZID=America/Toronto:20261012T130000
DTEND;TZID=America/Toronto:20261012T200000
DTSTAMP:20260419T202317
CREATED:20260208T173818Z
LAST-MODIFIED:20260208T174004Z
UID:10002333-1791810000-1791835200@mosportkartingcentre.com
SUMMARY:Track Closed
DESCRIPTION:
URL:https://mosportkartingcentre.com/event/track-closed-83/
LOCATION:Mosport Karting Centre\, 3233 Concession Rd10\, Bowmanville\, Ontario\, L1C3K6\, Canada
CATEGORIES:Closed
END:VEVENT
BEGIN:VEVENT
DTSTART;VALUE=DATE:20261019
DTEND;VALUE=DATE:20261020
DTSTAMP:20260419T202317
CREATED:20260208T174104Z
LAST-MODIFIED:20260208T174119Z
UID:10002334-1792368000-1792454399@mosportkartingcentre.com
SUMMARY:Track Closed
DESCRIPTION:
URL:https://mosportkartingcentre.com/event/track-closed-84/
LOCATION:Mosport Karting Centre\, 3233 Concession Rd10\, Bowmanville\, Ontario\, L1C3K6\, Canada
CATEGORIES:Closed
END:VEVENT
BEGIN:VEVENT
DTSTART;VALUE=DATE:20261026
DTEND;VALUE=DATE:20261027
DTSTAMP:20260419T202317
CREATED:20260208T174253Z
LAST-MODIFIED:20260208T174253Z
UID:10002335-1792972800-1793059199@mosportkartingcentre.com
SUMMARY:Track Closed
DESCRIPTION:
URL:https://mosportkartingcentre.com/event/track-closed-85/
LOCATION:Mosport Karting Centre\, 3233 Concession Rd10\, Bowmanville\, Ontario\, L1C3K6\, Canada
CATEGORIES:Closed
END:VEVENT
BEGIN:VEVENT
DTSTART;VALUE=DATE:20261102
DTEND;VALUE=DATE:20261103
DTSTAMP:20260419T202317
CREATED:20260208T175101Z
LAST-MODIFIED:20260208T175101Z
UID:10002344-1793577600-1793663999@mosportkartingcentre.com
SUMMARY:Track Closed
DESCRIPTION:
URL:https://mosportkartingcentre.com/event/track-closed-94/
LOCATION:Mosport Karting Centre\, 3233 Concession Rd10\, Bowmanville\, Ontario\, L1C3K6\, Canada
CATEGORIES:Closed
END:VEVENT
END:VCALENDAR