BEGIN:VCALENDAR
VERSION:2.0
PRODID:-//Mosport Karting Centre - ECPv6.15.20//NONSGML v1.0//EN
CALSCALE:GREGORIAN
METHOD:PUBLISH
X-ORIGINAL-URL:https://mosportkartingcentre.com
X-WR-CALDESC:Events for Mosport Karting Centre
REFRESH-INTERVAL;VALUE=DURATION:PT1H
X-Robots-Tag:noindex
X-PUBLISHED-TTL:PT1H
BEGIN:VTIMEZONE
TZID:America/Toronto
BEGIN:DAYLIGHT
TZOFFSETFROM:-0500
TZOFFSETTO:-0400
TZNAME:EDT
DTSTART:20230312T070000
END:DAYLIGHT
BEGIN:STANDARD
TZOFFSETFROM:-0400
TZOFFSETTO:-0500
TZNAME:EST
DTSTART:20231105T060000
END:STANDARD
BEGIN:DAYLIGHT
TZOFFSETFROM:-0500
TZOFFSETTO:-0400
TZNAME:EDT
DTSTART:20240310T070000
END:DAYLIGHT
BEGIN:STANDARD
TZOFFSETFROM:-0400
TZOFFSETTO:-0500
TZNAME:EST
DTSTART:20241103T060000
END:STANDARD
BEGIN:DAYLIGHT
TZOFFSETFROM:-0500
TZOFFSETTO:-0400
TZNAME:EDT
DTSTART:20250309T070000
END:DAYLIGHT
BEGIN:STANDARD
TZOFFSETFROM:-0400
TZOFFSETTO:-0500
TZNAME:EST
DTSTART:20251102T060000
END:STANDARD
END:VTIMEZONE
BEGIN:VEVENT
DTSTART;TZID=America/Toronto:20240601T100000
DTEND;TZID=America/Toronto:20240601T180000
DTSTAMP:20260421T012725
CREATED:20240509T154255Z
LAST-MODIFIED:20240509T154255Z
UID:10001515-1717236000-1717264800@mosportkartingcentre.com
SUMMARY:Open Practice
DESCRIPTION:
URL:https://mosportkartingcentre.com/event/open-practice-190/
LOCATION:Mosport Karting Centre\, 3233 Concession Rd10\, Bowmanville\, Ontario\, L1C3K6\, Canada
CATEGORIES:Open Practice
ORGANIZER;CN="Mosport Karting Centre":MAILTO:info@mosportkartingcentre.com
END:VEVENT
BEGIN:VEVENT
DTSTART;TZID=America/Toronto:20240604T100000
DTEND;TZID=America/Toronto:20240604T170000
DTSTAMP:20260421T012725
CREATED:20240524T235251Z
LAST-MODIFIED:20240524T235251Z
UID:10001516-1717495200-1717520400@mosportkartingcentre.com
SUMMARY:Open Practice
DESCRIPTION:
URL:https://mosportkartingcentre.com/event/open-practice-191/
LOCATION:Mosport Karting Centre\, 3233 Concession Rd10\, Bowmanville\, Ontario\, L1C3K6\, Canada
CATEGORIES:Open Practice
ORGANIZER;CN="Mosport Karting Centre":MAILTO:info@mosportkartingcentre.com
END:VEVENT
BEGIN:VEVENT
DTSTART;TZID=America/Toronto:20240605T130000
DTEND;TZID=America/Toronto:20240605T170000
DTSTAMP:20260421T012725
CREATED:20240524T235508Z
LAST-MODIFIED:20240524T235508Z
UID:10001518-1717592400-1717606800@mosportkartingcentre.com
SUMMARY:Open Practice
DESCRIPTION:
URL:https://mosportkartingcentre.com/event/open-practice-192/
LOCATION:Mosport Karting Centre\, 3233 Concession Rd10\, Bowmanville\, Ontario\, L1C3K6\, Canada
CATEGORIES:Open Practice
ORGANIZER;CN="Mosport Karting Centre":MAILTO:info@mosportkartingcentre.com
END:VEVENT
BEGIN:VEVENT
DTSTART;TZID=America/Toronto:20240606T100000
DTEND;TZID=America/Toronto:20240606T130000
DTSTAMP:20260421T012725
CREATED:20240524T235622Z
LAST-MODIFIED:20240524T235622Z
UID:10001519-1717668000-1717678800@mosportkartingcentre.com
SUMMARY:Open Practice
DESCRIPTION:
URL:https://mosportkartingcentre.com/event/open-practice-193/
LOCATION:Mosport Karting Centre\, 3233 Concession Rd10\, Bowmanville\, Ontario\, L1C3K6\, Canada
CATEGORIES:Open Practice
ORGANIZER;CN="Mosport Karting Centre":MAILTO:info@mosportkartingcentre.com
END:VEVENT
BEGIN:VEVENT
DTSTART;TZID=America/Toronto:20240608T130000
DTEND;TZID=America/Toronto:20240608T180000
DTSTAMP:20260421T012725
CREATED:20240525T000417Z
LAST-MODIFIED:20240525T000417Z
UID:10001524-1717851600-1717869600@mosportkartingcentre.com
SUMMARY:Open Practice
DESCRIPTION:
URL:https://mosportkartingcentre.com/event/open-practice-194/
LOCATION:Mosport Karting Centre\, 3233 Concession Rd10\, Bowmanville\, Ontario\, L1C3K6\, Canada
CATEGORIES:Open Practice
ORGANIZER;CN="Mosport Karting Centre":MAILTO:info@mosportkartingcentre.com
END:VEVENT
BEGIN:VEVENT
DTSTART;TZID=America/Toronto:20240611T100000
DTEND;TZID=America/Toronto:20240611T170000
DTSTAMP:20260421T012725
CREATED:20240526T201556Z
LAST-MODIFIED:20240526T201556Z
UID:10001525-1718100000-1718125200@mosportkartingcentre.com
SUMMARY:Open Practice
DESCRIPTION:
URL:https://mosportkartingcentre.com/event/open-practice-195/
LOCATION:Mosport Karting Centre\, 3233 Concession Rd10\, Bowmanville\, Ontario\, L1C3K6\, Canada
CATEGORIES:Open Practice
ORGANIZER;CN="Mosport Karting Centre":MAILTO:info@mosportkartingcentre.com
END:VEVENT
BEGIN:VEVENT
DTSTART;TZID=America/Toronto:20240612T100000
DTEND;TZID=America/Toronto:20240612T170000
DTSTAMP:20260421T012725
CREATED:20240526T201639Z
LAST-MODIFIED:20240526T201639Z
UID:10001526-1718186400-1718211600@mosportkartingcentre.com
SUMMARY:Open Practice
DESCRIPTION:
URL:https://mosportkartingcentre.com/event/open-practice-196/
LOCATION:Mosport Karting Centre\, 3233 Concession Rd10\, Bowmanville\, Ontario\, L1C3K6\, Canada
CATEGORIES:Open Practice
ORGANIZER;CN="Mosport Karting Centre":MAILTO:info@mosportkartingcentre.com
END:VEVENT
BEGIN:VEVENT
DTSTART;TZID=America/Toronto:20240613T100000
DTEND;TZID=America/Toronto:20240613T130000
DTSTAMP:20260421T012725
CREATED:20240526T201825Z
LAST-MODIFIED:20240526T201825Z
UID:10001528-1718272800-1718283600@mosportkartingcentre.com
SUMMARY:Open Practice
DESCRIPTION:
URL:https://mosportkartingcentre.com/event/open-practice-197/
LOCATION:Mosport Karting Centre\, 3233 Concession Rd10\, Bowmanville\, Ontario\, L1C3K6\, Canada
CATEGORIES:Open Practice
ORGANIZER;CN="Mosport Karting Centre":MAILTO:info@mosportkartingcentre.com
END:VEVENT
BEGIN:VEVENT
DTSTART;TZID=America/Toronto:20240615T130000
DTEND;TZID=America/Toronto:20240615T180000
DTSTAMP:20260421T012725
CREATED:20240526T202717Z
LAST-MODIFIED:20240526T202717Z
UID:10001533-1718456400-1718474400@mosportkartingcentre.com
SUMMARY:Open Practice
DESCRIPTION:
URL:https://mosportkartingcentre.com/event/open-practice-198/
LOCATION:Mosport Karting Centre\, 3233 Concession Rd10\, Bowmanville\, Ontario\, L1C3K6\, Canada
CATEGORIES:Open Practice
ORGANIZER;CN="Mosport Karting Centre":MAILTO:info@mosportkartingcentre.com
END:VEVENT
BEGIN:VEVENT
DTSTART;TZID=America/Toronto:20240618T100000
DTEND;TZID=America/Toronto:20240618T170000
DTSTAMP:20260421T012725
CREATED:20240526T203840Z
LAST-MODIFIED:20240526T203840Z
UID:10001537-1718704800-1718730000@mosportkartingcentre.com
SUMMARY:Open Practice
DESCRIPTION:
URL:https://mosportkartingcentre.com/event/open-practice-199/
LOCATION:Mosport Karting Centre\, 3233 Concession Rd10\, Bowmanville\, Ontario\, L1C3K6\, Canada
CATEGORIES:Open Practice
ORGANIZER;CN="Mosport Karting Centre":MAILTO:info@mosportkartingcentre.com
END:VEVENT
BEGIN:VEVENT
DTSTART;TZID=America/Toronto:20240619T100000
DTEND;TZID=America/Toronto:20240619T130000
DTSTAMP:20260421T012725
CREATED:20240526T204108Z
LAST-MODIFIED:20240526T204108Z
UID:10001539-1718791200-1718802000@mosportkartingcentre.com
SUMMARY:Open Practice
DESCRIPTION:
URL:https://mosportkartingcentre.com/event/open-practice-200/
LOCATION:Mosport Karting Centre\, 3233 Concession Rd10\, Bowmanville\, Ontario\, L1C3K6\, Canada
CATEGORIES:Open Practice
ORGANIZER;CN="Mosport Karting Centre":MAILTO:info@mosportkartingcentre.com
END:VEVENT
BEGIN:VEVENT
DTSTART;TZID=America/Toronto:20240620T100000
DTEND;TZID=America/Toronto:20240620T170000
DTSTAMP:20260421T012725
CREATED:20240526T204337Z
LAST-MODIFIED:20240526T204337Z
UID:10001542-1718877600-1718902800@mosportkartingcentre.com
SUMMARY:Open Practice
DESCRIPTION:
URL:https://mosportkartingcentre.com/event/open-practice-201/
LOCATION:Mosport Karting Centre\, 3233 Concession Rd10\, Bowmanville\, Ontario\, L1C3K6\, Canada
CATEGORIES:Open Practice
ORGANIZER;CN="Mosport Karting Centre":MAILTO:info@mosportkartingcentre.com
END:VEVENT
BEGIN:VEVENT
DTSTART;TZID=America/Toronto:20240622T090000
DTEND;TZID=America/Toronto:20240622T163000
DTSTAMP:20260421T012725
CREATED:20240526T211102Z
LAST-MODIFIED:20240606T222031Z
UID:10001547-1719046800-1719073800@mosportkartingcentre.com
SUMMARY:Open Practice
DESCRIPTION:
URL:https://mosportkartingcentre.com/event/open-practice-202/
LOCATION:Mosport Karting Centre\, 3233 Concession Rd10\, Bowmanville\, Ontario\, L1C3K6\, Canada
CATEGORIES:Open Practice
ORGANIZER;CN="Mosport Karting Centre":MAILTO:info@mosportkartingcentre.com
END:VEVENT
BEGIN:VEVENT
DTSTART;TZID=America/Toronto:20240625T100000
DTEND;TZID=America/Toronto:20240625T130000
DTSTAMP:20260421T012725
CREATED:20240526T212156Z
LAST-MODIFIED:20240526T212156Z
UID:10001549-1719309600-1719320400@mosportkartingcentre.com
SUMMARY:Open Practice
DESCRIPTION:
URL:https://mosportkartingcentre.com/event/open-practice-203/
LOCATION:Mosport Karting Centre\, 3233 Concession Rd10\, Bowmanville\, Ontario\, L1C3K6\, Canada
CATEGORIES:Open Practice
ORGANIZER;CN="Mosport Karting Centre":MAILTO:info@mosportkartingcentre.com
END:VEVENT
BEGIN:VEVENT
DTSTART;TZID=America/Toronto:20240626T100000
DTEND;TZID=America/Toronto:20240626T170000
DTSTAMP:20260421T012725
CREATED:20240526T212312Z
LAST-MODIFIED:20240526T212312Z
UID:10001551-1719396000-1719421200@mosportkartingcentre.com
SUMMARY:Open Practice
DESCRIPTION:
URL:https://mosportkartingcentre.com/event/open-practice-204/
LOCATION:Mosport Karting Centre\, 3233 Concession Rd10\, Bowmanville\, Ontario\, L1C3K6\, Canada
CATEGORIES:Open Practice
ORGANIZER;CN="Mosport Karting Centre":MAILTO:info@mosportkartingcentre.com
END:VEVENT
BEGIN:VEVENT
DTSTART;TZID=America/Toronto:20240628T100000
DTEND;TZID=America/Toronto:20240628T130000
DTSTAMP:20260421T012725
CREATED:20240526T213406Z
LAST-MODIFIED:20240526T213406Z
UID:10001555-1719568800-1719579600@mosportkartingcentre.com
SUMMARY:Open Practice
DESCRIPTION:
URL:https://mosportkartingcentre.com/event/open-practice-205/
LOCATION:Mosport Karting Centre\, 3233 Concession Rd10\, Bowmanville\, Ontario\, L1C3K6\, Canada
CATEGORIES:Open Practice
ORGANIZER;CN="Mosport Karting Centre":MAILTO:info@mosportkartingcentre.com
END:VEVENT
END:VCALENDAR