BEGIN:VCALENDAR
VERSION:2.0
PRODID:-//Mosport Karting Centre - ECPv6.15.20//NONSGML v1.0//EN
CALSCALE:GREGORIAN
METHOD:PUBLISH
X-ORIGINAL-URL:https://mosportkartingcentre.com
X-WR-CALDESC:Events for Mosport Karting Centre
REFRESH-INTERVAL;VALUE=DURATION:PT1H
X-Robots-Tag:noindex
X-PUBLISHED-TTL:PT1H
BEGIN:VTIMEZONE
TZID:America/Toronto
BEGIN:DAYLIGHT
TZOFFSETFROM:-0500
TZOFFSETTO:-0400
TZNAME:EDT
DTSTART:20230312T070000
END:DAYLIGHT
BEGIN:STANDARD
TZOFFSETFROM:-0400
TZOFFSETTO:-0500
TZNAME:EST
DTSTART:20231105T060000
END:STANDARD
BEGIN:DAYLIGHT
TZOFFSETFROM:-0500
TZOFFSETTO:-0400
TZNAME:EDT
DTSTART:20240310T070000
END:DAYLIGHT
BEGIN:STANDARD
TZOFFSETFROM:-0400
TZOFFSETTO:-0500
TZNAME:EST
DTSTART:20241103T060000
END:STANDARD
BEGIN:DAYLIGHT
TZOFFSETFROM:-0500
TZOFFSETTO:-0400
TZNAME:EDT
DTSTART:20250309T070000
END:DAYLIGHT
BEGIN:STANDARD
TZOFFSETFROM:-0400
TZOFFSETTO:-0500
TZNAME:EST
DTSTART:20251102T060000
END:STANDARD
END:VTIMEZONE
BEGIN:VEVENT
DTSTART;TZID=America/Toronto:20240903T100000
DTEND;TZID=America/Toronto:20240903T163000
DTSTAMP:20260420T092550
CREATED:20240823T221754Z
LAST-MODIFIED:20240823T221754Z
UID:10001657-1725357600-1725381000@mosportkartingcentre.com
SUMMARY:Open Practice
DESCRIPTION:
URL:https://mosportkartingcentre.com/event/open-practice-226/
LOCATION:Mosport Karting Centre\, 3233 Concession Rd10\, Bowmanville\, Ontario\, L1C3K6\, Canada
CATEGORIES:Open Practice
END:VEVENT
BEGIN:VEVENT
DTSTART;TZID=America/Toronto:20240904T100000
DTEND;TZID=America/Toronto:20240904T163000
DTSTAMP:20260420T092550
CREATED:20240823T222124Z
LAST-MODIFIED:20240823T222328Z
UID:10001659-1725444000-1725467400@mosportkartingcentre.com
SUMMARY:Open Practice
DESCRIPTION:
URL:https://mosportkartingcentre.com/event/open-practice-237/
LOCATION:Mosport Karting Centre\, 3233 Concession Rd10\, Bowmanville\, Ontario\, L1C3K6\, Canada
CATEGORIES:Open Practice
END:VEVENT
BEGIN:VEVENT
DTSTART;TZID=America/Toronto:20240905T100000
DTEND;TZID=America/Toronto:20240905T163000
DTSTAMP:20260420T092550
CREATED:20240823T222425Z
LAST-MODIFIED:20240823T222425Z
UID:10001661-1725530400-1725553800@mosportkartingcentre.com
SUMMARY:Open Practice
DESCRIPTION:
URL:https://mosportkartingcentre.com/event/open-practice-238/
LOCATION:Mosport Karting Centre\, 3233 Concession Rd10\, Bowmanville\, Ontario\, L1C3K6\, Canada
CATEGORIES:Open Practice
END:VEVENT
BEGIN:VEVENT
DTSTART;TZID=America/Toronto:20240911T100000
DTEND;TZID=America/Toronto:20240911T130000
DTSTAMP:20260420T092550
CREATED:20240823T231452Z
LAST-MODIFIED:20240823T231452Z
UID:10001669-1726048800-1726059600@mosportkartingcentre.com
SUMMARY:Open Practice
DESCRIPTION:
URL:https://mosportkartingcentre.com/event/open-practice-239/
LOCATION:Mosport Karting Centre\, 3233 Concession Rd10\, Bowmanville\, Ontario\, L1C3K6\, Canada
CATEGORIES:Open Practice
END:VEVENT
BEGIN:VEVENT
DTSTART;TZID=America/Toronto:20240912T100000
DTEND;TZID=America/Toronto:20240912T170000
DTSTAMP:20260420T092550
CREATED:20240823T231733Z
LAST-MODIFIED:20240823T231733Z
UID:10001672-1726135200-1726160400@mosportkartingcentre.com
SUMMARY:Open Practice
DESCRIPTION:
URL:https://mosportkartingcentre.com/event/open-practice-240/
LOCATION:Mosport Karting Centre\, 3233 Concession Rd10\, Bowmanville\, Ontario\, L1C3K6\, Canada
CATEGORIES:Open Practice
END:VEVENT
BEGIN:VEVENT
DTSTART;TZID=America/Toronto:20240913T100000
DTEND;TZID=America/Toronto:20240913T180000
DTSTAMP:20260420T092550
CREATED:20240823T231917Z
LAST-MODIFIED:20240823T231917Z
UID:10001674-1726221600-1726250400@mosportkartingcentre.com
SUMMARY:Open Practice
DESCRIPTION:
URL:https://mosportkartingcentre.com/event/open-practice-241/
LOCATION:Mosport Karting Centre\, 3233 Concession Rd10\, Bowmanville\, Ontario\, L1C3K6\, Canada
CATEGORIES:Open Practice
END:VEVENT
BEGIN:VEVENT
DTSTART;TZID=America/Toronto:20240917T100000
DTEND;TZID=America/Toronto:20240917T163000
DTSTAMP:20260420T092550
CREATED:20240823T232057Z
LAST-MODIFIED:20240823T232057Z
UID:10001676-1726567200-1726590600@mosportkartingcentre.com
SUMMARY:Open Practice
DESCRIPTION:
URL:https://mosportkartingcentre.com/event/open-practice-242/
LOCATION:Mosport Karting Centre\, 3233 Concession Rd10\, Bowmanville\, Ontario\, L1C3K6\, Canada
CATEGORIES:Open Practice
END:VEVENT
BEGIN:VEVENT
DTSTART;TZID=America/Toronto:20240918T100000
DTEND;TZID=America/Toronto:20240918T163000
DTSTAMP:20260420T092550
CREATED:20240824T144223Z
LAST-MODIFIED:20240824T144223Z
UID:10001696-1726653600-1726677000@mosportkartingcentre.com
SUMMARY:Open Practice
DESCRIPTION:
URL:https://mosportkartingcentre.com/event/open-practice-248/
LOCATION:Mosport Karting Centre\, 3233 Concession Rd10\, Bowmanville\, Ontario\, L1C3K6\, Canada
CATEGORIES:Open Practice
END:VEVENT
BEGIN:VEVENT
DTSTART;TZID=America/Toronto:20240919T130000
DTEND;TZID=America/Toronto:20240919T163000
DTSTAMP:20260420T092550
CREATED:20240823T232428Z
LAST-MODIFIED:20240823T232428Z
UID:10001679-1726750800-1726763400@mosportkartingcentre.com
SUMMARY:Open Practice
DESCRIPTION:
URL:https://mosportkartingcentre.com/event/open-practice-243/
LOCATION:Mosport Karting Centre\, 3233 Concession Rd10\, Bowmanville\, Ontario\, L1C3K6\, Canada
CATEGORIES:Open Practice
END:VEVENT
BEGIN:VEVENT
DTSTART;TZID=America/Toronto:20240920T100000
DTEND;TZID=America/Toronto:20240920T130000
DTSTAMP:20260420T092550
CREATED:20240823T232646Z
LAST-MODIFIED:20240823T232646Z
UID:10001681-1726826400-1726837200@mosportkartingcentre.com
SUMMARY:Open Practice
DESCRIPTION:
URL:https://mosportkartingcentre.com/event/open-practice-244/
LOCATION:Mosport Karting Centre\, 3233 Concession Rd10\, Bowmanville\, Ontario\, L1C3K6\, Canada
CATEGORIES:Open Practice
END:VEVENT
BEGIN:VEVENT
DTSTART;TZID=America/Toronto:20240924T100000
DTEND;TZID=America/Toronto:20240924T163000
DTSTAMP:20260420T092550
CREATED:20240823T233238Z
LAST-MODIFIED:20240823T233238Z
UID:10001688-1727172000-1727195400@mosportkartingcentre.com
SUMMARY:Open Practice
DESCRIPTION:
URL:https://mosportkartingcentre.com/event/open-practice-245/
LOCATION:Mosport Karting Centre\, 3233 Concession Rd10\, Bowmanville\, Ontario\, L1C3K6\, Canada
CATEGORIES:Open Practice
END:VEVENT
BEGIN:VEVENT
DTSTART;TZID=America/Toronto:20240925T100000
DTEND;TZID=America/Toronto:20240925T163000
DTSTAMP:20260420T092550
CREATED:20240823T233321Z
LAST-MODIFIED:20240823T233321Z
UID:10001689-1727258400-1727281800@mosportkartingcentre.com
SUMMARY:Open Practice
DESCRIPTION:
URL:https://mosportkartingcentre.com/event/open-practice-246/
LOCATION:Mosport Karting Centre\, 3233 Concession Rd10\, Bowmanville\, Ontario\, L1C3K6\, Canada
CATEGORIES:Open Practice
END:VEVENT
BEGIN:VEVENT
DTSTART;TZID=America/Toronto:20240927T100000
DTEND;TZID=America/Toronto:20240927T180000
DTSTAMP:20260420T092550
CREATED:20240823T233848Z
LAST-MODIFIED:20240823T233848Z
UID:10001693-1727431200-1727460000@mosportkartingcentre.com
SUMMARY:Open Practice
DESCRIPTION:
URL:https://mosportkartingcentre.com/event/open-practice-247/
LOCATION:Mosport Karting Centre\, 3233 Concession Rd10\, Bowmanville\, Ontario\, L1C3K6\, Canada
CATEGORIES:Open Practice
END:VEVENT
BEGIN:VEVENT
DTSTART;TZID=America/Toronto:20240928T133000
DTEND;TZID=America/Toronto:20240928T190000
DTSTAMP:20260420T092550
CREATED:20240824T144414Z
LAST-MODIFIED:20240824T144414Z
UID:10001697-1727530200-1727550000@mosportkartingcentre.com
SUMMARY:Open Practice
DESCRIPTION:
URL:https://mosportkartingcentre.com/event/open-practice-249/
LOCATION:Mosport Karting Centre\, 3233 Concession Rd10\, Bowmanville\, Ontario\, L1C3K6\, Canada
CATEGORIES:Open Practice
END:VEVENT
END:VCALENDAR