BEGIN:VCALENDAR
VERSION:2.0
PRODID:-//Mosport Karting Centre - ECPv6.15.20//NONSGML v1.0//EN
CALSCALE:GREGORIAN
METHOD:PUBLISH
X-ORIGINAL-URL:https://mosportkartingcentre.com
X-WR-CALDESC:Events for Mosport Karting Centre
REFRESH-INTERVAL;VALUE=DURATION:PT1H
X-Robots-Tag:noindex
X-PUBLISHED-TTL:PT1H
BEGIN:VTIMEZONE
TZID:America/Toronto
BEGIN:DAYLIGHT
TZOFFSETFROM:-0500
TZOFFSETTO:-0400
TZNAME:EDT
DTSTART:20230312T070000
END:DAYLIGHT
BEGIN:STANDARD
TZOFFSETFROM:-0400
TZOFFSETTO:-0500
TZNAME:EST
DTSTART:20231105T060000
END:STANDARD
BEGIN:DAYLIGHT
TZOFFSETFROM:-0500
TZOFFSETTO:-0400
TZNAME:EDT
DTSTART:20240310T070000
END:DAYLIGHT
BEGIN:STANDARD
TZOFFSETFROM:-0400
TZOFFSETTO:-0500
TZNAME:EST
DTSTART:20241103T060000
END:STANDARD
BEGIN:DAYLIGHT
TZOFFSETFROM:-0500
TZOFFSETTO:-0400
TZNAME:EDT
DTSTART:20250309T070000
END:DAYLIGHT
BEGIN:STANDARD
TZOFFSETFROM:-0400
TZOFFSETTO:-0500
TZNAME:EST
DTSTART:20251102T060000
END:STANDARD
BEGIN:DAYLIGHT
TZOFFSETFROM:-0500
TZOFFSETTO:-0400
TZNAME:EDT
DTSTART:20260308T070000
END:DAYLIGHT
BEGIN:STANDARD
TZOFFSETFROM:-0400
TZOFFSETTO:-0500
TZNAME:EST
DTSTART:20261101T060000
END:STANDARD
END:VTIMEZONE
BEGIN:VEVENT
DTSTART;TZID=America/Toronto:20241018T100000
DTEND;TZID=America/Toronto:20241018T163000
DTSTAMP:20260420T220434
CREATED:20240921T194904Z
LAST-MODIFIED:20240925T181115Z
UID:10001732-1729245600-1729269000@mosportkartingcentre.com
SUMMARY:Open Practice
DESCRIPTION:
URL:https://mosportkartingcentre.com/event/open-practice-263/
LOCATION:Mosport Karting Centre\, 3233 Concession Rd10\, Bowmanville\, Ontario\, L1C3K6\, Canada
CATEGORIES:Open Practice
END:VEVENT
BEGIN:VEVENT
DTSTART;TZID=America/Toronto:20241022T100000
DTEND;TZID=America/Toronto:20241022T163000
DTSTAMP:20260420T220434
CREATED:20240921T195029Z
LAST-MODIFIED:20240925T181556Z
UID:10001734-1729591200-1729614600@mosportkartingcentre.com
SUMMARY:Open Practice
DESCRIPTION:
URL:https://mosportkartingcentre.com/event/open-practice-264/
LOCATION:Mosport Karting Centre\, 3233 Concession Rd10\, Bowmanville\, Ontario\, L1C3K6\, Canada
CATEGORIES:Open Practice
END:VEVENT
BEGIN:VEVENT
DTSTART;TZID=America/Toronto:20241023T100000
DTEND;TZID=America/Toronto:20241023T163000
DTSTAMP:20260420T220434
CREATED:20240921T195202Z
LAST-MODIFIED:20240925T181657Z
UID:10001736-1729677600-1729701000@mosportkartingcentre.com
SUMMARY:Open Practice
DESCRIPTION:
URL:https://mosportkartingcentre.com/event/open-practice-265/
LOCATION:Mosport Karting Centre\, 3233 Concession Rd10\, Bowmanville\, Ontario\, L1C3K6\, Canada
CATEGORIES:Open Practice
END:VEVENT
BEGIN:VEVENT
DTSTART;TZID=America/Toronto:20241024T100000
DTEND;TZID=America/Toronto:20241024T163000
DTSTAMP:20260420T220434
CREATED:20240921T195328Z
LAST-MODIFIED:20240925T181731Z
UID:10001738-1729764000-1729787400@mosportkartingcentre.com
SUMMARY:Open Practice
DESCRIPTION:
URL:https://mosportkartingcentre.com/event/open-practice-266/
LOCATION:Mosport Karting Centre\, 3233 Concession Rd10\, Bowmanville\, Ontario\, L1C3K6\, Canada
CATEGORIES:Open Practice
END:VEVENT
BEGIN:VEVENT
DTSTART;TZID=America/Toronto:20241025T100000
DTEND;TZID=America/Toronto:20241025T163000
DTSTAMP:20260420T220434
CREATED:20240921T195547Z
LAST-MODIFIED:20241016T204935Z
UID:10001740-1729850400-1729873800@mosportkartingcentre.com
SUMMARY:Open Practice
DESCRIPTION:
URL:https://mosportkartingcentre.com/event/open-practice-267/
LOCATION:Mosport Karting Centre\, 3233 Concession Rd10\, Bowmanville\, Ontario\, L1C3K6\, Canada
CATEGORIES:Open Practice
END:VEVENT
BEGIN:VEVENT
DTSTART;TZID=America/Toronto:20241027T100000
DTEND;TZID=America/Toronto:20241027T180000
DTSTAMP:20260420T220434
CREATED:20240922T125844Z
LAST-MODIFIED:20241016T205143Z
UID:10001743-1730023200-1730052000@mosportkartingcentre.com
SUMMARY:Open Practice
DESCRIPTION:
URL:https://mosportkartingcentre.com/event/open-practice-268/
LOCATION:Mosport Karting Centre\, 3233 Concession Rd10\, Bowmanville\, Ontario\, L1C3K6\, Canada
CATEGORIES:Open Practice
END:VEVENT
BEGIN:VEVENT
DTSTART;TZID=America/Toronto:20241029T100000
DTEND;TZID=America/Toronto:20241029T170000
DTSTAMP:20260420T220434
CREATED:20240922T154653Z
LAST-MODIFIED:20240922T154653Z
UID:10001747-1730196000-1730221200@mosportkartingcentre.com
SUMMARY:Open Practice
DESCRIPTION:
URL:https://mosportkartingcentre.com/event/open-practice-269/
LOCATION:Mosport Karting Centre\, 3233 Concession Rd10\, Bowmanville\, Ontario\, L1C3K6\, Canada
CATEGORIES:Open Practice
END:VEVENT
BEGIN:VEVENT
DTSTART;TZID=America/Toronto:20241030T100000
DTEND;TZID=America/Toronto:20241030T170000
DTSTAMP:20260420T220434
CREATED:20240922T154745Z
LAST-MODIFIED:20240922T154745Z
UID:10001748-1730282400-1730307600@mosportkartingcentre.com
SUMMARY:Open Practice
DESCRIPTION:
URL:https://mosportkartingcentre.com/event/open-practice-270/
LOCATION:Mosport Karting Centre\, 3233 Concession Rd10\, Bowmanville\, Ontario\, L1C3K6\, Canada
CATEGORIES:Open Practice
END:VEVENT
BEGIN:VEVENT
DTSTART;TZID=America/Toronto:20241031T100000
DTEND;TZID=America/Toronto:20241031T170000
DTSTAMP:20260420T220434
CREATED:20240922T154841Z
LAST-MODIFIED:20240922T154841Z
UID:10001749-1730368800-1730394000@mosportkartingcentre.com
SUMMARY:Open Practice
DESCRIPTION:
URL:https://mosportkartingcentre.com/event/open-practice-271/
LOCATION:Mosport Karting Centre\, 3233 Concession Rd10\, Bowmanville\, Ontario\, L1C3K6\, Canada
CATEGORIES:Open Practice
END:VEVENT
BEGIN:VEVENT
DTSTART;TZID=America/Toronto:20250401T100000
DTEND;TZID=America/Toronto:20250401T180000
DTSTAMP:20260420T220434
CREATED:20250401T195547Z
LAST-MODIFIED:20250401T195547Z
UID:10002003-1743501600-1743530400@mosportkartingcentre.com
SUMMARY:Open Practice
DESCRIPTION:
URL:https://mosportkartingcentre.com/event/open-practice-251/
LOCATION:Mosport Karting Centre\, 3233 Concession Rd10\, Bowmanville\, Ontario\, L1C3K6\, Canada
CATEGORIES:Open Practice
END:VEVENT
BEGIN:VEVENT
DTSTART;TZID=America/Toronto:20250402T100000
DTEND;TZID=America/Toronto:20250402T180000
DTSTAMP:20260420T220434
CREATED:20250401T195646Z
LAST-MODIFIED:20250401T195646Z
UID:10002004-1743588000-1743616800@mosportkartingcentre.com
SUMMARY:Open Practice
DESCRIPTION:
URL:https://mosportkartingcentre.com/event/open-practice-257/
LOCATION:Mosport Karting Centre\, 3233 Concession Rd10\, Bowmanville\, Ontario\, L1C3K6\, Canada
CATEGORIES:Open Practice
END:VEVENT
BEGIN:VEVENT
DTSTART;TZID=America/Toronto:20250403T100000
DTEND;TZID=America/Toronto:20250403T180000
DTSTAMP:20260420T220434
CREATED:20250401T195723Z
LAST-MODIFIED:20250401T195723Z
UID:10002005-1743674400-1743703200@mosportkartingcentre.com
SUMMARY:Open Practice
DESCRIPTION:
URL:https://mosportkartingcentre.com/event/open-practice-272/
LOCATION:Mosport Karting Centre\, 3233 Concession Rd10\, Bowmanville\, Ontario\, L1C3K6\, Canada
CATEGORIES:Open Practice
END:VEVENT
BEGIN:VEVENT
DTSTART;TZID=America/Toronto:20250404T100000
DTEND;TZID=America/Toronto:20250404T180000
DTSTAMP:20260420T220434
CREATED:20250401T195821Z
LAST-MODIFIED:20250401T195821Z
UID:10002006-1743760800-1743789600@mosportkartingcentre.com
SUMMARY:Open Practice
DESCRIPTION:
URL:https://mosportkartingcentre.com/event/open-practice-273/
LOCATION:Mosport Karting Centre\, 3233 Concession Rd10\, Bowmanville\, Ontario\, L1C3K6\, Canada
CATEGORIES:Open Practice
END:VEVENT
BEGIN:VEVENT
DTSTART;TZID=America/Toronto:20250405T100000
DTEND;TZID=America/Toronto:20250405T180000
DTSTAMP:20260420T220434
CREATED:20250401T195859Z
LAST-MODIFIED:20250401T195859Z
UID:10002007-1743847200-1743876000@mosportkartingcentre.com
SUMMARY:Open Practice
DESCRIPTION:
URL:https://mosportkartingcentre.com/event/open-practice-274/
LOCATION:Mosport Karting Centre\, 3233 Concession Rd10\, Bowmanville\, Ontario\, L1C3K6\, Canada
CATEGORIES:Open Practice
END:VEVENT
BEGIN:VEVENT
DTSTART;TZID=America/Toronto:20250406T100000
DTEND;TZID=America/Toronto:20250406T180000
DTSTAMP:20260420T220434
CREATED:20250401T195913Z
LAST-MODIFIED:20250401T195913Z
UID:10002008-1743933600-1743962400@mosportkartingcentre.com
SUMMARY:Open Practice
DESCRIPTION:
URL:https://mosportkartingcentre.com/event/open-practice-275/
LOCATION:Mosport Karting Centre\, 3233 Concession Rd10\, Bowmanville\, Ontario\, L1C3K6\, Canada
CATEGORIES:Open Practice
END:VEVENT
BEGIN:VEVENT
DTSTART;TZID=America/Toronto:20250408T100000
DTEND;TZID=America/Toronto:20250408T180000
DTSTAMP:20260420T220434
CREATED:20250401T195937Z
LAST-MODIFIED:20250401T195937Z
UID:10002009-1744106400-1744135200@mosportkartingcentre.com
SUMMARY:Open Practice
DESCRIPTION:
URL:https://mosportkartingcentre.com/event/open-practice-276/
LOCATION:Mosport Karting Centre\, 3233 Concession Rd10\, Bowmanville\, Ontario\, L1C3K6\, Canada
CATEGORIES:Open Practice
END:VEVENT
BEGIN:VEVENT
DTSTART;TZID=America/Toronto:20250409T100000
DTEND;TZID=America/Toronto:20250409T180000
DTSTAMP:20260420T220434
CREATED:20250401T195954Z
LAST-MODIFIED:20250401T195954Z
UID:10002010-1744192800-1744221600@mosportkartingcentre.com
SUMMARY:Open Practice
DESCRIPTION:
URL:https://mosportkartingcentre.com/event/open-practice-277/
LOCATION:Mosport Karting Centre\, 3233 Concession Rd10\, Bowmanville\, Ontario\, L1C3K6\, Canada
CATEGORIES:Open Practice
END:VEVENT
BEGIN:VEVENT
DTSTART;TZID=America/Toronto:20250410T100000
DTEND;TZID=America/Toronto:20250410T180000
DTSTAMP:20260420T220434
CREATED:20250401T200017Z
LAST-MODIFIED:20250401T200017Z
UID:10002011-1744279200-1744308000@mosportkartingcentre.com
SUMMARY:Open Practice
DESCRIPTION:
URL:https://mosportkartingcentre.com/event/open-practice-278/
LOCATION:Mosport Karting Centre\, 3233 Concession Rd10\, Bowmanville\, Ontario\, L1C3K6\, Canada
CATEGORIES:Open Practice
END:VEVENT
BEGIN:VEVENT
DTSTART;TZID=America/Toronto:20250411T100000
DTEND;TZID=America/Toronto:20250411T180000
DTSTAMP:20260420T220434
CREATED:20250401T200036Z
LAST-MODIFIED:20250401T200036Z
UID:10002012-1744365600-1744394400@mosportkartingcentre.com
SUMMARY:Open Practice
DESCRIPTION:
URL:https://mosportkartingcentre.com/event/open-practice-279/
LOCATION:Mosport Karting Centre\, 3233 Concession Rd10\, Bowmanville\, Ontario\, L1C3K6\, Canada
CATEGORIES:Open Practice
END:VEVENT
BEGIN:VEVENT
DTSTART;TZID=America/Toronto:20250412T140000
DTEND;TZID=America/Toronto:20250412T180000
DTSTAMP:20260420T220434
CREATED:20250401T200151Z
LAST-MODIFIED:20250401T200724Z
UID:10002013-1744466400-1744480800@mosportkartingcentre.com
SUMMARY:Open Practice
DESCRIPTION:
URL:https://mosportkartingcentre.com/event/open-practice-280/
LOCATION:Mosport Karting Centre\, 3233 Concession Rd10\, Bowmanville\, Ontario\, L1C3K6\, Canada
CATEGORIES:Open Practice
END:VEVENT
BEGIN:VEVENT
DTSTART;TZID=America/Toronto:20250413T130000
DTEND;TZID=America/Toronto:20250413T180000
DTSTAMP:20260420T220434
CREATED:20250401T200243Z
LAST-MODIFIED:20250401T200817Z
UID:10002014-1744549200-1744567200@mosportkartingcentre.com
SUMMARY:Open Practice
DESCRIPTION:
URL:https://mosportkartingcentre.com/event/open-practice-281/
LOCATION:Mosport Karting Centre\, 3233 Concession Rd10\, Bowmanville\, Ontario\, L1C3K6\, Canada
CATEGORIES:Open Practice
END:VEVENT
BEGIN:VEVENT
DTSTART;TZID=America/Toronto:20250415T100000
DTEND;TZID=America/Toronto:20250415T180000
DTSTAMP:20260420T220434
CREATED:20250401T200412Z
LAST-MODIFIED:20250401T200412Z
UID:10002015-1744711200-1744740000@mosportkartingcentre.com
SUMMARY:Open Practice
DESCRIPTION:
URL:https://mosportkartingcentre.com/event/open-practice-282/
LOCATION:Mosport Karting Centre\, 3233 Concession Rd10\, Bowmanville\, Ontario\, L1C3K6\, Canada
CATEGORIES:Open Practice
END:VEVENT
BEGIN:VEVENT
DTSTART;TZID=America/Toronto:20250416T100000
DTEND;TZID=America/Toronto:20250416T180000
DTSTAMP:20260420T220434
CREATED:20250401T203719Z
LAST-MODIFIED:20250401T203719Z
UID:10002016-1744797600-1744826400@mosportkartingcentre.com
SUMMARY:Open Practice
DESCRIPTION:
URL:https://mosportkartingcentre.com/event/open-practice-283/
LOCATION:Mosport Karting Centre\, 3233 Concession Rd10\, Bowmanville\, Ontario\, L1C3K6\, Canada
CATEGORIES:Open Practice
END:VEVENT
BEGIN:VEVENT
DTSTART;TZID=America/Toronto:20250417T100000
DTEND;TZID=America/Toronto:20250417T180000
DTSTAMP:20260420T220434
CREATED:20250401T203756Z
LAST-MODIFIED:20250401T203756Z
UID:10002017-1744884000-1744912800@mosportkartingcentre.com
SUMMARY:Open Practice
DESCRIPTION:
URL:https://mosportkartingcentre.com/event/open-practice-284/
LOCATION:Mosport Karting Centre\, 3233 Concession Rd10\, Bowmanville\, Ontario\, L1C3K6\, Canada
CATEGORIES:Open Practice
END:VEVENT
BEGIN:VEVENT
DTSTART;TZID=America/Toronto:20250418T100000
DTEND;TZID=America/Toronto:20250418T180000
DTSTAMP:20260420T220434
CREATED:20250401T203837Z
LAST-MODIFIED:20250401T203837Z
UID:10002018-1744970400-1744999200@mosportkartingcentre.com
SUMMARY:Open Practice
DESCRIPTION:
URL:https://mosportkartingcentre.com/event/open-practice-285/
LOCATION:Mosport Karting Centre\, 3233 Concession Rd10\, Bowmanville\, Ontario\, L1C3K6\, Canada
CATEGORIES:Open Practice
END:VEVENT
BEGIN:VEVENT
DTSTART;TZID=America/Toronto:20250419T100000
DTEND;TZID=America/Toronto:20250419T180000
DTSTAMP:20260420T220434
CREATED:20250401T204320Z
LAST-MODIFIED:20250401T204320Z
UID:10002019-1745056800-1745085600@mosportkartingcentre.com
SUMMARY:Open Practice
DESCRIPTION:
URL:https://mosportkartingcentre.com/event/open-practice-286/
LOCATION:Mosport Karting Centre\, 3233 Concession Rd10\, Bowmanville\, Ontario\, L1C3K6\, Canada
CATEGORIES:Open Practice
END:VEVENT
BEGIN:VEVENT
DTSTART;TZID=America/Toronto:20250422T100000
DTEND;TZID=America/Toronto:20250422T180000
DTSTAMP:20260420T220434
CREATED:20250401T204411Z
LAST-MODIFIED:20250401T204411Z
UID:10002020-1745316000-1745344800@mosportkartingcentre.com
SUMMARY:Open Practice
DESCRIPTION:
URL:https://mosportkartingcentre.com/event/open-practice-287/
LOCATION:Mosport Karting Centre\, 3233 Concession Rd10\, Bowmanville\, Ontario\, L1C3K6\, Canada
CATEGORIES:Open Practice
END:VEVENT
BEGIN:VEVENT
DTSTART;TZID=America/Toronto:20250423T100000
DTEND;TZID=America/Toronto:20250423T180000
DTSTAMP:20260420T220434
CREATED:20250401T204424Z
LAST-MODIFIED:20250401T204424Z
UID:10002021-1745402400-1745431200@mosportkartingcentre.com
SUMMARY:Open Practice
DESCRIPTION:
URL:https://mosportkartingcentre.com/event/open-practice-288/
LOCATION:Mosport Karting Centre\, 3233 Concession Rd10\, Bowmanville\, Ontario\, L1C3K6\, Canada
CATEGORIES:Open Practice
END:VEVENT
BEGIN:VEVENT
DTSTART;TZID=America/Toronto:20250424T100000
DTEND;TZID=America/Toronto:20250424T180000
DTSTAMP:20260420T220434
CREATED:20250401T204447Z
LAST-MODIFIED:20250401T204447Z
UID:10002022-1745488800-1745517600@mosportkartingcentre.com
SUMMARY:Open Practice
DESCRIPTION:
URL:https://mosportkartingcentre.com/event/open-practice-289/
LOCATION:Mosport Karting Centre\, 3233 Concession Rd10\, Bowmanville\, Ontario\, L1C3K6\, Canada
CATEGORIES:Open Practice
END:VEVENT
BEGIN:VEVENT
DTSTART;TZID=America/Toronto:20250425T100000
DTEND;TZID=America/Toronto:20250425T180000
DTSTAMP:20260420T220434
CREATED:20250401T204500Z
LAST-MODIFIED:20250401T204500Z
UID:10002023-1745575200-1745604000@mosportkartingcentre.com
SUMMARY:Open Practice
DESCRIPTION:
URL:https://mosportkartingcentre.com/event/open-practice-290/
LOCATION:Mosport Karting Centre\, 3233 Concession Rd10\, Bowmanville\, Ontario\, L1C3K6\, Canada
CATEGORIES:Open Practice
END:VEVENT
END:VCALENDAR