BEGIN:VCALENDAR
VERSION:2.0
PRODID:-//Mosport Karting Centre - ECPv6.15.20//NONSGML v1.0//EN
CALSCALE:GREGORIAN
METHOD:PUBLISH
X-WR-CALNAME:Mosport Karting Centre
X-ORIGINAL-URL:https://mosportkartingcentre.com
X-WR-CALDESC:Events for Mosport Karting Centre
REFRESH-INTERVAL;VALUE=DURATION:PT1H
X-Robots-Tag:noindex
X-PUBLISHED-TTL:PT1H
BEGIN:VTIMEZONE
TZID:America/Toronto
BEGIN:DAYLIGHT
TZOFFSETFROM:-0500
TZOFFSETTO:-0400
TZNAME:EDT
DTSTART:20220313T070000
END:DAYLIGHT
BEGIN:STANDARD
TZOFFSETFROM:-0400
TZOFFSETTO:-0500
TZNAME:EST
DTSTART:20221106T060000
END:STANDARD
BEGIN:DAYLIGHT
TZOFFSETFROM:-0500
TZOFFSETTO:-0400
TZNAME:EDT
DTSTART:20230312T070000
END:DAYLIGHT
BEGIN:STANDARD
TZOFFSETFROM:-0400
TZOFFSETTO:-0500
TZNAME:EST
DTSTART:20231105T060000
END:STANDARD
BEGIN:DAYLIGHT
TZOFFSETFROM:-0500
TZOFFSETTO:-0400
TZNAME:EDT
DTSTART:20240310T070000
END:DAYLIGHT
BEGIN:STANDARD
TZOFFSETFROM:-0400
TZOFFSETTO:-0500
TZNAME:EST
DTSTART:20241103T060000
END:STANDARD
BEGIN:DAYLIGHT
TZOFFSETFROM:-0500
TZOFFSETTO:-0400
TZNAME:EDT
DTSTART:20250309T070000
END:DAYLIGHT
BEGIN:STANDARD
TZOFFSETFROM:-0400
TZOFFSETTO:-0500
TZNAME:EST
DTSTART:20251102T060000
END:STANDARD
BEGIN:DAYLIGHT
TZOFFSETFROM:-0500
TZOFFSETTO:-0400
TZNAME:EDT
DTSTART:20260308T070000
END:DAYLIGHT
BEGIN:STANDARD
TZOFFSETFROM:-0400
TZOFFSETTO:-0500
TZNAME:EST
DTSTART:20261101T060000
END:STANDARD
END:VTIMEZONE
BEGIN:VTIMEZONE
TZID:UTC
BEGIN:STANDARD
TZOFFSETFROM:+0000
TZOFFSETTO:+0000
TZNAME:UTC
DTSTART:20210101T000000
END:STANDARD
END:VTIMEZONE
BEGIN:VEVENT
DTSTART;TZID=America/Toronto:20251017T153000
DTEND;TZID=America/Toronto:20251017T170000
DTSTAMP:20260419T141915
CREATED:20251004T174520Z
LAST-MODIFIED:20251004T174609Z
UID:10002308-1760715000-1760720400@mosportkartingcentre.com
SUMMARY:Karting Demonstration
DESCRIPTION:
URL:https://mosportkartingcentre.com/event/private-event-152/
LOCATION:Mosport Karting Centre\, 3233 Concession Rd10\, Bowmanville\, Ontario\, L1C3K6\, Canada
CATEGORIES:Racing Camp/Schools
END:VEVENT
BEGIN:VEVENT
DTSTART;TZID=America/Toronto:20250829T090000
DTEND;TZID=America/Toronto:20250829T170000
DTSTAMP:20260419T141915
CREATED:20250213T010022Z
LAST-MODIFIED:20250213T010022Z
UID:10001976-1756458000-1756486800@mosportkartingcentre.com
SUMMARY:1-Day Advanced Summer Camp
DESCRIPTION:
URL:https://mosportkartingcentre.com/event/1-day-advanced-summer-camp-2/
LOCATION:Mosport Karting Centre\, 3233 Concession Rd10\, Bowmanville\, Ontario\, L1C3K6\, Canada
CATEGORIES:Racing Camp/Schools
ORGANIZER;CN="Mosport Karting Centre":MAILTO:info@mosportkartingcentre.com
END:VEVENT
BEGIN:VEVENT
DTSTART;TZID=America/Toronto:20250821T153000
DTEND;TZID=America/Toronto:20250821T190000
DTSTAMP:20260419T141915
CREATED:20250809T220557Z
LAST-MODIFIED:20250809T224252Z
UID:10002212-1755790200-1755802800@mosportkartingcentre.com
SUMMARY:Karting Demonstration
DESCRIPTION:
URL:https://mosportkartingcentre.com/event/karting-demonstration/
LOCATION:Mosport Karting Centre\, 3233 Concession Rd10\, Bowmanville\, Ontario\, L1C3K6\, Canada
CATEGORIES:Racing Camp/Schools
END:VEVENT
BEGIN:VEVENT
DTSTART;TZID=America/Toronto:20250820T090000
DTEND;TZID=America/Toronto:20250820T170000
DTSTAMP:20260419T141915
CREATED:20250213T005651Z
LAST-MODIFIED:20250213T005651Z
UID:10001973-1755680400-1755709200@mosportkartingcentre.com
SUMMARY:2-Day Summer Camp
DESCRIPTION:
URL:https://mosportkartingcentre.com/event/2-day-summer-camp-17/
LOCATION:Mosport Karting Centre\, 3233 Concession Rd10\, Bowmanville\, Ontario\, L1C3K6\, Canada
CATEGORIES:Racing Camp/Schools
ORGANIZER;CN="Mosport Karting Centre":MAILTO:info@mosportkartingcentre.com
END:VEVENT
BEGIN:VEVENT
DTSTART;TZID=America/Toronto:20250819T090000
DTEND;TZID=America/Toronto:20250819T170000
DTSTAMP:20260419T141915
CREATED:20250213T005621Z
LAST-MODIFIED:20250213T005621Z
UID:10001972-1755594000-1755622800@mosportkartingcentre.com
SUMMARY:2-Day Summer Camp
DESCRIPTION:
URL:https://mosportkartingcentre.com/event/2-day-summer-camp-16/
LOCATION:Mosport Karting Centre\, 3233 Concession Rd10\, Bowmanville\, Ontario\, L1C3K6\, Canada
CATEGORIES:Racing Camp/Schools
ORGANIZER;CN="Mosport Karting Centre":MAILTO:info@mosportkartingcentre.com
END:VEVENT
BEGIN:VEVENT
DTSTART;TZID=America/Toronto:20250723T090000
DTEND;TZID=America/Toronto:20250723T170000
DTSTAMP:20260419T141915
CREATED:20250213T005446Z
LAST-MODIFIED:20250213T005446Z
UID:10001971-1753261200-1753290000@mosportkartingcentre.com
SUMMARY:2-Day Summer Camp
DESCRIPTION:
URL:https://mosportkartingcentre.com/event/2-day-summer-camp-15/
LOCATION:Mosport Karting Centre\, 3233 Concession Rd10\, Bowmanville\, Ontario\, L1C3K6\, Canada
CATEGORIES:Racing Camp/Schools
ORGANIZER;CN="Mosport Karting Centre":MAILTO:info@mosportkartingcentre.com
END:VEVENT
BEGIN:VEVENT
DTSTART;TZID=America/Toronto:20250722T090000
DTEND;TZID=America/Toronto:20250722T170000
DTSTAMP:20260419T141915
CREATED:20250213T005418Z
LAST-MODIFIED:20250213T005418Z
UID:10001970-1753174800-1753203600@mosportkartingcentre.com
SUMMARY:2-Day Summer Camp
DESCRIPTION:
URL:https://mosportkartingcentre.com/event/2-day-summer-camp-14/
LOCATION:Mosport Karting Centre\, 3233 Concession Rd10\, Bowmanville\, Ontario\, L1C3K6\, Canada
CATEGORIES:Racing Camp/Schools
ORGANIZER;CN="Mosport Karting Centre":MAILTO:info@mosportkartingcentre.com
END:VEVENT
BEGIN:VEVENT
DTSTART;TZID=America/Toronto:20250718T090000
DTEND;TZID=America/Toronto:20250718T170000
DTSTAMP:20260419T141915
CREATED:20250213T005946Z
LAST-MODIFIED:20250213T005946Z
UID:10001975-1752829200-1752858000@mosportkartingcentre.com
SUMMARY:1-Day Advanced Summer Camp
DESCRIPTION:
URL:https://mosportkartingcentre.com/event/1-day-advanced-summer-camp/
LOCATION:Mosport Karting Centre\, 3233 Concession Rd10\, Bowmanville\, Ontario\, L1C3K6\, Canada
CATEGORIES:Racing Camp/Schools
ORGANIZER;CN="Mosport Karting Centre":MAILTO:info@mosportkartingcentre.com
END:VEVENT
BEGIN:VEVENT
DTSTART;TZID=America/Toronto:20250709T090000
DTEND;TZID=America/Toronto:20250709T170000
DTSTAMP:20260419T141915
CREATED:20250213T005339Z
LAST-MODIFIED:20250213T005339Z
UID:10001969-1752051600-1752080400@mosportkartingcentre.com
SUMMARY:2-Day Summer Camp
DESCRIPTION:
URL:https://mosportkartingcentre.com/event/2-day-summer-camp-13/
LOCATION:Mosport Karting Centre\, 3233 Concession Rd10\, Bowmanville\, Ontario\, L1C3K6\, Canada
CATEGORIES:Racing Camp/Schools
ORGANIZER;CN="Mosport Karting Centre":MAILTO:info@mosportkartingcentre.com
END:VEVENT
BEGIN:VEVENT
DTSTART;TZID=America/Toronto:20250708T090000
DTEND;TZID=America/Toronto:20250708T170000
DTSTAMP:20260419T141915
CREATED:20250213T005304Z
LAST-MODIFIED:20250213T005304Z
UID:10001968-1751965200-1751994000@mosportkartingcentre.com
SUMMARY:2-Day Summer Camp
DESCRIPTION:
URL:https://mosportkartingcentre.com/event/2-day-summer-camp-12/
LOCATION:Mosport Karting Centre\, 3233 Concession Rd10\, Bowmanville\, Ontario\, L1C3K6\, Canada
CATEGORIES:Racing Camp/Schools
ORGANIZER;CN="Mosport Karting Centre":MAILTO:info@mosportkartingcentre.com
END:VEVENT
BEGIN:VEVENT
DTSTART;TZID=America/Toronto:20240816T090000
DTEND;TZID=America/Toronto:20240816T170000
DTSTAMP:20260419T141915
CREATED:20240210T162616Z
LAST-MODIFIED:20240327T164703Z
UID:10001420-1723798800-1723827600@mosportkartingcentre.com
SUMMARY:1-Day Race Experience Camp
DESCRIPTION:
URL:https://mosportkartingcentre.com/event/1-day-race-experience-camp-5/
LOCATION:Mosport Karting Centre\, 3233 Concession Rd10\, Bowmanville\, Ontario\, L1C3K6\, Canada
CATEGORIES:Racing Camp/Schools
ORGANIZER;CN="Mosport Karting Centre":MAILTO:info@mosportkartingcentre.com
END:VEVENT
BEGIN:VEVENT
DTSTART;TZID=America/Toronto:20240809T090000
DTEND;TZID=America/Toronto:20240809T170000
DTSTAMP:20260419T141915
CREATED:20240210T162616Z
LAST-MODIFIED:20240327T164703Z
UID:10001419-1723194000-1723222800@mosportkartingcentre.com
SUMMARY:1-Day Race Experience Camp
DESCRIPTION:
URL:https://mosportkartingcentre.com/event/1-day-race-experience-camp-6/
LOCATION:Mosport Karting Centre\, 3233 Concession Rd10\, Bowmanville\, Ontario\, L1C3K6\, Canada
CATEGORIES:Racing Camp/Schools
ORGANIZER;CN="Mosport Karting Centre":MAILTO:info@mosportkartingcentre.com
END:VEVENT
BEGIN:VEVENT
DTSTART;TZID=America/Toronto:20240807T090000
DTEND;TZID=America/Toronto:20240807T170000
DTSTAMP:20260419T141915
CREATED:20240210T162616Z
LAST-MODIFIED:20240327T164703Z
UID:10001418-1723021200-1723050000@mosportkartingcentre.com
SUMMARY:2-Day Summer Camp
DESCRIPTION:
URL:https://mosportkartingcentre.com/event/2-day-summer-camp-6/
LOCATION:Mosport Karting Centre\, 3233 Concession Rd10\, Bowmanville\, Ontario\, L1C3K6\, Canada
CATEGORIES:Racing Camp/Schools
ORGANIZER;CN="Mosport Karting Centre":MAILTO:info@mosportkartingcentre.com
END:VEVENT
BEGIN:VEVENT
DTSTART;TZID=America/Toronto:20240806T090000
DTEND;TZID=America/Toronto:20240806T170000
DTSTAMP:20260419T141915
CREATED:20240210T162616Z
LAST-MODIFIED:20240327T164737Z
UID:10001417-1722934800-1722963600@mosportkartingcentre.com
SUMMARY:2-Day Summer Camp
DESCRIPTION:
URL:https://mosportkartingcentre.com/event/2-day-summer-camp-7/
LOCATION:Mosport Karting Centre\, 3233 Concession Rd10\, Bowmanville\, Ontario\, L1C3K6\, Canada
CATEGORIES:Racing Camp/Schools
ORGANIZER;CN="Mosport Karting Centre":MAILTO:info@mosportkartingcentre.com
END:VEVENT
BEGIN:VEVENT
DTSTART;TZID=America/Toronto:20240724T090000
DTEND;TZID=America/Toronto:20240724T170000
DTSTAMP:20260419T141915
CREATED:20240210T162616Z
LAST-MODIFIED:20240327T164737Z
UID:10001416-1721811600-1721840400@mosportkartingcentre.com
SUMMARY:2-Day Summer Camp
DESCRIPTION:
URL:https://mosportkartingcentre.com/event/2-day-summer-camp-8/
LOCATION:Mosport Karting Centre\, 3233 Concession Rd10\, Bowmanville\, Ontario\, L1C3K6\, Canada
CATEGORIES:Racing Camp/Schools
ORGANIZER;CN="Mosport Karting Centre":MAILTO:info@mosportkartingcentre.com
END:VEVENT
BEGIN:VEVENT
DTSTART;TZID=America/Toronto:20240723T090000
DTEND;TZID=America/Toronto:20240723T170000
DTSTAMP:20260419T141915
CREATED:20240210T162616Z
LAST-MODIFIED:20240327T164737Z
UID:10001415-1721725200-1721754000@mosportkartingcentre.com
SUMMARY:2-Day Summer Camp
DESCRIPTION:
URL:https://mosportkartingcentre.com/event/2-day-summer-camp-9/
LOCATION:Mosport Karting Centre\, 3233 Concession Rd10\, Bowmanville\, Ontario\, L1C3K6\, Canada
CATEGORIES:Racing Camp/Schools
ORGANIZER;CN="Mosport Karting Centre":MAILTO:info@mosportkartingcentre.com
END:VEVENT
BEGIN:VEVENT
DTSTART;TZID=America/Toronto:20240710T090000
DTEND;TZID=America/Toronto:20240710T170000
DTSTAMP:20260419T141915
CREATED:20240210T162616Z
LAST-MODIFIED:20240327T164737Z
UID:10001414-1720602000-1720630800@mosportkartingcentre.com
SUMMARY:2-Day Summer Camp
DESCRIPTION:
URL:https://mosportkartingcentre.com/event/2-day-summer-camp-10/
LOCATION:Mosport Karting Centre\, 3233 Concession Rd10\, Bowmanville\, Ontario\, L1C3K6\, Canada
CATEGORIES:Racing Camp/Schools
ORGANIZER;CN="Mosport Karting Centre":MAILTO:info@mosportkartingcentre.com
END:VEVENT
BEGIN:VEVENT
DTSTART;TZID=America/Toronto:20240709T090000
DTEND;TZID=America/Toronto:20240709T170000
DTSTAMP:20260419T141915
CREATED:20240210T162616Z
LAST-MODIFIED:20240327T164737Z
UID:10001413-1720515600-1720544400@mosportkartingcentre.com
SUMMARY:2-Day Summer Camp
DESCRIPTION:
URL:https://mosportkartingcentre.com/event/2-day-summer-camp-11/
LOCATION:Mosport Karting Centre\, 3233 Concession Rd10\, Bowmanville\, Ontario\, L1C3K6\, Canada
CATEGORIES:Racing Camp/Schools
ORGANIZER;CN="Mosport Karting Centre":MAILTO:info@mosportkartingcentre.com
END:VEVENT
BEGIN:VEVENT
DTSTART;TZID=America/Toronto:20230829T100000
DTEND;TZID=America/Toronto:20230829T170000
DTSTAMP:20260419T141915
CREATED:20230726T163052Z
LAST-MODIFIED:20230726T163052Z
UID:10001096-1693303200-1693328400@mosportkartingcentre.com
SUMMARY:1-Day Race Experience Camp
DESCRIPTION:
URL:https://mosportkartingcentre.com/event/1-day-race-experience-camp-4/
LOCATION:Mosport Karting Centre\, 3233 Concession Rd10\, Bowmanville\, Ontario\, L1C3K6\, Canada
CATEGORIES:Racing Camp/Schools
ORGANIZER;CN="Mosport Karting Centre":MAILTO:info@mosportkartingcentre.com
END:VEVENT
BEGIN:VEVENT
DTSTART;TZID=UTC:20230823T100000
DTEND;TZID=UTC:20230823T160000
DTSTAMP:20260419T141915
CREATED:20230308T080944Z
LAST-MODIFIED:20230308T080944Z
UID:10000971-1692784800-1692806400@mosportkartingcentre.com
SUMMARY:2-Day Summer Camp
DESCRIPTION:
URL:https://mosportkartingcentre.com/event/2-day-summer-camp-5/
LOCATION:Mosport Karting Centre\, 3233 Concession Rd10\, Bowmanville\, Ontario\, L1C3K6\, Canada
CATEGORIES:Racing Camp/Schools
ORGANIZER;CN="Mosport Karting Centre":MAILTO:info@mosportkartingcentre.com
END:VEVENT
BEGIN:VEVENT
DTSTART;TZID=UTC:20230822T100000
DTEND;TZID=UTC:20230822T160000
DTSTAMP:20260419T141915
CREATED:20230308T080905Z
LAST-MODIFIED:20230308T080905Z
UID:10000969-1692698400-1692720000@mosportkartingcentre.com
SUMMARY:2-Day Summer Camp
DESCRIPTION:
URL:https://mosportkartingcentre.com/event/2-day-summer-camp-4/
LOCATION:Mosport Karting Centre\, 3233 Concession Rd10\, Bowmanville\, Ontario\, L1C3K6\, Canada
CATEGORIES:Racing Camp/Schools
ORGANIZER;CN="Mosport Karting Centre":MAILTO:info@mosportkartingcentre.com
END:VEVENT
BEGIN:VEVENT
DTSTART;TZID=America/Toronto:20230808T100000
DTEND;TZID=America/Toronto:20230808T170000
DTSTAMP:20260419T141915
CREATED:20230725T183316Z
LAST-MODIFIED:20230725T183316Z
UID:10001249-1691488800-1691514000@mosportkartingcentre.com
SUMMARY:1-Day Race Experience Camp
DESCRIPTION:
URL:https://mosportkartingcentre.com/event/1-day-race-experience-camp-3/
LOCATION:Mosport Karting Centre\, 3233 Concession Rd10\, Bowmanville\, Ontario\, L1C3K6\, Canada
CATEGORIES:Racing Camp/Schools
ORGANIZER;CN="Mosport Karting Centre":MAILTO:info@mosportkartingcentre.com
END:VEVENT
BEGIN:VEVENT
DTSTART;TZID=UTC:20230726T100000
DTEND;TZID=UTC:20230726T160000
DTSTAMP:20260419T141915
CREATED:20230308T080820Z
LAST-MODIFIED:20230308T080820Z
UID:10000967-1690365600-1690387200@mosportkartingcentre.com
SUMMARY:2-Day Summer Camp
DESCRIPTION:
URL:https://mosportkartingcentre.com/event/2-day-summer-camp-3/
LOCATION:Mosport Karting Centre\, 3233 Concession Rd10\, Bowmanville\, Ontario\, L1C3K6\, Canada
CATEGORIES:Racing Camp/Schools
ORGANIZER;CN="Mosport Karting Centre":MAILTO:info@mosportkartingcentre.com
END:VEVENT
BEGIN:VEVENT
DTSTART;TZID=UTC:20230725T100000
DTEND;TZID=UTC:20230725T160000
DTSTAMP:20260419T141915
CREATED:20230308T080740Z
LAST-MODIFIED:20230308T080740Z
UID:10000965-1690279200-1690300800@mosportkartingcentre.com
SUMMARY:2-Day Summer Camp
DESCRIPTION:
URL:https://mosportkartingcentre.com/event/2-day-summer-camp-2/
LOCATION:Mosport Karting Centre\, 3233 Concession Rd10\, Bowmanville\, Ontario\, L1C3K6\, Canada
CATEGORIES:Racing Camp/Schools
ORGANIZER;CN="Mosport Karting Centre":MAILTO:info@mosportkartingcentre.com
END:VEVENT
BEGIN:VEVENT
DTSTART;TZID=America/Toronto:20230721T100000
DTEND;TZID=America/Toronto:20230721T170000
DTSTAMP:20260419T141915
CREATED:20230627T183859Z
LAST-MODIFIED:20230627T183859Z
UID:10001059-1689933600-1689958800@mosportkartingcentre.com
SUMMARY:1-Day Race Experience Camp
DESCRIPTION:
URL:https://mosportkartingcentre.com/event/1-day-race-experience-camp-2/
LOCATION:Mosport Karting Centre\, 3233 Concession Rd10\, Bowmanville\, Ontario\, L1C3K6\, Canada
CATEGORIES:Racing Camp/Schools
ORGANIZER;CN="Mosport Karting Centre":MAILTO:info@mosportkartingcentre.com
END:VEVENT
BEGIN:VEVENT
DTSTART;TZID=America/Toronto:20230718T100000
DTEND;TZID=America/Toronto:20230718T170000
DTSTAMP:20260419T141915
CREATED:20230622T195636Z
LAST-MODIFIED:20230622T195654Z
UID:10001235-1689674400-1689699600@mosportkartingcentre.com
SUMMARY:1-Day Race Experience Camp
DESCRIPTION:
URL:https://mosportkartingcentre.com/event/1-day-race-experience-camp/
LOCATION:Mosport Karting Centre\, 3233 Concession Rd10\, Bowmanville\, Ontario\, L1C3K6\, Canada
CATEGORIES:Racing Camp/Schools
ORGANIZER;CN="Mosport Karting Centre":MAILTO:info@mosportkartingcentre.com
END:VEVENT
BEGIN:VEVENT
DTSTART;TZID=UTC:20230712T100000
DTEND;TZID=UTC:20230712T160000
DTSTAMP:20260419T141915
CREATED:20230308T080630Z
LAST-MODIFIED:20230308T080630Z
UID:10000963-1689156000-1689177600@mosportkartingcentre.com
SUMMARY:2-Day Summer Camp
DESCRIPTION:
URL:https://mosportkartingcentre.com/event/2-day-summer-camp/
LOCATION:Mosport Karting Centre\, 3233 Concession Rd10\, Bowmanville\, Ontario\, L1C3K6\, Canada
CATEGORIES:Racing Camp/Schools
ORGANIZER;CN="Mosport Karting Centre":MAILTO:info@mosportkartingcentre.com
END:VEVENT
BEGIN:VEVENT
DTSTART;TZID=UTC:20230711T100000
DTEND;TZID=UTC:20230711T160000
DTSTAMP:20260419T141915
CREATED:20230308T080524Z
LAST-MODIFIED:20230308T080539Z
UID:10000961-1689069600-1689091200@mosportkartingcentre.com
SUMMARY:2-Day Summer Camp
DESCRIPTION:
URL:https://mosportkartingcentre.com/event/summer-camp-7/
LOCATION:Mosport Karting Centre\, 3233 Concession Rd10\, Bowmanville\, Ontario\, L1C3K6\, Canada
CATEGORIES:Racing Camp/Schools
ORGANIZER;CN="Mosport Karting Centre":MAILTO:info@mosportkartingcentre.com
END:VEVENT
BEGIN:VEVENT
DTSTART;TZID=UTC:20220903T140000
DTEND;TZID=UTC:20220903T180000
DTSTAMP:20260419T141915
CREATED:20220812T002519Z
LAST-MODIFIED:20220812T002519Z
UID:10000986-1662213600-1662228000@mosportkartingcentre.com
SUMMARY:Ron Fellows Karting Experience - Powered by Canadian Tire
DESCRIPTION:Ron Fellows Karting Experience – Powered by Canadian Tire: 2:00pm-6:00pm
URL:https://mosportkartingcentre.com/event/ron-fellows-karting-experience-powered-by-canadian-tire-4/
LOCATION:Mosport Karting Centre\, 3233 Concession Rd10\, Bowmanville\, Ontario\, L1C3K6\, Canada
CATEGORIES:Racing Camp/Schools
ORGANIZER;CN="Mosport Karting Centre":MAILTO:info@mosportkartingcentre.com
END:VEVENT
BEGIN:VEVENT
DTSTART;TZID=UTC:20220827T140000
DTEND;TZID=UTC:20220827T180000
DTSTAMP:20260419T141915
CREATED:20220718T034243Z
LAST-MODIFIED:20220718T034243Z
UID:10000704-1661608800-1661623200@mosportkartingcentre.com
SUMMARY:Ron Fellows Karting Experience – Powered by Canadian Tire
DESCRIPTION:Ron Fellows Karting Experience – Powered by Canadian Tire: 2:00pm-6:00pm
URL:https://mosportkartingcentre.com/event/ron-fellows-karting-experience-powered-by-canadian-tire-3/
LOCATION:Mosport Karting Centre\, 3233 Concession Rd10\, Bowmanville\, Ontario\, L1C3K6\, Canada
CATEGORIES:Racing Camp/Schools
ORGANIZER;CN="Mosport Karting Centre":MAILTO:info@mosportkartingcentre.com
END:VEVENT
END:VCALENDAR