BEGIN:VCALENDAR
VERSION:2.0
PRODID:-//Mosport Karting Centre - ECPv6.15.20//NONSGML v1.0//EN
CALSCALE:GREGORIAN
METHOD:PUBLISH
X-ORIGINAL-URL:https://mosportkartingcentre.com
X-WR-CALDESC:Events for Mosport Karting Centre
REFRESH-INTERVAL;VALUE=DURATION:PT1H
X-Robots-Tag:noindex
X-PUBLISHED-TTL:PT1H
BEGIN:VTIMEZONE
TZID:UTC
BEGIN:STANDARD
TZOFFSETFROM:+0000
TZOFFSETTO:+0000
TZNAME:UTC
DTSTART:20210101T000000
END:STANDARD
END:VTIMEZONE
BEGIN:VEVENT
DTSTART;TZID=UTC:20220713T100000
DTEND;TZID=UTC:20220713T160000
DTSTAMP:20260422T031122
CREATED:20220624T034354Z
LAST-MODIFIED:20220624T035006Z
UID:10000913-1657706400-1657728000@mosportkartingcentre.com
SUMMARY:Summer Camp
DESCRIPTION:Summer Camp
URL:https://mosportkartingcentre.com/event/summer-camp-2/
LOCATION:Mosport Karting Centre\, 3233 Concession Rd10\, Bowmanville\, Ontario\, L1C3K6\, Canada
CATEGORIES:Racing Camp/Schools
ORGANIZER;CN="Mosport Karting Centre":MAILTO:info@mosportkartingcentre.com
END:VEVENT
BEGIN:VEVENT
DTSTART;TZID=UTC:20220712T100000
DTEND;TZID=UTC:20220712T160000
DTSTAMP:20260422T031122
CREATED:20220624T034134Z
LAST-MODIFIED:20220624T034944Z
UID:10000665-1657620000-1657641600@mosportkartingcentre.com
SUMMARY:Summer Camp
DESCRIPTION:Summer Camp
URL:https://mosportkartingcentre.com/event/summer-camp/
LOCATION:Mosport Karting Centre\, 3233 Concession Rd10\, Bowmanville\, Ontario\, L1C3K6\, Canada
CATEGORIES:Racing Camp/Schools
ORGANIZER;CN="Mosport Karting Centre":MAILTO:info@mosportkartingcentre.com
END:VEVENT
BEGIN:VEVENT
DTSTART;TZID=UTC:20220702T140000
DTEND;TZID=UTC:20220702T190000
DTSTAMP:20260422T031122
CREATED:20220625T003818Z
LAST-MODIFIED:20220625T003818Z
UID:10000670-1656770400-1656788400@mosportkartingcentre.com
SUMMARY:Ron Fellows Karting Experience - Powered By Canadian Tire
DESCRIPTION:Ron Fellows Karting Experience – Powered By Canadian Tire: 2:00pm-7:00pm
URL:https://mosportkartingcentre.com/event/ron-fellows-karting-experience-powered-by-canadian-tire/
LOCATION:Mosport Karting Centre\, 3233 Concession Rd10\, Bowmanville\, Ontario\, L1C3K6\, Canada
CATEGORIES:Racing Camp/Schools
ORGANIZER;CN="Mosport Karting Centre":MAILTO:info@mosportkartingcentre.com
END:VEVENT
END:VCALENDAR