BEGIN:VCALENDAR
VERSION:2.0
PRODID:-//Mosport Karting Centre - ECPv6.15.20//NONSGML v1.0//EN
CALSCALE:GREGORIAN
METHOD:PUBLISH
X-WR-CALNAME:Mosport Karting Centre
X-ORIGINAL-URL:https://mosportkartingcentre.com
X-WR-CALDESC:Events for Mosport Karting Centre
REFRESH-INTERVAL;VALUE=DURATION:PT1H
X-Robots-Tag:noindex
X-PUBLISHED-TTL:PT1H
BEGIN:VTIMEZONE
TZID:America/Toronto
BEGIN:DAYLIGHT
TZOFFSETFROM:-0500
TZOFFSETTO:-0400
TZNAME:EDT
DTSTART:20220313T070000
END:DAYLIGHT
BEGIN:STANDARD
TZOFFSETFROM:-0400
TZOFFSETTO:-0500
TZNAME:EST
DTSTART:20221106T060000
END:STANDARD
BEGIN:DAYLIGHT
TZOFFSETFROM:-0500
TZOFFSETTO:-0400
TZNAME:EDT
DTSTART:20230312T070000
END:DAYLIGHT
BEGIN:STANDARD
TZOFFSETFROM:-0400
TZOFFSETTO:-0500
TZNAME:EST
DTSTART:20231105T060000
END:STANDARD
BEGIN:DAYLIGHT
TZOFFSETFROM:-0500
TZOFFSETTO:-0400
TZNAME:EDT
DTSTART:20240310T070000
END:DAYLIGHT
BEGIN:STANDARD
TZOFFSETFROM:-0400
TZOFFSETTO:-0500
TZNAME:EST
DTSTART:20241103T060000
END:STANDARD
BEGIN:DAYLIGHT
TZOFFSETFROM:-0500
TZOFFSETTO:-0400
TZNAME:EDT
DTSTART:20250309T070000
END:DAYLIGHT
BEGIN:STANDARD
TZOFFSETFROM:-0400
TZOFFSETTO:-0500
TZNAME:EST
DTSTART:20251102T060000
END:STANDARD
END:VTIMEZONE
BEGIN:VTIMEZONE
TZID:UTC
BEGIN:STANDARD
TZOFFSETFROM:+0000
TZOFFSETTO:+0000
TZNAME:UTC
DTSTART:20210101T000000
END:STANDARD
END:VTIMEZONE
BEGIN:VEVENT
DTSTART;VALUE=DATE:20240511
DTEND;VALUE=DATE:20240513
DTSTAMP:20260420T220527
CREATED:20240210T162601Z
LAST-MODIFIED:20240506T142731Z
UID:10001434-1715385600-1715558399@mosportkartingcentre.com
SUMMARY:RFKC Round 1 & 2
DESCRIPTION:
URL:https://mosportkartingcentre.com/event/rfkc-round-1-2-2/
LOCATION:Mosport Karting Centre\, 3233 Concession Rd10\, Bowmanville\, Ontario\, L1C3K6\, Canada
CATEGORIES:RFKC Event
ORGANIZER;CN="MRFKC":MAILTO:info@ronfellowskarting.com
END:VEVENT
BEGIN:VEVENT
DTSTART;VALUE=DATE:20230603
DTEND;VALUE=DATE:20230605
DTSTAMP:20260420T220527
CREATED:20230504T183452Z
LAST-MODIFIED:20230504T183452Z
UID:10001192-1685750400-1685923199@mosportkartingcentre.com
SUMMARY:MRFKC Round 3 & 4
DESCRIPTION:
URL:https://mosportkartingcentre.com/event/mrfkc-round-3-4/
LOCATION:Mosport Karting Centre\, 3233 Concession Rd10\, Bowmanville\, Ontario\, L1C3K6\, Canada
CATEGORIES:RFKC Event
ORGANIZER;CN="MRFKC":MAILTO:info@ronfellowskarting.com
END:VEVENT
BEGIN:VEVENT
DTSTART;VALUE=DATE:20230513
DTEND;VALUE=DATE:20230515
DTSTAMP:20260420T220527
CREATED:20230428T223528Z
LAST-MODIFIED:20230428T223528Z
UID:10001173-1683936000-1684108799@mosportkartingcentre.com
SUMMARY:MRFKC Round 1 & 2
DESCRIPTION:
URL:https://mosportkartingcentre.com/event/mrfkc-round-1-2/
LOCATION:Mosport Karting Centre\, 3233 Concession Rd10\, Bowmanville\, Ontario\, L1C3K6\, Canada
CATEGORIES:RFKC Event
ORGANIZER;CN="MRFKC":MAILTO:info@ronfellowskarting.com
END:VEVENT
BEGIN:VEVENT
DTSTART;VALUE=DATE:20220924
DTEND;VALUE=DATE:20220926
DTSTAMP:20260420T220527
CREATED:20220901T234948Z
LAST-MODIFIED:20220901T234948Z
UID:10001012-1663977600-1664150399@mosportkartingcentre.com
SUMMARY:MRFKC Race
DESCRIPTION:MRFKC Race
URL:https://mosportkartingcentre.com/event/mrfkc-race/
LOCATION:Mosport Karting Centre\, 3233 Concession Rd10\, Bowmanville\, Ontario\, L1C3K6\, Canada
CATEGORIES:RFKC Event
ORGANIZER;CN="MRFKC":MAILTO:info@ronfellowskarting.com
END:VEVENT
END:VCALENDAR