BEGIN:VCALENDAR
VERSION:2.0
PRODID:-//Mosport Karting Centre - ECPv6.15.20//NONSGML v1.0//EN
CALSCALE:GREGORIAN
METHOD:PUBLISH
X-WR-CALNAME:Mosport Karting Centre
X-ORIGINAL-URL:https://mosportkartingcentre.com
X-WR-CALDESC:Events for Mosport Karting Centre
REFRESH-INTERVAL;VALUE=DURATION:PT1H
X-Robots-Tag:noindex
X-PUBLISHED-TTL:PT1H
BEGIN:VTIMEZONE
TZID:America/Toronto
BEGIN:DAYLIGHT
TZOFFSETFROM:-0500
TZOFFSETTO:-0400
TZNAME:EDT
DTSTART:20230312T070000
END:DAYLIGHT
BEGIN:STANDARD
TZOFFSETFROM:-0400
TZOFFSETTO:-0500
TZNAME:EST
DTSTART:20231105T060000
END:STANDARD
BEGIN:DAYLIGHT
TZOFFSETFROM:-0500
TZOFFSETTO:-0400
TZNAME:EDT
DTSTART:20240310T070000
END:DAYLIGHT
BEGIN:STANDARD
TZOFFSETFROM:-0400
TZOFFSETTO:-0500
TZNAME:EST
DTSTART:20241103T060000
END:STANDARD
BEGIN:DAYLIGHT
TZOFFSETFROM:-0500
TZOFFSETTO:-0400
TZNAME:EDT
DTSTART:20250309T070000
END:DAYLIGHT
BEGIN:STANDARD
TZOFFSETFROM:-0400
TZOFFSETTO:-0500
TZNAME:EST
DTSTART:20251102T060000
END:STANDARD
END:VTIMEZONE
BEGIN:VTIMEZONE
TZID:UTC
BEGIN:STANDARD
TZOFFSETFROM:+0000
TZOFFSETTO:+0000
TZNAME:UTC
DTSTART:20230101T000000
END:STANDARD
END:VTIMEZONE
BEGIN:VEVENT
DTSTART;TZID=America/Toronto:20240608T130000
DTEND;TZID=America/Toronto:20240608T180000
DTSTAMP:20260421T003327
CREATED:20240525T000417Z
LAST-MODIFIED:20240525T000417Z
UID:10001524-1717851600-1717869600@mosportkartingcentre.com
SUMMARY:Open Practice
DESCRIPTION:
URL:https://mosportkartingcentre.com/event/open-practice-194/
LOCATION:Mosport Karting Centre\, 3233 Concession Rd10\, Bowmanville\, Ontario\, L1C3K6\, Canada
CATEGORIES:Open Practice
ORGANIZER;CN="Mosport Karting Centre":MAILTO:info@mosportkartingcentre.com
END:VEVENT
BEGIN:VEVENT
DTSTART;TZID=America/Toronto:20240608T100000
DTEND;TZID=America/Toronto:20240608T130000
DTSTAMP:20260421T003327
CREATED:20240210T162628Z
LAST-MODIFIED:20240327T164819Z
UID:10001399-1717840800-1717851600@mosportkartingcentre.com
SUMMARY:MADRL Schedule 3 Race 2
DESCRIPTION:
URL:https://mosportkartingcentre.com/event/madrl-schedule-3-race-2-2/
LOCATION:Mosport Karting Centre\, 3233 Concession Rd10\, Bowmanville\, Ontario\, L1C3K6\, Canada
CATEGORIES:Arrive and Drive
ORGANIZER;CN="Mosport Karting Centre":MAILTO:info@mosportkartingcentre.com
END:VEVENT
BEGIN:VEVENT
DTSTART;TZID=America/Toronto:20240607T170000
DTEND;TZID=America/Toronto:20240607T190000
DTSTAMP:20260421T003328
CREATED:20240525T000334Z
LAST-MODIFIED:20240525T000334Z
UID:10001523-1717779600-1717786800@mosportkartingcentre.com
SUMMARY:MADRL Option 1 & Option 2 Practice
DESCRIPTION:
URL:https://mosportkartingcentre.com/event/madrl-option-1-option-2-practice-58/
LOCATION:Mosport Karting Centre\, 3233 Concession Rd10\, Bowmanville\, Ontario\, L1C3K6\, Canada
CATEGORIES:Arrive and Drive
ORGANIZER;CN="Mosport Karting Centre":MAILTO:info@mosportkartingcentre.com
END:VEVENT
BEGIN:VEVENT
DTSTART;TZID=America/Toronto:20240607T120000
DTEND;TZID=America/Toronto:20240607T160000
DTSTAMP:20260421T003328
CREATED:20240525T000246Z
LAST-MODIFIED:20240525T000246Z
UID:10001522-1717761600-1717776000@mosportkartingcentre.com
SUMMARY:Group Event
DESCRIPTION:
URL:https://mosportkartingcentre.com/event/group-event-12/
LOCATION:Mosport Karting Centre\, 3233 Concession Rd10\, Bowmanville\, Ontario\, L1C3K6\, Canada
CATEGORIES:Group Events
ORGANIZER;CN="Mosport Karting Centre":MAILTO:info@mosportkartingcentre.com
END:VEVENT
BEGIN:VEVENT
DTSTART;TZID=America/Toronto:20240606T160000
DTEND;TZID=America/Toronto:20240606T190000
DTSTAMP:20260421T003328
CREATED:20240525T000141Z
LAST-MODIFIED:20240525T000141Z
UID:10001521-1717689600-1717700400@mosportkartingcentre.com
SUMMARY:Group Event
DESCRIPTION:
URL:https://mosportkartingcentre.com/event/group-event-11/
LOCATION:Mosport Karting Centre\, 3233 Concession Rd10\, Bowmanville\, Ontario\, L1C3K6\, Canada
CATEGORIES:Group Events
ORGANIZER;CN="Mosport Karting Centre":MAILTO:info@mosportkartingcentre.com
END:VEVENT
BEGIN:VEVENT
DTSTART;TZID=America/Toronto:20240606T130000
DTEND;TZID=America/Toronto:20240606T160000
DTSTAMP:20260421T003328
CREATED:20240524T235957Z
LAST-MODIFIED:20240524T235957Z
UID:10001520-1717678800-1717689600@mosportkartingcentre.com
SUMMARY:Group Event
DESCRIPTION:
URL:https://mosportkartingcentre.com/event/group-event-10/
LOCATION:Mosport Karting Centre\, 3233 Concession Rd10\, Bowmanville\, Ontario\, L1C3K6\, Canada
CATEGORIES:Group Events
ORGANIZER;CN="Mosport Karting Centre":MAILTO:info@mosportkartingcentre.com
END:VEVENT
BEGIN:VEVENT
DTSTART;TZID=America/Toronto:20240606T100000
DTEND;TZID=America/Toronto:20240606T130000
DTSTAMP:20260421T003328
CREATED:20240524T235622Z
LAST-MODIFIED:20240524T235622Z
UID:10001519-1717668000-1717678800@mosportkartingcentre.com
SUMMARY:Open Practice
DESCRIPTION:
URL:https://mosportkartingcentre.com/event/open-practice-193/
LOCATION:Mosport Karting Centre\, 3233 Concession Rd10\, Bowmanville\, Ontario\, L1C3K6\, Canada
CATEGORIES:Open Practice
ORGANIZER;CN="Mosport Karting Centre":MAILTO:info@mosportkartingcentre.com
END:VEVENT
BEGIN:VEVENT
DTSTART;TZID=America/Toronto:20240605T170000
DTEND;TZID=America/Toronto:20240605T200000
DTSTAMP:20260421T003328
CREATED:20240210T162638Z
LAST-MODIFIED:20240327T164819Z
UID:10001374-1717606800-1717617600@mosportkartingcentre.com
SUMMARY:MADRL Schedule 2 Race 2
DESCRIPTION:
URL:https://mosportkartingcentre.com/event/madrl-schedule-2-race-2-2/
LOCATION:Mosport Karting Centre\, 3233 Concession Rd10\, Bowmanville\, Ontario\, L1C3K6\, Canada
CATEGORIES:Arrive and Drive
ORGANIZER;CN="Mosport Karting Centre":MAILTO:info@mosportkartingcentre.com
END:VEVENT
BEGIN:VEVENT
DTSTART;TZID=America/Toronto:20240605T130000
DTEND;TZID=America/Toronto:20240605T170000
DTSTAMP:20260421T003328
CREATED:20240524T235508Z
LAST-MODIFIED:20240524T235508Z
UID:10001518-1717592400-1717606800@mosportkartingcentre.com
SUMMARY:Open Practice
DESCRIPTION:
URL:https://mosportkartingcentre.com/event/open-practice-192/
LOCATION:Mosport Karting Centre\, 3233 Concession Rd10\, Bowmanville\, Ontario\, L1C3K6\, Canada
CATEGORIES:Open Practice
ORGANIZER;CN="Mosport Karting Centre":MAILTO:info@mosportkartingcentre.com
END:VEVENT
BEGIN:VEVENT
DTSTART;TZID=America/Toronto:20240605T100000
DTEND;TZID=America/Toronto:20240605T130000
DTSTAMP:20260421T003328
CREATED:20240524T235346Z
LAST-MODIFIED:20240524T235346Z
UID:10001517-1717581600-1717592400@mosportkartingcentre.com
SUMMARY:Group Event
DESCRIPTION:
URL:https://mosportkartingcentre.com/event/group-event-9/
LOCATION:Mosport Karting Centre\, 3233 Concession Rd10\, Bowmanville\, Ontario\, L1C3K6\, Canada
CATEGORIES:Group Events
ORGANIZER;CN="Mosport Karting Centre":MAILTO:info@mosportkartingcentre.com
END:VEVENT
BEGIN:VEVENT
DTSTART;TZID=America/Toronto:20240604T170000
DTEND;TZID=America/Toronto:20240604T200000
DTSTAMP:20260421T003328
CREATED:20240210T162647Z
LAST-MODIFIED:20240327T164819Z
UID:10001362-1717520400-1717531200@mosportkartingcentre.com
SUMMARY:MADRL Schedule 1 Race 2
DESCRIPTION:
URL:https://mosportkartingcentre.com/event/madrl-schedule-1-race-2-2/
LOCATION:Mosport Karting Centre\, 3233 Concession Rd10\, Bowmanville\, Ontario\, L1C3K6\, Canada
CATEGORIES:Arrive and Drive
ORGANIZER;CN="Mosport Karting Centre":MAILTO:info@mosportkartingcentre.com
END:VEVENT
BEGIN:VEVENT
DTSTART;TZID=America/Toronto:20240604T100000
DTEND;TZID=America/Toronto:20240604T170000
DTSTAMP:20260421T003328
CREATED:20240524T235251Z
LAST-MODIFIED:20240524T235251Z
UID:10001516-1717495200-1717520400@mosportkartingcentre.com
SUMMARY:Open Practice
DESCRIPTION:
URL:https://mosportkartingcentre.com/event/open-practice-191/
LOCATION:Mosport Karting Centre\, 3233 Concession Rd10\, Bowmanville\, Ontario\, L1C3K6\, Canada
CATEGORIES:Open Practice
ORGANIZER;CN="Mosport Karting Centre":MAILTO:info@mosportkartingcentre.com
END:VEVENT
BEGIN:VEVENT
DTSTART;VALUE=DATE:20240603
DTEND;VALUE=DATE:20240604
DTSTAMP:20260421T003328
CREATED:20240526T202920Z
LAST-MODIFIED:20240526T202920Z
UID:10001534-1717372800-1717459199@mosportkartingcentre.com
SUMMARY:Track Closed
DESCRIPTION:
URL:https://mosportkartingcentre.com/event/track-closed-8/
LOCATION:Ontario
CATEGORIES:Closed
END:VEVENT
BEGIN:VEVENT
DTSTART;VALUE=DATE:20240603
DTEND;VALUE=DATE:20240604
DTSTAMP:20260421T003328
CREATED:20220623T210045Z
LAST-MODIFIED:20220623T210158Z
UID:10000830-1717372800-1717459199@mosportkartingcentre.com
SUMMARY:TRACK CLOSED
DESCRIPTION:
URL:https://mosportkartingcentre.com/event/track-closed-2/2024-06-03/
LOCATION:Mosport Karting Centre\, 3233 Concession Rd10\, Bowmanville\, Ontario\, L1C3K6\, Canada
CATEGORIES:Closed
END:VEVENT
BEGIN:VEVENT
DTSTART;TZID=America/Toronto:20240602T090000
DTEND;TZID=America/Toronto:20240602T170000
DTSTAMP:20260421T003328
CREATED:20240210T162601Z
LAST-MODIFIED:20240327T164819Z
UID:10001435-1717318800-1717347600@mosportkartingcentre.com
SUMMARY:MIKA Race 5
DESCRIPTION:National Track – Counter Clockwise \nQualifying Format
URL:https://mosportkartingcentre.com/event/mika-race-5-2/
LOCATION:Mosport Karting Centre\, 3233 Concession Rd10\, Bowmanville\, Ontario\, L1C3K6\, Canada
CATEGORIES:MIKA
END:VEVENT
BEGIN:VEVENT
DTSTART;TZID=America/Toronto:20240601T100000
DTEND;TZID=America/Toronto:20240601T180000
DTSTAMP:20260421T003328
CREATED:20240509T154255Z
LAST-MODIFIED:20240509T154255Z
UID:10001515-1717236000-1717264800@mosportkartingcentre.com
SUMMARY:Open Practice
DESCRIPTION:
URL:https://mosportkartingcentre.com/event/open-practice-190/
LOCATION:Mosport Karting Centre\, 3233 Concession Rd10\, Bowmanville\, Ontario\, L1C3K6\, Canada
CATEGORIES:Open Practice
ORGANIZER;CN="Mosport Karting Centre":MAILTO:info@mosportkartingcentre.com
END:VEVENT
BEGIN:VEVENT
DTSTART;TZID=America/Toronto:20240531T170000
DTEND;TZID=America/Toronto:20240531T190000
DTSTAMP:20260421T003328
CREATED:20240509T154212Z
LAST-MODIFIED:20240509T154212Z
UID:10001514-1717174800-1717182000@mosportkartingcentre.com
SUMMARY:MADRL Option 1 & Option 2 Practice
DESCRIPTION:
URL:https://mosportkartingcentre.com/event/madrl-option-1-option-2-practice-57/
LOCATION:Mosport Karting Centre\, 3233 Concession Rd10\, Bowmanville\, Ontario\, L1C3K6\, Canada
CATEGORIES:Arrive and Drive
ORGANIZER;CN="Mosport Karting Centre":MAILTO:info@mosportkartingcentre.com
END:VEVENT
BEGIN:VEVENT
DTSTART;TZID=America/Toronto:20240531T100000
DTEND;TZID=America/Toronto:20240531T163000
DTSTAMP:20260421T003328
CREATED:20240509T153802Z
LAST-MODIFIED:20240509T153802Z
UID:10001513-1717149600-1717173000@mosportkartingcentre.com
SUMMARY:Open Practice
DESCRIPTION:
URL:https://mosportkartingcentre.com/event/open-practice-189/
LOCATION:Mosport Karting Centre\, 3233 Concession Rd10\, Bowmanville\, Ontario\, L1C3K6\, Canada
CATEGORIES:Open Practice
ORGANIZER;CN="Mosport Karting Centre":MAILTO:info@mosportkartingcentre.com
END:VEVENT
BEGIN:VEVENT
DTSTART;TZID=America/Toronto:20240530T140000
DTEND;TZID=America/Toronto:20240530T170000
DTSTAMP:20260421T003328
CREATED:20240509T153645Z
LAST-MODIFIED:20240509T153645Z
UID:10001512-1717077600-1717088400@mosportkartingcentre.com
SUMMARY:Group Event
DESCRIPTION:
URL:https://mosportkartingcentre.com/event/group-event-8/
LOCATION:Mosport Karting Centre\, 3233 Concession Rd10\, Bowmanville\, Ontario\, L1C3K6\, Canada
CATEGORIES:Group Events
ORGANIZER;CN="Mosport Karting Centre":MAILTO:info@mosportkartingcentre.com
END:VEVENT
BEGIN:VEVENT
DTSTART;TZID=America/Toronto:20240530T130000
DTEND;TZID=America/Toronto:20240530T160000
DTSTAMP:20260421T003328
CREATED:20240509T153526Z
LAST-MODIFIED:20240509T153526Z
UID:10001511-1717074000-1717084800@mosportkartingcentre.com
SUMMARY:Group Event
DESCRIPTION:
URL:https://mosportkartingcentre.com/event/group-event-7/
LOCATION:Mosport Karting Centre\, 3233 Concession Rd10\, Bowmanville\, Ontario\, L1C3K6\, Canada
CATEGORIES:Group Events
ORGANIZER;CN="Mosport Karting Centre":MAILTO:info@mosportkartingcentre.com
END:VEVENT
BEGIN:VEVENT
DTSTART;TZID=America/Toronto:20240530T100000
DTEND;TZID=America/Toronto:20240530T130000
DTSTAMP:20260421T003328
CREATED:20240509T153436Z
LAST-MODIFIED:20240509T153436Z
UID:10001510-1717063200-1717074000@mosportkartingcentre.com
SUMMARY:Group Event
DESCRIPTION:
URL:https://mosportkartingcentre.com/event/group-event-6/
LOCATION:Mosport Karting Centre\, 3233 Concession Rd10\, Bowmanville\, Ontario\, L1C3K6\, Canada
CATEGORIES:Group Events
ORGANIZER;CN="Mosport Karting Centre":MAILTO:info@mosportkartingcentre.com
END:VEVENT
BEGIN:VEVENT
DTSTART;TZID=America/Toronto:20240529T170000
DTEND;TZID=America/Toronto:20240529T190000
DTSTAMP:20260421T003328
CREATED:20240509T152622Z
LAST-MODIFIED:20240509T152622Z
UID:10001509-1717002000-1717009200@mosportkartingcentre.com
SUMMARY:MADRL Option 1 & Option 2 Practice
DESCRIPTION:
URL:https://mosportkartingcentre.com/event/madrl-option-1-option-2-practice-56/
LOCATION:Mosport Karting Centre\, 3233 Concession Rd10\, Bowmanville\, Ontario\, L1C3K6\, Canada
CATEGORIES:Arrive and Drive
ORGANIZER;CN="Mosport Karting Centre":MAILTO:info@mosportkartingcentre.com
END:VEVENT
BEGIN:VEVENT
DTSTART;TZID=America/Toronto:20240529T100000
DTEND;TZID=America/Toronto:20240529T163000
DTSTAMP:20260421T003328
CREATED:20240509T152534Z
LAST-MODIFIED:20240509T152534Z
UID:10001508-1716976800-1717000200@mosportkartingcentre.com
SUMMARY:Open Practice
DESCRIPTION:
URL:https://mosportkartingcentre.com/event/open-practice-188/
LOCATION:Mosport Karting Centre\, 3233 Concession Rd10\, Bowmanville\, Ontario\, L1C3K6\, Canada
CATEGORIES:Open Practice
ORGANIZER;CN="Mosport Karting Centre":MAILTO:info@mosportkartingcentre.com
END:VEVENT
BEGIN:VEVENT
DTSTART;TZID=America/Toronto:20240528T170000
DTEND;TZID=America/Toronto:20240528T190000
DTSTAMP:20260421T003328
CREATED:20240509T152326Z
LAST-MODIFIED:20240509T152326Z
UID:10001507-1716915600-1716922800@mosportkartingcentre.com
SUMMARY:MADRL Option 1 & Option 2 Practice
DESCRIPTION:
URL:https://mosportkartingcentre.com/event/madrl-option-1-option-2-practice-55/
LOCATION:Mosport Karting Centre\, 3233 Concession Rd10\, Bowmanville\, Ontario\, L1C3K6\, Canada
CATEGORIES:Arrive and Drive
ORGANIZER;CN="Mosport Karting Centre":MAILTO:info@mosportkartingcentre.com
END:VEVENT
BEGIN:VEVENT
DTSTART;TZID=America/Toronto:20240528T100000
DTEND;TZID=America/Toronto:20240528T163000
DTSTAMP:20260421T003328
CREATED:20240509T152210Z
LAST-MODIFIED:20240509T152210Z
UID:10001506-1716890400-1716913800@mosportkartingcentre.com
SUMMARY:Open Practice
DESCRIPTION:
URL:https://mosportkartingcentre.com/event/open-practice-187/
LOCATION:Mosport Karting Centre\, 3233 Concession Rd10\, Bowmanville\, Ontario\, L1C3K6\, Canada
CATEGORIES:Open Practice
ORGANIZER;CN="Mosport Karting Centre":MAILTO:info@mosportkartingcentre.com
END:VEVENT
BEGIN:VEVENT
DTSTART;VALUE=DATE:20240527
DTEND;VALUE=DATE:20240528
DTSTAMP:20260421T003328
CREATED:20240509T152013Z
LAST-MODIFIED:20240509T152013Z
UID:10001505-1716768000-1716854399@mosportkartingcentre.com
SUMMARY:Track Closed
DESCRIPTION:
URL:https://mosportkartingcentre.com/event/track-closed-7/
LOCATION:Ontario
CATEGORIES:Closed
END:VEVENT
BEGIN:VEVENT
DTSTART;VALUE=DATE:20240527
DTEND;VALUE=DATE:20240528
DTSTAMP:20260421T003328
CREATED:20220623T210045Z
LAST-MODIFIED:20220623T210158Z
UID:10000829-1716768000-1716854399@mosportkartingcentre.com
SUMMARY:TRACK CLOSED
DESCRIPTION:
URL:https://mosportkartingcentre.com/event/track-closed-2/2024-05-27/
LOCATION:Mosport Karting Centre\, 3233 Concession Rd10\, Bowmanville\, Ontario\, L1C3K6\, Canada
CATEGORIES:Closed
END:VEVENT
BEGIN:VEVENT
DTSTART;TZID=America/Toronto:20240526T100000
DTEND;TZID=America/Toronto:20240526T180000
DTSTAMP:20260421T003328
CREATED:20240509T151542Z
LAST-MODIFIED:20240509T151542Z
UID:10001501-1716717600-1716746400@mosportkartingcentre.com
SUMMARY:Open Practice
DESCRIPTION:
URL:https://mosportkartingcentre.com/event/open-practice-186/
LOCATION:Mosport Karting Centre\, 3233 Concession Rd10\, Bowmanville\, Ontario\, L1C3K6\, Canada
CATEGORIES:Open Practice
ORGANIZER;CN="Mosport Karting Centre":MAILTO:info@mosportkartingcentre.com
END:VEVENT
BEGIN:VEVENT
DTSTART;TZID=America/Toronto:20240525T130000
DTEND;TZID=America/Toronto:20240525T170000
DTSTAMP:20260421T003328
CREATED:20240509T151453Z
LAST-MODIFIED:20240509T151453Z
UID:10001500-1716642000-1716656400@mosportkartingcentre.com
SUMMARY:Group Event
DESCRIPTION:
URL:https://mosportkartingcentre.com/event/group-event-5/
LOCATION:Mosport Karting Centre\, 3233 Concession Rd10\, Bowmanville\, Ontario\, L1C3K6\, Canada
CATEGORIES:Group Events
ORGANIZER;CN="Mosport Karting Centre":MAILTO:info@mosportkartingcentre.com
END:VEVENT
BEGIN:VEVENT
DTSTART;TZID=America/Toronto:20240525T100000
DTEND;TZID=America/Toronto:20240525T130000
DTSTAMP:20260421T003328
CREATED:20240509T151415Z
LAST-MODIFIED:20240509T151415Z
UID:10001499-1716631200-1716642000@mosportkartingcentre.com
SUMMARY:Group Event
DESCRIPTION:
URL:https://mosportkartingcentre.com/event/group-event-4/
LOCATION:Mosport Karting Centre\, 3233 Concession Rd10\, Bowmanville\, Ontario\, L1C3K6\, Canada
CATEGORIES:Group Events
ORGANIZER;CN="Mosport Karting Centre":MAILTO:info@mosportkartingcentre.com
END:VEVENT
END:VCALENDAR