BEGIN:VCALENDAR
VERSION:2.0
PRODID:-//Mosport Karting Centre - ECPv6.15.20//NONSGML v1.0//EN
CALSCALE:GREGORIAN
METHOD:PUBLISH
X-ORIGINAL-URL:https://mosportkartingcentre.com
X-WR-CALDESC:Events for Mosport Karting Centre
REFRESH-INTERVAL;VALUE=DURATION:PT1H
X-Robots-Tag:noindex
X-PUBLISHED-TTL:PT1H
BEGIN:VTIMEZONE
TZID:UTC
BEGIN:STANDARD
TZOFFSETFROM:+0000
TZOFFSETTO:+0000
TZNAME:UTC
DTSTART:20230101T000000
END:STANDARD
END:VTIMEZONE
BEGIN:VTIMEZONE
TZID:America/Toronto
BEGIN:DAYLIGHT
TZOFFSETFROM:-0500
TZOFFSETTO:-0400
TZNAME:EDT
DTSTART:20230312T070000
END:DAYLIGHT
BEGIN:STANDARD
TZOFFSETFROM:-0400
TZOFFSETTO:-0500
TZNAME:EST
DTSTART:20231105T060000
END:STANDARD
BEGIN:DAYLIGHT
TZOFFSETFROM:-0500
TZOFFSETTO:-0400
TZNAME:EDT
DTSTART:20240310T070000
END:DAYLIGHT
BEGIN:STANDARD
TZOFFSETFROM:-0400
TZOFFSETTO:-0500
TZNAME:EST
DTSTART:20241103T060000
END:STANDARD
BEGIN:DAYLIGHT
TZOFFSETFROM:-0500
TZOFFSETTO:-0400
TZNAME:EDT
DTSTART:20250309T070000
END:DAYLIGHT
BEGIN:STANDARD
TZOFFSETFROM:-0400
TZOFFSETTO:-0500
TZNAME:EST
DTSTART:20251102T060000
END:STANDARD
END:VTIMEZONE
BEGIN:VEVENT
DTSTART;VALUE=DATE:20240304
DTEND;VALUE=DATE:20240305
DTSTAMP:20260425T090737
CREATED:20220623T210045Z
LAST-MODIFIED:20220623T210158Z
UID:10000817-1709510400-1709596799@mosportkartingcentre.com
SUMMARY:TRACK CLOSED
DESCRIPTION:
URL:https://mosportkartingcentre.com/event/track-closed-2/2024-03-04/
LOCATION:Mosport Karting Centre\, 3233 Concession Rd10\, Bowmanville\, Ontario\, L1C3K6\, Canada
CATEGORIES:Closed
END:VEVENT
BEGIN:VEVENT
DTSTART;VALUE=DATE:20240311
DTEND;VALUE=DATE:20240312
DTSTAMP:20260425T090737
CREATED:20220623T210045Z
LAST-MODIFIED:20220623T210158Z
UID:10000818-1710115200-1710201599@mosportkartingcentre.com
SUMMARY:TRACK CLOSED
DESCRIPTION:
URL:https://mosportkartingcentre.com/event/track-closed-2/2024-03-11/
LOCATION:Mosport Karting Centre\, 3233 Concession Rd10\, Bowmanville\, Ontario\, L1C3K6\, Canada
CATEGORIES:Closed
END:VEVENT
BEGIN:VEVENT
DTSTART;TZID=America/Toronto:20240311T100000
DTEND;TZID=America/Toronto:20240311T190000
DTSTAMP:20260425T090738
CREATED:20240210T162657Z
LAST-MODIFIED:20240327T164900Z
UID:10001335-1710151200-1710183600@mosportkartingcentre.com
SUMMARY:MADRL Open House
DESCRIPTION:
URL:https://mosportkartingcentre.com/event/madrl-open-house-34/
LOCATION:Mosport Karting Centre\, 3233 Concession Rd10\, Bowmanville\, Ontario\, L1C3K6\, Canada
CATEGORIES:Arrive and Drive
ORGANIZER;CN="Mosport Karting Centre":MAILTO:info@mosportkartingcentre.com
END:VEVENT
BEGIN:VEVENT
DTSTART;TZID=America/Toronto:20240312T100000
DTEND;TZID=America/Toronto:20240312T190000
DTSTAMP:20260425T090738
CREATED:20240210T162657Z
LAST-MODIFIED:20240327T164900Z
UID:10001336-1710237600-1710270000@mosportkartingcentre.com
SUMMARY:MADRL Open House
DESCRIPTION:
URL:https://mosportkartingcentre.com/event/madrl-open-house-33/
LOCATION:Mosport Karting Centre\, 3233 Concession Rd10\, Bowmanville\, Ontario\, L1C3K6\, Canada
CATEGORIES:Arrive and Drive
ORGANIZER;CN="Mosport Karting Centre":MAILTO:info@mosportkartingcentre.com
END:VEVENT
BEGIN:VEVENT
DTSTART;TZID=America/Toronto:20240313T100000
DTEND;TZID=America/Toronto:20240313T190000
DTSTAMP:20260425T090738
CREATED:20240210T162657Z
LAST-MODIFIED:20240327T164900Z
UID:10001337-1710324000-1710356400@mosportkartingcentre.com
SUMMARY:MADRL Open House
DESCRIPTION:
URL:https://mosportkartingcentre.com/event/madrl-open-house-32/
LOCATION:Mosport Karting Centre\, 3233 Concession Rd10\, Bowmanville\, Ontario\, L1C3K6\, Canada
CATEGORIES:Arrive and Drive
ORGANIZER;CN="Mosport Karting Centre":MAILTO:info@mosportkartingcentre.com
END:VEVENT
BEGIN:VEVENT
DTSTART;TZID=America/Toronto:20240314T100000
DTEND;TZID=America/Toronto:20240314T190000
DTSTAMP:20260425T090738
CREATED:20240210T162657Z
LAST-MODIFIED:20240327T164900Z
UID:10001338-1710410400-1710442800@mosportkartingcentre.com
SUMMARY:MADRL Open House
DESCRIPTION:
URL:https://mosportkartingcentre.com/event/madrl-open-house-31/
LOCATION:Mosport Karting Centre\, 3233 Concession Rd10\, Bowmanville\, Ontario\, L1C3K6\, Canada
CATEGORIES:Arrive and Drive
ORGANIZER;CN="Mosport Karting Centre":MAILTO:info@mosportkartingcentre.com
END:VEVENT
BEGIN:VEVENT
DTSTART;TZID=America/Toronto:20240315T100000
DTEND;TZID=America/Toronto:20240315T190000
DTSTAMP:20260425T090738
CREATED:20240210T162657Z
LAST-MODIFIED:20240327T164900Z
UID:10001339-1710496800-1710529200@mosportkartingcentre.com
SUMMARY:MADRL Open House
DESCRIPTION:
URL:https://mosportkartingcentre.com/event/madrl-open-house-30/
LOCATION:Mosport Karting Centre\, 3233 Concession Rd10\, Bowmanville\, Ontario\, L1C3K6\, Canada
CATEGORIES:Arrive and Drive
ORGANIZER;CN="Mosport Karting Centre":MAILTO:info@mosportkartingcentre.com
END:VEVENT
BEGIN:VEVENT
DTSTART;TZID=America/Toronto:20240316T100000
DTEND;TZID=America/Toronto:20240316T190000
DTSTAMP:20260425T090738
CREATED:20240210T162657Z
LAST-MODIFIED:20240327T164900Z
UID:10001340-1710583200-1710615600@mosportkartingcentre.com
SUMMARY:MADRL Open House
DESCRIPTION:
URL:https://mosportkartingcentre.com/event/madrl-open-house-29/
LOCATION:Mosport Karting Centre\, 3233 Concession Rd10\, Bowmanville\, Ontario\, L1C3K6\, Canada
CATEGORIES:Arrive and Drive
ORGANIZER;CN="Mosport Karting Centre":MAILTO:info@mosportkartingcentre.com
END:VEVENT
BEGIN:VEVENT
DTSTART;TZID=America/Toronto:20240317T100000
DTEND;TZID=America/Toronto:20240317T190000
DTSTAMP:20260425T090738
CREATED:20240210T162657Z
LAST-MODIFIED:20240327T164900Z
UID:10001341-1710669600-1710702000@mosportkartingcentre.com
SUMMARY:MADRL Open House
DESCRIPTION:
URL:https://mosportkartingcentre.com/event/madrl-open-house-28/
LOCATION:Mosport Karting Centre\, 3233 Concession Rd10\, Bowmanville\, Ontario\, L1C3K6\, Canada
CATEGORIES:Arrive and Drive
ORGANIZER;CN="Mosport Karting Centre":MAILTO:info@mosportkartingcentre.com
END:VEVENT
BEGIN:VEVENT
DTSTART;VALUE=DATE:20240318
DTEND;VALUE=DATE:20240319
DTSTAMP:20260425T090738
CREATED:20220623T210045Z
LAST-MODIFIED:20220623T210158Z
UID:10000819-1710720000-1710806399@mosportkartingcentre.com
SUMMARY:TRACK CLOSED
DESCRIPTION:
URL:https://mosportkartingcentre.com/event/track-closed-2/2024-03-18/
LOCATION:Mosport Karting Centre\, 3233 Concession Rd10\, Bowmanville\, Ontario\, L1C3K6\, Canada
CATEGORIES:Closed
END:VEVENT
BEGIN:VEVENT
DTSTART;TZID=America/Toronto:20240319T100000
DTEND;TZID=America/Toronto:20240319T190000
DTSTAMP:20260425T090738
CREATED:20240210T162657Z
LAST-MODIFIED:20240327T164900Z
UID:10001342-1710842400-1710874800@mosportkartingcentre.com
SUMMARY:MADRL Open House
DESCRIPTION:
URL:https://mosportkartingcentre.com/event/madrl-open-house-27/
LOCATION:Mosport Karting Centre\, 3233 Concession Rd10\, Bowmanville\, Ontario\, L1C3K6\, Canada
CATEGORIES:Arrive and Drive
ORGANIZER;CN="Mosport Karting Centre":MAILTO:info@mosportkartingcentre.com
END:VEVENT
BEGIN:VEVENT
DTSTART;TZID=America/Toronto:20240320T100000
DTEND;TZID=America/Toronto:20240320T190000
DTSTAMP:20260425T090738
CREATED:20240210T162657Z
LAST-MODIFIED:20240327T164900Z
UID:10001343-1710928800-1710961200@mosportkartingcentre.com
SUMMARY:MADRL Open House
DESCRIPTION:
URL:https://mosportkartingcentre.com/event/madrl-open-house-26/
LOCATION:Mosport Karting Centre\, 3233 Concession Rd10\, Bowmanville\, Ontario\, L1C3K6\, Canada
CATEGORIES:Arrive and Drive
ORGANIZER;CN="Mosport Karting Centre":MAILTO:info@mosportkartingcentre.com
END:VEVENT
BEGIN:VEVENT
DTSTART;TZID=America/Toronto:20240321T100000
DTEND;TZID=America/Toronto:20240321T190000
DTSTAMP:20260425T090738
CREATED:20240210T162657Z
LAST-MODIFIED:20240327T164900Z
UID:10001344-1711015200-1711047600@mosportkartingcentre.com
SUMMARY:MADRL Open House
DESCRIPTION:
URL:https://mosportkartingcentre.com/event/madrl-open-house-25/
LOCATION:Mosport Karting Centre\, 3233 Concession Rd10\, Bowmanville\, Ontario\, L1C3K6\, Canada
CATEGORIES:Arrive and Drive
ORGANIZER;CN="Mosport Karting Centre":MAILTO:info@mosportkartingcentre.com
END:VEVENT
BEGIN:VEVENT
DTSTART;TZID=America/Toronto:20240322T100000
DTEND;TZID=America/Toronto:20240322T190000
DTSTAMP:20260425T090738
CREATED:20240210T162657Z
LAST-MODIFIED:20240327T164900Z
UID:10001345-1711101600-1711134000@mosportkartingcentre.com
SUMMARY:MADRL Open House
DESCRIPTION:
URL:https://mosportkartingcentre.com/event/madrl-open-house-24/
LOCATION:Mosport Karting Centre\, 3233 Concession Rd10\, Bowmanville\, Ontario\, L1C3K6\, Canada
CATEGORIES:Arrive and Drive
ORGANIZER;CN="Mosport Karting Centre":MAILTO:info@mosportkartingcentre.com
END:VEVENT
BEGIN:VEVENT
DTSTART;TZID=America/Toronto:20240323T100000
DTEND;TZID=America/Toronto:20240323T150000
DTSTAMP:20260425T090738
CREATED:20240206T190747Z
LAST-MODIFIED:20240327T164900Z
UID:10001428-1711188000-1711206000@mosportkartingcentre.com
SUMMARY:MIKA General Meeting
DESCRIPTION:
URL:https://mosportkartingcentre.com/event/mika-general-meeting-2/
LOCATION:CTMP – Conference Center\, 3233 Concession Rd 10\, Bowmanville\, Ontario\, L1C3K6\, Canada
CATEGORIES:MIKA
ORGANIZER;CN="Mosport Karting Centre":MAILTO:info@mosportkartingcentre.com
END:VEVENT
BEGIN:VEVENT
DTSTART;TZID=America/Toronto:20240323T100000
DTEND;TZID=America/Toronto:20240323T190000
DTSTAMP:20260425T090738
CREATED:20240210T162647Z
LAST-MODIFIED:20240327T164838Z
UID:10001346-1711188000-1711220400@mosportkartingcentre.com
SUMMARY:MADRL Open House
DESCRIPTION:
URL:https://mosportkartingcentre.com/event/madrl-open-house-23/
LOCATION:Mosport Karting Centre\, 3233 Concession Rd10\, Bowmanville\, Ontario\, L1C3K6\, Canada
CATEGORIES:Arrive and Drive
ORGANIZER;CN="Mosport Karting Centre":MAILTO:info@mosportkartingcentre.com
END:VEVENT
BEGIN:VEVENT
DTSTART;TZID=America/Toronto:20240324T100000
DTEND;TZID=America/Toronto:20240324T190000
DTSTAMP:20260425T090738
CREATED:20240210T162647Z
LAST-MODIFIED:20240327T164838Z
UID:10001347-1711274400-1711306800@mosportkartingcentre.com
SUMMARY:MADRL Open House
DESCRIPTION:
URL:https://mosportkartingcentre.com/event/madrl-open-house-22/
LOCATION:Mosport Karting Centre\, 3233 Concession Rd10\, Bowmanville\, Ontario\, L1C3K6\, Canada
CATEGORIES:Arrive and Drive
ORGANIZER;CN="Mosport Karting Centre":MAILTO:info@mosportkartingcentre.com
END:VEVENT
BEGIN:VEVENT
DTSTART;VALUE=DATE:20240325
DTEND;VALUE=DATE:20240326
DTSTAMP:20260425T090738
CREATED:20220623T210045Z
LAST-MODIFIED:20220623T210158Z
UID:10000820-1711324800-1711411199@mosportkartingcentre.com
SUMMARY:TRACK CLOSED
DESCRIPTION:
URL:https://mosportkartingcentre.com/event/track-closed-2/2024-03-25/
LOCATION:Mosport Karting Centre\, 3233 Concession Rd10\, Bowmanville\, Ontario\, L1C3K6\, Canada
CATEGORIES:Closed
END:VEVENT
BEGIN:VEVENT
DTSTART;TZID=America/Toronto:20240326T100000
DTEND;TZID=America/Toronto:20240326T190000
DTSTAMP:20260425T090738
CREATED:20240210T162647Z
LAST-MODIFIED:20240327T164838Z
UID:10001348-1711447200-1711479600@mosportkartingcentre.com
SUMMARY:MADRL Open House
DESCRIPTION:
URL:https://mosportkartingcentre.com/event/madrl-open-house-21/
LOCATION:Mosport Karting Centre\, 3233 Concession Rd10\, Bowmanville\, Ontario\, L1C3K6\, Canada
CATEGORIES:Arrive and Drive
ORGANIZER;CN="Mosport Karting Centre":MAILTO:info@mosportkartingcentre.com
END:VEVENT
BEGIN:VEVENT
DTSTART;TZID=America/Toronto:20240327T100000
DTEND;TZID=America/Toronto:20240327T190000
DTSTAMP:20260425T090738
CREATED:20240210T162647Z
LAST-MODIFIED:20240327T164838Z
UID:10001349-1711533600-1711566000@mosportkartingcentre.com
SUMMARY:MADRL Open House
DESCRIPTION:
URL:https://mosportkartingcentre.com/event/madrl-open-house-20/
LOCATION:Mosport Karting Centre\, 3233 Concession Rd10\, Bowmanville\, Ontario\, L1C3K6\, Canada
CATEGORIES:Arrive and Drive
ORGANIZER;CN="Mosport Karting Centre":MAILTO:info@mosportkartingcentre.com
END:VEVENT
BEGIN:VEVENT
DTSTART;TZID=America/Toronto:20240328T100000
DTEND;TZID=America/Toronto:20240328T190000
DTSTAMP:20260425T090738
CREATED:20240210T162647Z
LAST-MODIFIED:20240327T164838Z
UID:10001350-1711620000-1711652400@mosportkartingcentre.com
SUMMARY:MADRL Open House
DESCRIPTION:
URL:https://mosportkartingcentre.com/event/madrl-open-house-19/
LOCATION:Mosport Karting Centre\, 3233 Concession Rd10\, Bowmanville\, Ontario\, L1C3K6\, Canada
CATEGORIES:Arrive and Drive
ORGANIZER;CN="Mosport Karting Centre":MAILTO:info@mosportkartingcentre.com
END:VEVENT
BEGIN:VEVENT
DTSTART;TZID=America/Toronto:20240329T100000
DTEND;TZID=America/Toronto:20240329T190000
DTSTAMP:20260425T090738
CREATED:20240210T162647Z
LAST-MODIFIED:20240327T164838Z
UID:10001351-1711706400-1711738800@mosportkartingcentre.com
SUMMARY:MADRL Open House
DESCRIPTION:
URL:https://mosportkartingcentre.com/event/madrl-open-house-18/
LOCATION:Mosport Karting Centre\, 3233 Concession Rd10\, Bowmanville\, Ontario\, L1C3K6\, Canada
CATEGORIES:Arrive and Drive
ORGANIZER;CN="Mosport Karting Centre":MAILTO:info@mosportkartingcentre.com
END:VEVENT
BEGIN:VEVENT
DTSTART;TZID=America/Toronto:20240330T100000
DTEND;TZID=America/Toronto:20240330T190000
DTSTAMP:20260425T090738
CREATED:20240210T162647Z
LAST-MODIFIED:20240327T164838Z
UID:10001352-1711792800-1711825200@mosportkartingcentre.com
SUMMARY:MADRL Open House
DESCRIPTION:
URL:https://mosportkartingcentre.com/event/madrl-open-house-17/
LOCATION:Mosport Karting Centre\, 3233 Concession Rd10\, Bowmanville\, Ontario\, L1C3K6\, Canada
CATEGORIES:Arrive and Drive
ORGANIZER;CN="Mosport Karting Centre":MAILTO:info@mosportkartingcentre.com
END:VEVENT
BEGIN:VEVENT
DTSTART;TZID=America/Toronto:20240331T100000
DTEND;TZID=America/Toronto:20240331T190000
DTSTAMP:20260425T090738
CREATED:20240210T162647Z
LAST-MODIFIED:20240327T164838Z
UID:10001353-1711879200-1711911600@mosportkartingcentre.com
SUMMARY:MADRL Open House
DESCRIPTION:
URL:https://mosportkartingcentre.com/event/madrl-open-house-16/
LOCATION:Mosport Karting Centre\, 3233 Concession Rd10\, Bowmanville\, Ontario\, L1C3K6\, Canada
CATEGORIES:Arrive and Drive
ORGANIZER;CN="Mosport Karting Centre":MAILTO:info@mosportkartingcentre.com
END:VEVENT
BEGIN:VEVENT
DTSTART;VALUE=DATE:20240401
DTEND;VALUE=DATE:20240402
DTSTAMP:20260425T090738
CREATED:20220623T210045Z
LAST-MODIFIED:20220623T210158Z
UID:10000821-1711929600-1712015999@mosportkartingcentre.com
SUMMARY:TRACK CLOSED
DESCRIPTION:
URL:https://mosportkartingcentre.com/event/track-closed-2/2024-04-01/
LOCATION:Mosport Karting Centre\, 3233 Concession Rd10\, Bowmanville\, Ontario\, L1C3K6\, Canada
CATEGORIES:Closed
END:VEVENT
BEGIN:VEVENT
DTSTART;TZID=America/Toronto:20240401T100000
DTEND;TZID=America/Toronto:20240401T190000
DTSTAMP:20260425T090738
CREATED:20240210T162647Z
LAST-MODIFIED:20240327T164838Z
UID:10001354-1711965600-1711998000@mosportkartingcentre.com
SUMMARY:MADRL Open House
DESCRIPTION:
URL:https://mosportkartingcentre.com/event/madrl-open-house-15/
LOCATION:Mosport Karting Centre\, 3233 Concession Rd10\, Bowmanville\, Ontario\, L1C3K6\, Canada
CATEGORIES:Arrive and Drive
ORGANIZER;CN="Mosport Karting Centre":MAILTO:info@mosportkartingcentre.com
END:VEVENT
BEGIN:VEVENT
DTSTART;TZID=America/Toronto:20240402T100000
DTEND;TZID=America/Toronto:20240402T190000
DTSTAMP:20260425T090738
CREATED:20240327T170413Z
LAST-MODIFIED:20240401T141701Z
UID:10001448-1712052000-1712084400@mosportkartingcentre.com
SUMMARY:Open Practice
DESCRIPTION:
URL:https://mosportkartingcentre.com/event/open-practice-147/
LOCATION:Mosport Karting Centre\, 3233 Concession Rd10\, Bowmanville\, Ontario\, L1C3K6\, Canada
CATEGORIES:Open Practice
ORGANIZER;CN="Mosport Karting Centre":MAILTO:info@mosportkartingcentre.com
END:VEVENT
BEGIN:VEVENT
DTSTART;TZID=America/Toronto:20240403T100000
DTEND;TZID=America/Toronto:20240403T190000
DTSTAMP:20260425T090738
CREATED:20240327T170945Z
LAST-MODIFIED:20240327T170945Z
UID:10001449-1712138400-1712170800@mosportkartingcentre.com
SUMMARY:Open Practice
DESCRIPTION:
URL:https://mosportkartingcentre.com/event/open-practice-148/
LOCATION:Mosport Karting Centre\, 3233 Concession Rd10\, Bowmanville\, Ontario\, L1C3K6\, Canada
CATEGORIES:Open Practice
ORGANIZER;CN="Mosport Karting Centre":MAILTO:info@mosportkartingcentre.com
END:VEVENT
BEGIN:VEVENT
DTSTART;TZID=America/Toronto:20240404T100000
DTEND;TZID=America/Toronto:20240404T190000
DTSTAMP:20260425T090738
CREATED:20240327T171402Z
LAST-MODIFIED:20240327T171402Z
UID:10001450-1712224800-1712257200@mosportkartingcentre.com
SUMMARY:Open Practice
DESCRIPTION:
URL:https://mosportkartingcentre.com/event/open-practice-149/
LOCATION:Mosport Karting Centre\, 3233 Concession Rd10\, Bowmanville\, Ontario\, L1C3K6\, Canada
CATEGORIES:Open Practice
ORGANIZER;CN="Mosport Karting Centre":MAILTO:info@mosportkartingcentre.com
END:VEVENT
BEGIN:VEVENT
DTSTART;TZID=America/Toronto:20240405T100000
DTEND;TZID=America/Toronto:20240405T190000
DTSTAMP:20260425T090738
CREATED:20240327T171440Z
LAST-MODIFIED:20240327T171440Z
UID:10001451-1712311200-1712343600@mosportkartingcentre.com
SUMMARY:Open Practice
DESCRIPTION:
URL:https://mosportkartingcentre.com/event/open-practice-150/
LOCATION:Mosport Karting Centre\, 3233 Concession Rd10\, Bowmanville\, Ontario\, L1C3K6\, Canada
CATEGORIES:Open Practice
ORGANIZER;CN="Mosport Karting Centre":MAILTO:info@mosportkartingcentre.com
END:VEVENT
END:VCALENDAR