BEGIN:VCALENDAR
VERSION:2.0
PRODID:-//Mosport Karting Centre - ECPv6.15.20//NONSGML v1.0//EN
CALSCALE:GREGORIAN
METHOD:PUBLISH
X-ORIGINAL-URL:https://mosportkartingcentre.com
X-WR-CALDESC:Events for Mosport Karting Centre
REFRESH-INTERVAL;VALUE=DURATION:PT1H
X-Robots-Tag:noindex
X-PUBLISHED-TTL:PT1H
BEGIN:VTIMEZONE
TZID:America/Toronto
BEGIN:DAYLIGHT
TZOFFSETFROM:-0500
TZOFFSETTO:-0400
TZNAME:EDT
DTSTART:20240310T070000
END:DAYLIGHT
BEGIN:STANDARD
TZOFFSETFROM:-0400
TZOFFSETTO:-0500
TZNAME:EST
DTSTART:20241103T060000
END:STANDARD
BEGIN:DAYLIGHT
TZOFFSETFROM:-0500
TZOFFSETTO:-0400
TZNAME:EDT
DTSTART:20250309T070000
END:DAYLIGHT
BEGIN:STANDARD
TZOFFSETFROM:-0400
TZOFFSETTO:-0500
TZNAME:EST
DTSTART:20251102T060000
END:STANDARD
BEGIN:DAYLIGHT
TZOFFSETFROM:-0500
TZOFFSETTO:-0400
TZNAME:EDT
DTSTART:20260308T070000
END:DAYLIGHT
BEGIN:STANDARD
TZOFFSETFROM:-0400
TZOFFSETTO:-0500
TZNAME:EST
DTSTART:20261101T060000
END:STANDARD
END:VTIMEZONE
BEGIN:VEVENT
DTSTART;TZID=America/Toronto:20250528T100000
DTEND;TZID=America/Toronto:20250528T163000
DTSTAMP:20260425T104151
CREATED:20250426T184329Z
LAST-MODIFIED:20250426T184329Z
UID:10002060-1748426400-1748449800@mosportkartingcentre.com
SUMMARY:Open Practice
DESCRIPTION:
URL:https://mosportkartingcentre.com/event/open-practice-310/
LOCATION:Mosport Karting Centre\, 3233 Concession Rd10\, Bowmanville\, Ontario\, L1C3K6\, Canada
CATEGORIES:Open Practice
END:VEVENT
BEGIN:VEVENT
DTSTART;TZID=America/Toronto:20250528T170000
DTEND;TZID=America/Toronto:20250528T200000
DTSTAMP:20260425T104151
CREATED:20250212T234549Z
LAST-MODIFIED:20250212T234549Z
UID:10001928-1748451600-1748462400@mosportkartingcentre.com
SUMMARY:MADRL Schedule 2 Race 2
DESCRIPTION:
URL:https://mosportkartingcentre.com/event/madrl-schedule-2-race-2-3/
LOCATION:Mosport Karting Centre\, 3233 Concession Rd10\, Bowmanville\, Ontario\, L1C3K6\, Canada
CATEGORIES:Arrive and Drive
ORGANIZER;CN="Mosport Karting Centre":MAILTO:info@mosportkartingcentre.com
END:VEVENT
BEGIN:VEVENT
DTSTART;TZID=America/Toronto:20250529T100000
DTEND;TZID=America/Toronto:20250529T163000
DTSTAMP:20260425T104151
CREATED:20250520T173557Z
LAST-MODIFIED:20250520T173557Z
UID:10002067-1748512800-1748536200@mosportkartingcentre.com
SUMMARY:Open Practice
DESCRIPTION:
URL:https://mosportkartingcentre.com/event/open-practice-313/
LOCATION:Mosport Karting Centre\, 3233 Concession Rd10\, Bowmanville\, Ontario\, L1C3K6\, Canada
CATEGORIES:Open Practice
ORGANIZER;CN="Mosport Karting Centre":MAILTO:info@mosportkartingcentre.com
END:VEVENT
BEGIN:VEVENT
DTSTART;TZID=America/Toronto:20250529T163000
DTEND;TZID=America/Toronto:20250529T193000
DTSTAMP:20260425T104151
CREATED:20250426T185042Z
LAST-MODIFIED:20250520T173656Z
UID:10002065-1748536200-1748547000@mosportkartingcentre.com
SUMMARY:Group Event
DESCRIPTION:
URL:https://mosportkartingcentre.com/event/group-event-100/
LOCATION:Mosport Karting Centre\, 3233 Concession Rd10\, Bowmanville\, Ontario\, L1C3K6\, Canada
CATEGORIES:Group Events
ORGANIZER;CN="Mosport Karting Centre":MAILTO:info@mosportkartingcentre.com
END:VEVENT
BEGIN:VEVENT
DTSTART;TZID=America/Toronto:20250530T100000
DTEND;TZID=America/Toronto:20250530T130000
DTSTAMP:20260425T104151
CREATED:20250426T184452Z
LAST-MODIFIED:20250520T173821Z
UID:10002061-1748599200-1748610000@mosportkartingcentre.com
SUMMARY:Open Practice
DESCRIPTION:
URL:https://mosportkartingcentre.com/event/open-practice-311/
LOCATION:Mosport Karting Centre\, 3233 Concession Rd10\, Bowmanville\, Ontario\, L1C3K6\, Canada
CATEGORIES:Open Practice
ORGANIZER;CN="Mosport Karting Centre":MAILTO:info@mosportkartingcentre.com
END:VEVENT
BEGIN:VEVENT
DTSTART;TZID=America/Toronto:20250530T130000
DTEND;TZID=America/Toronto:20250530T163000
DTSTAMP:20260425T104151
CREATED:20250430T234935Z
LAST-MODIFIED:20250520T173914Z
UID:10002066-1748610000-1748622600@mosportkartingcentre.com
SUMMARY:Group Event
DESCRIPTION:
URL:https://mosportkartingcentre.com/event/group-event-101/
LOCATION:Mosport Karting Centre\, 3233 Concession Rd10\, Bowmanville\, Ontario\, L1C3K6\, Canada
CATEGORIES:Group Events
ORGANIZER;CN="Mosport Karting Centre":MAILTO:info@mosportkartingcentre.com
END:VEVENT
BEGIN:VEVENT
DTSTART;TZID=America/Toronto:20250530T170000
DTEND;TZID=America/Toronto:20250530T190000
DTSTAMP:20260425T104151
CREATED:20250520T174110Z
LAST-MODIFIED:20250520T174110Z
UID:10002068-1748624400-1748631600@mosportkartingcentre.com
SUMMARY:MADRL Option 1 & Option 2 Practice
DESCRIPTION:
URL:https://mosportkartingcentre.com/event/madrl-option-1-option-2-practice-108/
LOCATION:Mosport Karting Centre\, 3233 Concession Rd10\, Bowmanville\, Ontario\, L1C3K6\, Canada
CATEGORIES:Arrive and Drive
ORGANIZER;CN="Mosport Karting Centre":MAILTO:info@mosportkartingcentre.com
END:VEVENT
BEGIN:VEVENT
DTSTART;TZID=America/Toronto:20250531T100000
DTEND;TZID=America/Toronto:20250531T130000
DTSTAMP:20260425T104151
CREATED:20250213T003259Z
LAST-MODIFIED:20250213T003259Z
UID:10001952-1748685600-1748696400@mosportkartingcentre.com
SUMMARY:MADRL Schedule 3 Race 2
DESCRIPTION:
URL:https://mosportkartingcentre.com/event/madrl-schedule-3-race-2-3/
LOCATION:Mosport Karting Centre\, 3233 Concession Rd10\, Bowmanville\, Ontario\, L1C3K6\, Canada
CATEGORIES:Arrive and Drive
ORGANIZER;CN="Mosport Karting Centre":MAILTO:info@mosportkartingcentre.com
END:VEVENT
BEGIN:VEVENT
DTSTART;TZID=America/Toronto:20250531T130000
DTEND;TZID=America/Toronto:20250531T180000
DTSTAMP:20260425T104151
CREATED:20250426T184638Z
LAST-MODIFIED:20250426T184638Z
UID:10002063-1748696400-1748714400@mosportkartingcentre.com
SUMMARY:Open Practice
DESCRIPTION:
URL:https://mosportkartingcentre.com/event/open-practice-312/
LOCATION:Mosport Karting Centre\, 3233 Concession Rd10\, Bowmanville\, Ontario\, L1C3K6\, Canada
CATEGORIES:Open Practice
END:VEVENT
BEGIN:VEVENT
DTSTART;TZID=America/Toronto:20250601T090000
DTEND;TZID=America/Toronto:20250601T170000
DTSTAMP:20260425T104151
CREATED:20250223T002027Z
LAST-MODIFIED:20250223T002027Z
UID:10001992-1748768400-1748797200@mosportkartingcentre.com
SUMMARY:MIKA Race 6
DESCRIPTION:
URL:https://mosportkartingcentre.com/event/mika-race-6-5/
LOCATION:Mosport Karting Centre\, 3233 Concession Rd10\, Bowmanville\, Ontario\, L1C3K6\, Canada
CATEGORIES:MIKA
END:VEVENT
BEGIN:VEVENT
DTSTART;TZID=America/Toronto:20250601T170000
DTEND;TZID=America/Toronto:20250601T200000
DTSTAMP:20260425T104151
CREATED:20250213T000655Z
LAST-MODIFIED:20250213T000655Z
UID:10001940-1748797200-1748808000@mosportkartingcentre.com
SUMMARY:MADRL Schedule 4 Race 2
DESCRIPTION:
URL:https://mosportkartingcentre.com/event/madrl-schedule-4-race-2-3/
LOCATION:Mosport Karting Centre\, 3233 Concession Rd10\, Bowmanville\, Ontario\, L1C3K6\, Canada
CATEGORIES:Arrive and Drive
ORGANIZER;CN="Mosport Karting Centre":MAILTO:info@mosportkartingcentre.com
END:VEVENT
BEGIN:VEVENT
DTSTART;VALUE=DATE:20250602
DTEND;VALUE=DATE:20250603
DTSTAMP:20260425T104151
CREATED:20250211T230544Z
LAST-MODIFIED:20250211T230544Z
UID:10001881-1748822400-1748908799@mosportkartingcentre.com
SUMMARY:Track Closed
DESCRIPTION:
URL:https://mosportkartingcentre.com/event/track-closed-38/
LOCATION:Mosport Karting Centre\, 3233 Concession Rd10\, Bowmanville\, Ontario\, L1C3K6\, Canada
CATEGORIES:Closed
ORGANIZER;CN="Mosport Karting Centre":MAILTO:info@mosportkartingcentre.com
END:VEVENT
BEGIN:VEVENT
DTSTART;TZID=America/Toronto:20250603T100000
DTEND;TZID=America/Toronto:20250603T163000
DTSTAMP:20260425T104151
CREATED:20250520T192914Z
LAST-MODIFIED:20250520T192914Z
UID:10002069-1748944800-1748968200@mosportkartingcentre.com
SUMMARY:Open Practice
DESCRIPTION:
URL:https://mosportkartingcentre.com/event/open-practice-314/
LOCATION:Mosport Karting Centre\, 3233 Concession Rd10\, Bowmanville\, Ontario\, L1C3K6\, Canada
CATEGORIES:Open Practice
END:VEVENT
BEGIN:VEVENT
DTSTART;TZID=America/Toronto:20250603T170000
DTEND;TZID=America/Toronto:20250603T190000
DTSTAMP:20260425T104151
CREATED:20250520T193004Z
LAST-MODIFIED:20250520T193004Z
UID:10002070-1748970000-1748977200@mosportkartingcentre.com
SUMMARY:MADRL Option 1 & Option 2 Practice
DESCRIPTION:
URL:https://mosportkartingcentre.com/event/madrl-option-1-option-2-practice-109/
LOCATION:Mosport Karting Centre\, 3233 Concession Rd10\, Bowmanville\, Ontario\, L1C3K6\, Canada
CATEGORIES:Arrive and Drive
END:VEVENT
BEGIN:VEVENT
DTSTART;TZID=America/Toronto:20250604T100000
DTEND;TZID=America/Toronto:20250604T130000
DTSTAMP:20260425T104151
CREATED:20250520T193146Z
LAST-MODIFIED:20250520T193146Z
UID:10002072-1749031200-1749042000@mosportkartingcentre.com
SUMMARY:Group Event
DESCRIPTION:
URL:https://mosportkartingcentre.com/event/group-event-99/
LOCATION:Mosport Karting Centre\, 3233 Concession Rd10\, Bowmanville\, Ontario\, L1C3K6\, Canada
CATEGORIES:Group Events
END:VEVENT
BEGIN:VEVENT
DTSTART;TZID=America/Toronto:20250604T100000
DTEND;TZID=America/Toronto:20250604T130000
DTSTAMP:20260425T104151
CREATED:20250520T193315Z
LAST-MODIFIED:20250520T193315Z
UID:10002074-1749031200-1749042000@mosportkartingcentre.com
SUMMARY:Open Practice
DESCRIPTION:
URL:https://mosportkartingcentre.com/event/open-practice-315/
LOCATION:Mosport Karting Centre\, 3233 Concession Rd10\, Bowmanville\, Ontario\, L1C3K6\, Canada
CATEGORIES:Open Practice
END:VEVENT
BEGIN:VEVENT
DTSTART;TZID=America/Toronto:20250604T130000
DTEND;TZID=America/Toronto:20250604T160000
DTSTAMP:20260425T104151
CREATED:20250520T193226Z
LAST-MODIFIED:20250520T193226Z
UID:10002073-1749042000-1749052800@mosportkartingcentre.com
SUMMARY:Group Event
DESCRIPTION:
URL:https://mosportkartingcentre.com/event/group-event-102/
LOCATION:Mosport Karting Centre\, 3233 Concession Rd10\, Bowmanville\, Ontario\, L1C3K6\, Canada
CATEGORIES:Group Events
END:VEVENT
BEGIN:VEVENT
DTSTART;TZID=America/Toronto:20250604T170000
DTEND;TZID=America/Toronto:20250604T190000
DTSTAMP:20260425T104151
CREATED:20250520T193116Z
LAST-MODIFIED:20250520T193116Z
UID:10002071-1749056400-1749063600@mosportkartingcentre.com
SUMMARY:MADRL Option 1 & Option 2
DESCRIPTION:
URL:https://mosportkartingcentre.com/event/madrl-option-1-option-2-12/
LOCATION:Mosport Karting Centre\, 3233 Concession Rd10\, Bowmanville\, Ontario\, L1C3K6\, Canada
CATEGORIES:Arrive and Drive
END:VEVENT
BEGIN:VEVENT
DTSTART;TZID=America/Toronto:20250605T100000
DTEND;TZID=America/Toronto:20250605T163000
DTSTAMP:20260425T104151
CREATED:20250520T193408Z
LAST-MODIFIED:20250520T193408Z
UID:10002075-1749117600-1749141000@mosportkartingcentre.com
SUMMARY:Open Practice
DESCRIPTION:
URL:https://mosportkartingcentre.com/event/open-practice-316/
LOCATION:Mosport Karting Centre\, 3233 Concession Rd10\, Bowmanville\, Ontario\, L1C3K6\, Canada
CATEGORIES:Open Practice
END:VEVENT
BEGIN:VEVENT
DTSTART;TZID=America/Toronto:20250605T170000
DTEND;TZID=America/Toronto:20250605T190000
DTSTAMP:20260425T104151
CREATED:20250520T193448Z
LAST-MODIFIED:20250520T193448Z
UID:10002076-1749142800-1749150000@mosportkartingcentre.com
SUMMARY:MADRL Option 1 & Option 2 Practice
DESCRIPTION:
URL:https://mosportkartingcentre.com/event/madrl-option-1-option-2-practice-110/
LOCATION:Mosport Karting Centre\, 3233 Concession Rd10\, Bowmanville\, Ontario\, L1C3K6\, Canada
CATEGORIES:Arrive and Drive
END:VEVENT
BEGIN:VEVENT
DTSTART;TZID=America/Toronto:20250606T100000
DTEND;TZID=America/Toronto:20250606T160000
DTSTAMP:20260425T104151
CREATED:20250520T193550Z
LAST-MODIFIED:20250520T193550Z
UID:10002077-1749204000-1749225600@mosportkartingcentre.com
SUMMARY:Open Practice
DESCRIPTION:
URL:https://mosportkartingcentre.com/event/open-practice-317/
LOCATION:Mosport Karting Centre\, 3233 Concession Rd10\, Bowmanville\, Ontario\, L1C3K6\, Canada
CATEGORIES:Open Practice
END:VEVENT
BEGIN:VEVENT
DTSTART;TZID=America/Toronto:20250606T160000
DTEND;TZID=America/Toronto:20250606T190000
DTSTAMP:20260425T104151
CREATED:20250520T193625Z
LAST-MODIFIED:20250520T193625Z
UID:10002078-1749225600-1749236400@mosportkartingcentre.com
SUMMARY:Group Event
DESCRIPTION:
URL:https://mosportkartingcentre.com/event/group-event-103/
LOCATION:Mosport Karting Centre\, 3233 Concession Rd10\, Bowmanville\, Ontario\, L1C3K6\, Canada
CATEGORIES:Group Events
END:VEVENT
BEGIN:VEVENT
DTSTART;TZID=America/Toronto:20250607T100000
DTEND;TZID=America/Toronto:20250607T130000
DTSTAMP:20260425T104151
CREATED:20250520T193716Z
LAST-MODIFIED:20250520T193716Z
UID:10002079-1749290400-1749301200@mosportkartingcentre.com
SUMMARY:Group Event
DESCRIPTION:
URL:https://mosportkartingcentre.com/event/group-event-104/
LOCATION:Mosport Karting Centre\, 3233 Concession Rd10\, Bowmanville\, Ontario\, L1C3K6\, Canada
CATEGORIES:Group Events
END:VEVENT
BEGIN:VEVENT
DTSTART;TZID=America/Toronto:20250607T130000
DTEND;TZID=America/Toronto:20250607T160000
DTSTAMP:20260425T104151
CREATED:20250520T193753Z
LAST-MODIFIED:20250520T193753Z
UID:10002080-1749301200-1749312000@mosportkartingcentre.com
SUMMARY:Group Event
DESCRIPTION:
URL:https://mosportkartingcentre.com/event/group-event-105/
LOCATION:Mosport Karting Centre\, 3233 Concession Rd10\, Bowmanville\, Ontario\, L1C3K6\, Canada
CATEGORIES:Group Events
END:VEVENT
BEGIN:VEVENT
DTSTART;TZID=America/Toronto:20250607T160000
DTEND;TZID=America/Toronto:20250607T190000
DTSTAMP:20260425T104151
CREATED:20250520T193823Z
LAST-MODIFIED:20250520T193823Z
UID:10002081-1749312000-1749322800@mosportkartingcentre.com
SUMMARY:Group Event
DESCRIPTION:
URL:https://mosportkartingcentre.com/event/group-event-106/
LOCATION:Mosport Karting Centre\, 3233 Concession Rd10\, Bowmanville\, Ontario\, L1C3K6\, Canada
CATEGORIES:Group Events
END:VEVENT
BEGIN:VEVENT
DTSTART;TZID=America/Toronto:20250608T100000
DTEND;TZID=America/Toronto:20250608T130000
DTSTAMP:20260425T104151
CREATED:20250520T193923Z
LAST-MODIFIED:20250520T193923Z
UID:10002082-1749376800-1749387600@mosportkartingcentre.com
SUMMARY:Group Event
DESCRIPTION:
URL:https://mosportkartingcentre.com/event/group-event-107/
LOCATION:Mosport Karting Centre\, 3233 Concession Rd10\, Bowmanville\, Ontario\, L1C3K6\, Canada
CATEGORIES:Group Events
END:VEVENT
BEGIN:VEVENT
DTSTART;TZID=America/Toronto:20250608T100000
DTEND;TZID=America/Toronto:20250608T180000
DTSTAMP:20260425T104151
CREATED:20250520T194033Z
LAST-MODIFIED:20250520T194033Z
UID:10002084-1749376800-1749405600@mosportkartingcentre.com
SUMMARY:Open Practice
DESCRIPTION:
URL:https://mosportkartingcentre.com/event/open-practice-318/
LOCATION:Mosport Karting Centre\, 3233 Concession Rd10\, Bowmanville\, Ontario\, L1C3K6\, Canada
CATEGORIES:Open Practice
END:VEVENT
BEGIN:VEVENT
DTSTART;TZID=America/Toronto:20250608T130000
DTEND;TZID=America/Toronto:20250608T160000
DTSTAMP:20260425T104151
CREATED:20250606T195210Z
LAST-MODIFIED:20250606T195210Z
UID:10002117-1749387600-1749398400@mosportkartingcentre.com
SUMMARY:Group Event
DESCRIPTION:
URL:https://mosportkartingcentre.com/event/group-event-97/
LOCATION:Mosport Karting Centre\, 3233 Concession Rd10\, Bowmanville\, Ontario\, L1C3K6\, Canada
CATEGORIES:Group Events
END:VEVENT
BEGIN:VEVENT
DTSTART;TZID=America/Toronto:20250608T160000
DTEND;TZID=America/Toronto:20250608T190000
DTSTAMP:20260425T104151
CREATED:20250520T193959Z
LAST-MODIFIED:20250520T193959Z
UID:10002083-1749398400-1749409200@mosportkartingcentre.com
SUMMARY:Group Event
DESCRIPTION:
URL:https://mosportkartingcentre.com/event/group-event-108/
LOCATION:Mosport Karting Centre\, 3233 Concession Rd10\, Bowmanville\, Ontario\, L1C3K6\, Canada
CATEGORIES:Group Events
END:VEVENT
BEGIN:VEVENT
DTSTART;VALUE=DATE:20250609
DTEND;VALUE=DATE:20250610
DTSTAMP:20260425T104151
CREATED:20250211T230655Z
LAST-MODIFIED:20250211T230655Z
UID:10001882-1749427200-1749513599@mosportkartingcentre.com
SUMMARY:Track Closed
DESCRIPTION:
URL:https://mosportkartingcentre.com/event/track-closed-39/
LOCATION:Mosport Karting Centre\, 3233 Concession Rd10\, Bowmanville\, Ontario\, L1C3K6\, Canada
CATEGORIES:Closed
ORGANIZER;CN="Mosport Karting Centre":MAILTO:info@mosportkartingcentre.com
END:VEVENT
END:VCALENDAR