BEGIN:VCALENDAR
VERSION:2.0
PRODID:-//Mosport Karting Centre - ECPv6.15.20//NONSGML v1.0//EN
CALSCALE:GREGORIAN
METHOD:PUBLISH
X-ORIGINAL-URL:https://mosportkartingcentre.com
X-WR-CALDESC:Events for Mosport Karting Centre
REFRESH-INTERVAL;VALUE=DURATION:PT1H
X-Robots-Tag:noindex
X-PUBLISHED-TTL:PT1H
BEGIN:VTIMEZONE
TZID:America/Toronto
BEGIN:DAYLIGHT
TZOFFSETFROM:-0500
TZOFFSETTO:-0400
TZNAME:EDT
DTSTART:20250309T070000
END:DAYLIGHT
BEGIN:STANDARD
TZOFFSETFROM:-0400
TZOFFSETTO:-0500
TZNAME:EST
DTSTART:20251102T060000
END:STANDARD
BEGIN:DAYLIGHT
TZOFFSETFROM:-0500
TZOFFSETTO:-0400
TZNAME:EDT
DTSTART:20260308T070000
END:DAYLIGHT
BEGIN:STANDARD
TZOFFSETFROM:-0400
TZOFFSETTO:-0500
TZNAME:EST
DTSTART:20261101T060000
END:STANDARD
BEGIN:DAYLIGHT
TZOFFSETFROM:-0500
TZOFFSETTO:-0400
TZNAME:EDT
DTSTART:20270314T070000
END:DAYLIGHT
BEGIN:STANDARD
TZOFFSETFROM:-0400
TZOFFSETTO:-0500
TZNAME:EST
DTSTART:20271107T060000
END:STANDARD
END:VTIMEZONE
BEGIN:VEVENT
DTSTART;TZID=America/Toronto:20260502T100000
DTEND;TZID=America/Toronto:20260502T120000
DTSTAMP:20260419T143849
CREATED:20260215T181306Z
LAST-MODIFIED:20260215T182336Z
UID:10002385-1777716000-1777723200@mosportkartingcentre.com
SUMMARY:MADRL Pre-Season Rookie Training
DESCRIPTION:
URL:https://mosportkartingcentre.com/event/madrl-open-house-98/
LOCATION:Mosport Karting Centre\, 3233 Concession Rd10\, Bowmanville\, Ontario\, L1C3K6\, Canada
CATEGORIES:Arrive and Drive
END:VEVENT
BEGIN:VEVENT
DTSTART;TZID=America/Toronto:20260502T120000
DTEND;TZID=America/Toronto:20260502T180000
DTSTAMP:20260419T143849
CREATED:20260418T212204Z
LAST-MODIFIED:20260418T212204Z
UID:10002507-1777723200-1777744800@mosportkartingcentre.com
SUMMARY:Open Practice
DESCRIPTION:
URL:https://mosportkartingcentre.com/event/open-practice-425/
LOCATION:Mosport Karting Centre\, 3233 Concession Rd10\, Bowmanville\, Ontario\, L1C3K6\, Canada
CATEGORIES:Open Practice
END:VEVENT
BEGIN:VEVENT
DTSTART;TZID=America/Toronto:20260503T080000
DTEND;TZID=America/Toronto:20260503T170000
DTSTAMP:20260419T143849
CREATED:20260225T160213Z
LAST-MODIFIED:20260225T160213Z
UID:10002463-1777795200-1777827600@mosportkartingcentre.com
SUMMARY:MIKA Race 2
DESCRIPTION:
URL:https://mosportkartingcentre.com/event/mika-race-2-4/
LOCATION:Mosport Karting Centre\, 3233 Concession Rd10\, Bowmanville\, Ontario\, L1C3K6\, Canada
CATEGORIES:MIKA
END:VEVENT
BEGIN:VEVENT
DTSTART;VALUE=DATE:20260504
DTEND;VALUE=DATE:20260505
DTSTAMP:20260419T143849
CREATED:20260208T171221Z
LAST-MODIFIED:20260208T171805Z
UID:10002310-1777852800-1777939199@mosportkartingcentre.com
SUMMARY:Track Closed
DESCRIPTION:
URL:https://mosportkartingcentre.com/event/track-closed-60/
LOCATION:Mosport Karting Centre\, 3233 Concession Rd10\, Bowmanville\, Ontario\, L1C3K6\, Canada
CATEGORIES:Closed
END:VEVENT
BEGIN:VEVENT
DTSTART;TZID=America/Toronto:20260505T100000
DTEND;TZID=America/Toronto:20260505T163000
DTSTAMP:20260419T143849
CREATED:20260418T212449Z
LAST-MODIFIED:20260418T212449Z
UID:10002511-1777975200-1777998600@mosportkartingcentre.com
SUMMARY:Open Practice
DESCRIPTION:
URL:https://mosportkartingcentre.com/event/open-practice-427/
LOCATION:Mosport Karting Centre\, 3233 Concession Rd10\, Bowmanville\, Ontario\, L1C3K6\, Canada
CATEGORIES:Open Practice
END:VEVENT
BEGIN:VEVENT
DTSTART;TZID=America/Toronto:20260505T170000
DTEND;TZID=America/Toronto:20260505T190000
DTSTAMP:20260419T143849
CREATED:20260215T181440Z
LAST-MODIFIED:20260215T182327Z
UID:10002386-1778000400-1778007600@mosportkartingcentre.com
SUMMARY:MADRL Pre-Season Rookie Training
DESCRIPTION:
URL:https://mosportkartingcentre.com/event/madrl-rookie-training-18/
LOCATION:Mosport Karting Centre\, 3233 Concession Rd10\, Bowmanville\, Ontario\, L1C3K6\, Canada
CATEGORIES:Arrive and Drive
END:VEVENT
BEGIN:VEVENT
DTSTART;TZID=America/Toronto:20260506T100000
DTEND;TZID=America/Toronto:20260506T163000
DTSTAMP:20260419T143849
CREATED:20260418T212532Z
LAST-MODIFIED:20260418T212532Z
UID:10002512-1778061600-1778085000@mosportkartingcentre.com
SUMMARY:Open Practice
DESCRIPTION:
URL:https://mosportkartingcentre.com/event/open-practice-428/
LOCATION:Mosport Karting Centre\, 3233 Concession Rd10\, Bowmanville\, Ontario\, L1C3K6\, Canada
CATEGORIES:Open Practice
END:VEVENT
BEGIN:VEVENT
DTSTART;TZID=America/Toronto:20260506T170000
DTEND;TZID=America/Toronto:20260506T190000
DTSTAMP:20260419T143849
CREATED:20260215T181532Z
LAST-MODIFIED:20260215T182321Z
UID:10002387-1778086800-1778094000@mosportkartingcentre.com
SUMMARY:MADRL Pre-Season Rookie Training
DESCRIPTION:
URL:https://mosportkartingcentre.com/event/madrl-rookie-training-19/
LOCATION:Mosport Karting Centre\, 3233 Concession Rd10\, Bowmanville\, Ontario\, L1C3K6\, Canada
CATEGORIES:Arrive and Drive
END:VEVENT
BEGIN:VEVENT
DTSTART;TZID=America/Toronto:20260507T100000
DTEND;TZID=America/Toronto:20260507T163000
DTSTAMP:20260419T143849
CREATED:20260418T212916Z
LAST-MODIFIED:20260418T212916Z
UID:10002517-1778148000-1778171400@mosportkartingcentre.com
SUMMARY:Open Practice
DESCRIPTION:
URL:https://mosportkartingcentre.com/event/open-practice-429/
LOCATION:Mosport Karting Centre\, 3233 Concession Rd10\, Bowmanville\, Ontario\, L1C3K6\, Canada
CATEGORIES:Open Practice
END:VEVENT
BEGIN:VEVENT
DTSTART;TZID=America/Toronto:20260507T170000
DTEND;TZID=America/Toronto:20260507T190000
DTSTAMP:20260419T143849
CREATED:20260215T181620Z
LAST-MODIFIED:20260215T182314Z
UID:10002388-1778173200-1778180400@mosportkartingcentre.com
SUMMARY:MADRL Pre-Season Rookie Training
DESCRIPTION:
URL:https://mosportkartingcentre.com/event/madrl-rookie-training-20/
LOCATION:Mosport Karting Centre\, 3233 Concession Rd10\, Bowmanville\, Ontario\, L1C3K6\, Canada
CATEGORIES:Arrive and Drive
END:VEVENT
BEGIN:VEVENT
DTSTART;TZID=America/Toronto:20260508T100000
DTEND;TZID=America/Toronto:20260508T130000
DTSTAMP:20260419T143849
CREATED:20260418T213050Z
LAST-MODIFIED:20260418T213050Z
UID:10002518-1778234400-1778245200@mosportkartingcentre.com
SUMMARY:Group Event
DESCRIPTION:
URL:https://mosportkartingcentre.com/event/group-event-200/
LOCATION:Mosport Karting Centre\, 3233 Concession Rd10\, Bowmanville\, Ontario\, L1C3K6\, Canada
CATEGORIES:Group Events
END:VEVENT
BEGIN:VEVENT
DTSTART;TZID=America/Toronto:20260508T170000
DTEND;TZID=America/Toronto:20260508T190000
DTSTAMP:20260419T143849
CREATED:20260215T181715Z
LAST-MODIFIED:20260215T182307Z
UID:10002389-1778259600-1778266800@mosportkartingcentre.com
SUMMARY:MADRL Pre-Season Rookie Training
DESCRIPTION:
URL:https://mosportkartingcentre.com/event/madrl-rookie-training-21/
LOCATION:Mosport Karting Centre\, 3233 Concession Rd10\, Bowmanville\, Ontario\, L1C3K6\, Canada
CATEGORIES:Arrive and Drive
END:VEVENT
BEGIN:VEVENT
DTSTART;TZID=America/Toronto:20260509T100000
DTEND;TZID=America/Toronto:20260509T120000
DTSTAMP:20260419T143849
CREATED:20260215T181802Z
LAST-MODIFIED:20260215T182300Z
UID:10002390-1778320800-1778328000@mosportkartingcentre.com
SUMMARY:MADRL Pre-Season Rookie Training
DESCRIPTION:
URL:https://mosportkartingcentre.com/event/madrl-rookie-training-22/
LOCATION:Mosport Karting Centre\, 3233 Concession Rd10\, Bowmanville\, Ontario\, L1C3K6\, Canada
CATEGORIES:Arrive and Drive
END:VEVENT
BEGIN:VEVENT
DTSTART;TZID=America/Toronto:20260509T130000
DTEND;TZID=America/Toronto:20260509T160000
DTSTAMP:20260419T143849
CREATED:20260418T213304Z
LAST-MODIFIED:20260418T213323Z
UID:10002520-1778331600-1778342400@mosportkartingcentre.com
SUMMARY:Group Event
DESCRIPTION:
URL:https://mosportkartingcentre.com/event/group-event-201/
LOCATION:Mosport Karting Centre\, 3233 Concession Rd10\, Bowmanville\, Ontario\, L1C3K6\, Canada
CATEGORIES:Group Events
END:VEVENT
BEGIN:VEVENT
DTSTART;TZID=America/Toronto:20260509T160000
DTEND;TZID=America/Toronto:20260509T180000
DTSTAMP:20260419T143849
CREATED:20260418T213541Z
LAST-MODIFIED:20260418T213541Z
UID:10002522-1778342400-1778349600@mosportkartingcentre.com
SUMMARY:Open Practice
DESCRIPTION:
URL:https://mosportkartingcentre.com/event/open-practice-430/
LOCATION:Mosport Karting Centre\, 3233 Concession Rd10\, Bowmanville\, Ontario\, L1C3K6\, Canada
CATEGORIES:Open Practice
END:VEVENT
BEGIN:VEVENT
DTSTART;TZID=America/Toronto:20260509T160000
DTEND;TZID=America/Toronto:20260509T190000
DTSTAMP:20260419T143849
CREATED:20260418T213409Z
LAST-MODIFIED:20260418T213409Z
UID:10002521-1778342400-1778353200@mosportkartingcentre.com
SUMMARY:Group Event
DESCRIPTION:
URL:https://mosportkartingcentre.com/event/group-event-202/
LOCATION:Mosport Karting Centre\, 3233 Concession Rd10\, Bowmanville\, Ontario\, L1C3K6\, Canada
CATEGORIES:Group Events
END:VEVENT
BEGIN:VEVENT
DTSTART;TZID=America/Toronto:20260510T080000
DTEND;TZID=America/Toronto:20260510T170000
DTSTAMP:20260419T143849
CREATED:20260215T181859Z
LAST-MODIFIED:20260215T181859Z
UID:10002391-1778400000-1778432400@mosportkartingcentre.com
SUMMARY:MADRL Enduro 1
DESCRIPTION:
URL:https://mosportkartingcentre.com/event/madrl-enduro-1/
LOCATION:Mosport Karting Centre\, 3233 Concession Rd10\, Bowmanville\, Ontario\, L1C3K6\, Canada
CATEGORIES:Arrive and Drive
END:VEVENT
BEGIN:VEVENT
DTSTART;TZID=America/Toronto:20260510T170000
DTEND;TZID=America/Toronto:20260510T190000
DTSTAMP:20260419T143849
CREATED:20260215T181931Z
LAST-MODIFIED:20260215T182232Z
UID:10002392-1778432400-1778439600@mosportkartingcentre.com
SUMMARY:MADRL Pre-Season Rookie Training
DESCRIPTION:
URL:https://mosportkartingcentre.com/event/madrl-rookie-training-23/
LOCATION:Mosport Karting Centre\, 3233 Concession Rd10\, Bowmanville\, Ontario\, L1C3K6\, Canada
CATEGORIES:Arrive and Drive
END:VEVENT
BEGIN:VEVENT
DTSTART;VALUE=DATE:20260511
DTEND;VALUE=DATE:20260512
DTSTAMP:20260419T143849
CREATED:20260208T171514Z
LAST-MODIFIED:20260208T171726Z
UID:10002311-1778457600-1778543999@mosportkartingcentre.com
SUMMARY:Track Closed
DESCRIPTION:
URL:https://mosportkartingcentre.com/event/track-closed-61/
LOCATION:Mosport Karting Centre\, 3233 Concession Rd10\, Bowmanville\, Ontario\, L1C3K6\, Canada
CATEGORIES:Closed
END:VEVENT
BEGIN:VEVENT
DTSTART;TZID=America/Toronto:20260512T100000
DTEND;TZID=America/Toronto:20260512T163000
DTSTAMP:20260419T143849
CREATED:20260418T214024Z
LAST-MODIFIED:20260418T214024Z
UID:10002526-1778580000-1778603400@mosportkartingcentre.com
SUMMARY:Open Practice
DESCRIPTION:
URL:https://mosportkartingcentre.com/event/open-practice-431/
LOCATION:Mosport Karting Centre\, 3233 Concession Rd10\, Bowmanville\, Ontario\, L1C3K6\, Canada
CATEGORIES:Open Practice
END:VEVENT
BEGIN:VEVENT
DTSTART;TZID=America/Toronto:20260512T170000
DTEND;TZID=America/Toronto:20260512T190000
DTSTAMP:20260419T143849
CREATED:20260215T182109Z
LAST-MODIFIED:20260215T182447Z
UID:10002393-1778605200-1778612400@mosportkartingcentre.com
SUMMARY:MADRL Schedule 1 Race 1
DESCRIPTION:
URL:https://mosportkartingcentre.com/event/madrl-schedule-1-race-1-4/
LOCATION:Mosport Karting Centre\, 3233 Concession Rd10\, Bowmanville\, Ontario\, L1C3K6\, Canada
CATEGORIES:Arrive and Drive
END:VEVENT
BEGIN:VEVENT
DTSTART;TZID=America/Toronto:20260513T100000
DTEND;TZID=America/Toronto:20260513T163000
DTSTAMP:20260419T143849
CREATED:20260418T214122Z
LAST-MODIFIED:20260418T214122Z
UID:10002527-1778666400-1778689800@mosportkartingcentre.com
SUMMARY:Open Practice
DESCRIPTION:
URL:https://mosportkartingcentre.com/event/open-practice-432/
LOCATION:Mosport Karting Centre\, 3233 Concession Rd10\, Bowmanville\, Ontario\, L1C3K6\, Canada
CATEGORIES:Open Practice
END:VEVENT
BEGIN:VEVENT
DTSTART;TZID=America/Toronto:20260513T170000
DTEND;TZID=America/Toronto:20260513T190000
DTSTAMP:20260419T143849
CREATED:20260215T182522Z
LAST-MODIFIED:20260215T182522Z
UID:10002394-1778691600-1778698800@mosportkartingcentre.com
SUMMARY:MADRL Schedule 2 Race 1
DESCRIPTION:
URL:https://mosportkartingcentre.com/event/madrl-schedule-2-race-1-4/
LOCATION:Mosport Karting Centre\, 3233 Concession Rd10\, Bowmanville\, Ontario\, L1C3K6\, Canada
CATEGORIES:Arrive and Drive
END:VEVENT
BEGIN:VEVENT
DTSTART;TZID=America/Toronto:20260514T100000
DTEND;TZID=America/Toronto:20260514T170000
DTSTAMP:20260419T143849
CREATED:20260418T214531Z
LAST-MODIFIED:20260418T214548Z
UID:10002533-1778752800-1778778000@mosportkartingcentre.com
SUMMARY:Open Practice
DESCRIPTION:
URL:https://mosportkartingcentre.com/event/open-practice-433/
LOCATION:Mosport Karting Centre\, 3233 Concession Rd10\, Bowmanville\, Ontario\, L1C3K6\, Canada
CATEGORIES:Open Practice
END:VEVENT
BEGIN:VEVENT
DTSTART;TZID=America/Toronto:20260514T170000
DTEND;TZID=America/Toronto:20260514T190000
DTSTAMP:20260419T143849
CREATED:20260418T214457Z
LAST-MODIFIED:20260418T214457Z
UID:10002532-1778778000-1778785200@mosportkartingcentre.com
SUMMARY:MADRL Option 1 & Option 2 Practice
DESCRIPTION:
URL:https://mosportkartingcentre.com/event/madrl-option-1-option-2-practice-143/
LOCATION:Mosport Karting Centre\, 3233 Concession Rd10\, Bowmanville\, Ontario\, L1C3K6\, Canada
CATEGORIES:Arrive and Drive
END:VEVENT
BEGIN:VEVENT
DTSTART;TZID=America/Toronto:20260515T100000
DTEND;TZID=America/Toronto:20260515T170000
DTSTAMP:20260419T143849
CREATED:20260418T214625Z
LAST-MODIFIED:20260418T214625Z
UID:10002534-1778839200-1778864400@mosportkartingcentre.com
SUMMARY:Open Practice
DESCRIPTION:
URL:https://mosportkartingcentre.com/event/open-practice-434/
LOCATION:Mosport Karting Centre\, 3233 Concession Rd10\, Bowmanville\, Ontario\, L1C3K6\, Canada
CATEGORIES:Open Practice
END:VEVENT
BEGIN:VEVENT
DTSTART;TZID=America/Toronto:20260515T170000
DTEND;TZID=America/Toronto:20260515T190000
DTSTAMP:20260419T143849
CREATED:20260418T214845Z
LAST-MODIFIED:20260418T214845Z
UID:10002537-1778864400-1778871600@mosportkartingcentre.com
SUMMARY:MADRL Option 1 & Option 2 Practice
DESCRIPTION:
URL:https://mosportkartingcentre.com/event/madrl-option-1-option-2-practice-147/
LOCATION:Mosport Karting Centre\, 3233 Concession Rd10\, Bowmanville\, Ontario\, L1C3K6\, Canada
CATEGORIES:Arrive and Drive
END:VEVENT
BEGIN:VEVENT
DTSTART;TZID=America/Toronto:20260516T100000
DTEND;TZID=America/Toronto:20260516T120000
DTSTAMP:20260419T143849
CREATED:20260215T182626Z
LAST-MODIFIED:20260215T182626Z
UID:10002395-1778925600-1778932800@mosportkartingcentre.com
SUMMARY:MADRL Schedule 3 Race 1
DESCRIPTION:
URL:https://mosportkartingcentre.com/event/madrl-schedule-3-race-1-4/
LOCATION:Mosport Karting Centre\, 3233 Concession Rd10\, Bowmanville\, Ontario\, L1C3K6\, Canada
CATEGORIES:Arrive and Drive
END:VEVENT
BEGIN:VEVENT
DTSTART;TZID=America/Toronto:20260516T130000
DTEND;TZID=America/Toronto:20260516T170000
DTSTAMP:20260419T143849
CREATED:20260418T215529Z
LAST-MODIFIED:20260418T215529Z
UID:10002541-1778936400-1778950800@mosportkartingcentre.com
SUMMARY:Open Practice
DESCRIPTION:
URL:https://mosportkartingcentre.com/event/open-practice-435/
LOCATION:Mosport Karting Centre\, 3233 Concession Rd10\, Bowmanville\, Ontario\, L1C3K6\, Canada
CATEGORIES:Open Practice
END:VEVENT
BEGIN:VEVENT
DTSTART;TZID=America/Toronto:20260516T170000
DTEND;TZID=America/Toronto:20260516T190000
DTSTAMP:20260419T143849
CREATED:20260418T215155Z
LAST-MODIFIED:20260418T215155Z
UID:10002539-1778950800-1778958000@mosportkartingcentre.com
SUMMARY:Kid Kart 2-Hour Coaching
DESCRIPTION:
URL:https://mosportkartingcentre.com/event/kid-kart-2-hour-coaching/
LOCATION:Mosport Karting Centre\, 3233 Concession Rd10\, Bowmanville\, Ontario\, L1C3K6\, Canada
CATEGORIES:Kid Kart
END:VEVENT
END:VCALENDAR