BEGIN:VCALENDAR
VERSION:2.0
PRODID:-//Mosport Karting Centre - ECPv6.15.20//NONSGML v1.0//EN
CALSCALE:GREGORIAN
METHOD:PUBLISH
X-WR-CALNAME:Mosport Karting Centre
X-ORIGINAL-URL:https://mosportkartingcentre.com
X-WR-CALDESC:Events for Mosport Karting Centre
REFRESH-INTERVAL;VALUE=DURATION:PT1H
X-Robots-Tag:noindex
X-PUBLISHED-TTL:PT1H
BEGIN:VTIMEZONE
TZID:America/Toronto
BEGIN:DAYLIGHT
TZOFFSETFROM:-0500
TZOFFSETTO:-0400
TZNAME:EDT
DTSTART:20240310T070000
END:DAYLIGHT
BEGIN:STANDARD
TZOFFSETFROM:-0400
TZOFFSETTO:-0500
TZNAME:EST
DTSTART:20241103T060000
END:STANDARD
BEGIN:DAYLIGHT
TZOFFSETFROM:-0500
TZOFFSETTO:-0400
TZNAME:EDT
DTSTART:20250309T070000
END:DAYLIGHT
BEGIN:STANDARD
TZOFFSETFROM:-0400
TZOFFSETTO:-0500
TZNAME:EST
DTSTART:20251102T060000
END:STANDARD
BEGIN:DAYLIGHT
TZOFFSETFROM:-0500
TZOFFSETTO:-0400
TZNAME:EDT
DTSTART:20260308T070000
END:DAYLIGHT
BEGIN:STANDARD
TZOFFSETFROM:-0400
TZOFFSETTO:-0500
TZNAME:EST
DTSTART:20261101T060000
END:STANDARD
END:VTIMEZONE
BEGIN:VEVENT
DTSTART;TZID=America/Toronto:20250921T100000
DTEND;TZID=America/Toronto:20250921T130000
DTSTAMP:20260423T153709
CREATED:20250820T143620Z
LAST-MODIFIED:20250820T143620Z
UID:10002249-1758448800-1758459600@mosportkartingcentre.com
SUMMARY:Group Event
DESCRIPTION:
URL:https://mosportkartingcentre.com/event/group-event-181/
LOCATION:Mosport Karting Centre\, 3233 Concession Rd10\, Bowmanville\, Ontario\, L1C3K6\, Canada
CATEGORIES:Group Events
END:VEVENT
BEGIN:VEVENT
DTSTART;TZID=America/Toronto:20250920T160000
DTEND;TZID=America/Toronto:20250920T190000
DTSTAMP:20260423T153709
CREATED:20250820T143511Z
LAST-MODIFIED:20250820T143511Z
UID:10002248-1758384000-1758394800@mosportkartingcentre.com
SUMMARY:Group Event
DESCRIPTION:
URL:https://mosportkartingcentre.com/event/group-event-180/
LOCATION:Mosport Karting Centre\, 3233 Concession Rd10\, Bowmanville\, Ontario\, L1C3K6\, Canada
CATEGORIES:Group Events
END:VEVENT
BEGIN:VEVENT
DTSTART;TZID=America/Toronto:20250920T130000
DTEND;TZID=America/Toronto:20250920T180000
DTSTAMP:20260423T153709
CREATED:20250820T143156Z
LAST-MODIFIED:20250820T143335Z
UID:10002246-1758373200-1758391200@mosportkartingcentre.com
SUMMARY:Open Practice
DESCRIPTION:
URL:https://mosportkartingcentre.com/event/open-practice-375/
LOCATION:Mosport Karting Centre\, 3233 Concession Rd10\, Bowmanville\, Ontario\, L1C3K6\, Canada
CATEGORIES:Open Practice
END:VEVENT
BEGIN:VEVENT
DTSTART;TZID=America/Toronto:20250920T130000
DTEND;TZID=America/Toronto:20250920T160000
DTSTAMP:20260423T153709
CREATED:20250820T143422Z
LAST-MODIFIED:20250820T143422Z
UID:10002247-1758373200-1758384000@mosportkartingcentre.com
SUMMARY:Group Event
DESCRIPTION:
URL:https://mosportkartingcentre.com/event/group-event-179/
LOCATION:Mosport Karting Centre\, 3233 Concession Rd10\, Bowmanville\, Ontario\, L1C3K6\, Canada
CATEGORIES:Group Events
END:VEVENT
BEGIN:VEVENT
DTSTART;TZID=America/Toronto:20250920T100000
DTEND;TZID=America/Toronto:20250920T130000
DTSTAMP:20260423T153709
CREATED:20250213T003908Z
LAST-MODIFIED:20250213T003908Z
UID:10001961-1758362400-1758373200@mosportkartingcentre.com
SUMMARY:MADRL Schedule 3 Semi-Final 1
DESCRIPTION:
URL:https://mosportkartingcentre.com/event/madrl-schedule-3-semi-final-1-4/
LOCATION:Mosport Karting Centre\, 3233 Concession Rd10\, Bowmanville\, Ontario\, L1C3K6\, Canada
CATEGORIES:Arrive and Drive
ORGANIZER;CN="Mosport Karting Centre":MAILTO:info@mosportkartingcentre.com
END:VEVENT
BEGIN:VEVENT
DTSTART;TZID=America/Toronto:20250919T103000
DTEND;TZID=America/Toronto:20250919T190000
DTSTAMP:20260423T153709
CREATED:20250820T141436Z
LAST-MODIFIED:20250820T141445Z
UID:10002245-1758277800-1758308400@mosportkartingcentre.com
SUMMARY:Group Event
DESCRIPTION:
URL:https://mosportkartingcentre.com/event/group-event-178/
LOCATION:Mosport Karting Centre\, 3233 Concession Rd10\, Bowmanville\, Ontario\, L1C3K6\, Canada
CATEGORIES:Group Events
END:VEVENT
BEGIN:VEVENT
DTSTART;TZID=America/Toronto:20250918T160000
DTEND;TZID=America/Toronto:20250918T190000
DTSTAMP:20260423T153709
CREATED:20250820T141336Z
LAST-MODIFIED:20250820T141336Z
UID:10002244-1758211200-1758222000@mosportkartingcentre.com
SUMMARY:Group Event
DESCRIPTION:
URL:https://mosportkartingcentre.com/event/group-event-177/
LOCATION:Mosport Karting Centre\, 3233 Concession Rd10\, Bowmanville\, Ontario\, L1C3K6\, Canada
CATEGORIES:Group Events
END:VEVENT
BEGIN:VEVENT
DTSTART;TZID=America/Toronto:20250918T130000
DTEND;TZID=America/Toronto:20250918T160000
DTSTAMP:20260423T153709
CREATED:20250820T141253Z
LAST-MODIFIED:20250820T141253Z
UID:10002243-1758200400-1758211200@mosportkartingcentre.com
SUMMARY:Group Event
DESCRIPTION:
URL:https://mosportkartingcentre.com/event/group-event-176/
LOCATION:Mosport Karting Centre\, 3233 Concession Rd10\, Bowmanville\, Ontario\, L1C3K6\, Canada
CATEGORIES:Group Events
END:VEVENT
BEGIN:VEVENT
DTSTART;TZID=America/Toronto:20250917T163000
DTEND;TZID=America/Toronto:20250917T200000
DTSTAMP:20260423T153709
CREATED:20250212T235823Z
LAST-MODIFIED:20250912T195850Z
UID:10001937-1758126600-1758139200@mosportkartingcentre.com
SUMMARY:MADRL Schedule 2 Semi-Final 1
DESCRIPTION:
URL:https://mosportkartingcentre.com/event/madrl-schedule-2-semi-final-1-4/
LOCATION:Mosport Karting Centre\, 3233 Concession Rd10\, Bowmanville\, Ontario\, L1C3K6\, Canada
CATEGORIES:Arrive and Drive
ORGANIZER;CN="Mosport Karting Centre":MAILTO:info@mosportkartingcentre.com
END:VEVENT
BEGIN:VEVENT
DTSTART;TZID=America/Toronto:20250917T100000
DTEND;TZID=America/Toronto:20250917T163000
DTSTAMP:20260423T153709
CREATED:20250820T141153Z
LAST-MODIFIED:20250820T141153Z
UID:10002242-1758103200-1758126600@mosportkartingcentre.com
SUMMARY:Open Practice
DESCRIPTION:
URL:https://mosportkartingcentre.com/event/open-practice-374/
LOCATION:Mosport Karting Centre\, 3233 Concession Rd10\, Bowmanville\, Ontario\, L1C3K6\, Canada
CATEGORIES:Open Practice
END:VEVENT
BEGIN:VEVENT
DTSTART;TZID=America/Toronto:20250917T100000
DTEND;TZID=America/Toronto:20250917T130000
DTSTAMP:20260423T153709
CREATED:20250820T141127Z
LAST-MODIFIED:20250820T141127Z
UID:10002241-1758103200-1758114000@mosportkartingcentre.com
SUMMARY:Group Event
DESCRIPTION:
URL:https://mosportkartingcentre.com/event/group-event-175/
LOCATION:Mosport Karting Centre\, 3233 Concession Rd10\, Bowmanville\, Ontario\, L1C3K6\, Canada
CATEGORIES:Group Events
END:VEVENT
BEGIN:VEVENT
DTSTART;TZID=America/Toronto:20250916T163000
DTEND;TZID=America/Toronto:20250916T200000
DTSTAMP:20260423T153709
CREATED:20250212T233541Z
LAST-MODIFIED:20250912T195805Z
UID:10001925-1758040200-1758052800@mosportkartingcentre.com
SUMMARY:MADRL Schedule 1 Semi-Final 1
DESCRIPTION:
URL:https://mosportkartingcentre.com/event/madrl-schedule-1-semi-final-1-4/
LOCATION:Mosport Karting Centre\, 3233 Concession Rd10\, Bowmanville\, Ontario\, L1C3K6\, Canada
CATEGORIES:Arrive and Drive
ORGANIZER;CN="Mosport Karting Centre":MAILTO:info@mosportkartingcentre.com
END:VEVENT
BEGIN:VEVENT
DTSTART;TZID=America/Toronto:20250916T130000
DTEND;TZID=America/Toronto:20250916T160000
DTSTAMP:20260423T153709
CREATED:20250820T134916Z
LAST-MODIFIED:20250820T134916Z
UID:10002239-1758027600-1758038400@mosportkartingcentre.com
SUMMARY:Group Event
DESCRIPTION:
URL:https://mosportkartingcentre.com/event/group-event-174/
LOCATION:Mosport Karting Centre\, 3233 Concession Rd10\, Bowmanville\, Ontario\, L1C3K6\, Canada
CATEGORIES:Group Events
END:VEVENT
BEGIN:VEVENT
DTSTART;TZID=America/Toronto:20250916T100000
DTEND;TZID=America/Toronto:20250916T163000
DTSTAMP:20260423T153709
CREATED:20250820T135301Z
LAST-MODIFIED:20250820T135301Z
UID:10002240-1758016800-1758040200@mosportkartingcentre.com
SUMMARY:Open Practice
DESCRIPTION:
URL:https://mosportkartingcentre.com/event/open-practice-373/
LOCATION:Mosport Karting Centre\, 3233 Concession Rd10\, Bowmanville\, Ontario\, L1C3K6\, Canada
CATEGORIES:Open Practice
END:VEVENT
BEGIN:VEVENT
DTSTART;TZID=America/Toronto:20250916T100000
DTEND;TZID=America/Toronto:20250916T130000
DTSTAMP:20260423T153709
CREATED:20250820T134248Z
LAST-MODIFIED:20250820T134248Z
UID:10002238-1758016800-1758027600@mosportkartingcentre.com
SUMMARY:Group Event
DESCRIPTION:
URL:https://mosportkartingcentre.com/event/group-event-173/
LOCATION:Mosport Karting Centre\, 3233 Concession Rd10\, Bowmanville\, Ontario\, L1C3K6\, Canada
CATEGORIES:Group Events
END:VEVENT
BEGIN:VEVENT
DTSTART;VALUE=DATE:20250915
DTEND;VALUE=DATE:20250916
DTSTAMP:20260423T153709
CREATED:20250211T231434Z
LAST-MODIFIED:20250211T231434Z
UID:10001896-1757894400-1757980799@mosportkartingcentre.com
SUMMARY:Track Closed
DESCRIPTION:
URL:https://mosportkartingcentre.com/event/track-closed-53/
LOCATION:Mosport Karting Centre\, 3233 Concession Rd10\, Bowmanville\, Ontario\, L1C3K6\, Canada
CATEGORIES:Closed
ORGANIZER;CN="Mosport Karting Centre":MAILTO:info@mosportkartingcentre.com
END:VEVENT
BEGIN:VEVENT
DTSTART;TZID=America/Toronto:20250914T170000
DTEND;TZID=America/Toronto:20250914T200000
DTSTAMP:20260423T153709
CREATED:20250213T001408Z
LAST-MODIFIED:20250213T001408Z
UID:10001948-1757869200-1757880000@mosportkartingcentre.com
SUMMARY:MADRL Schedule 4 Race 10
DESCRIPTION:
URL:https://mosportkartingcentre.com/event/madrl-schedule-4-race-10-4/
LOCATION:Mosport Karting Centre\, 3233 Concession Rd10\, Bowmanville\, Ontario\, L1C3K6\, Canada
CATEGORIES:Arrive and Drive
ORGANIZER;CN="Mosport Karting Centre":MAILTO:info@mosportkartingcentre.com
END:VEVENT
BEGIN:VEVENT
DTSTART;TZID=America/Toronto:20250914T130000
DTEND;TZID=America/Toronto:20250914T160000
DTSTAMP:20260423T153709
CREATED:20250820T133241Z
LAST-MODIFIED:20250820T133241Z
UID:10002237-1757854800-1757865600@mosportkartingcentre.com
SUMMARY:Group Event
DESCRIPTION:
URL:https://mosportkartingcentre.com/event/group-event-172/
LOCATION:Mosport Karting Centre\, 3233 Concession Rd10\, Bowmanville\, Ontario\, L1C3K6\, Canada
CATEGORIES:Group Events
END:VEVENT
BEGIN:VEVENT
DTSTART;TZID=America/Toronto:20250914T100000
DTEND;TZID=America/Toronto:20250914T130000
DTSTAMP:20260423T153709
CREATED:20250820T133205Z
LAST-MODIFIED:20250820T133205Z
UID:10002236-1757844000-1757854800@mosportkartingcentre.com
SUMMARY:Group Event
DESCRIPTION:
URL:https://mosportkartingcentre.com/event/group-event-171/
LOCATION:Mosport Karting Centre\, 3233 Concession Rd10\, Bowmanville\, Ontario\, L1C3K6\, Canada
CATEGORIES:Group Events
END:VEVENT
BEGIN:VEVENT
DTSTART;TZID=America/Toronto:20250913T160000
DTEND;TZID=America/Toronto:20250913T190000
DTSTAMP:20260423T153709
CREATED:20250820T133012Z
LAST-MODIFIED:20250820T133012Z
UID:10002234-1757779200-1757790000@mosportkartingcentre.com
SUMMARY:Group Event
DESCRIPTION:
URL:https://mosportkartingcentre.com/event/group-event-170/
LOCATION:Mosport Karting Centre\, 3233 Concession Rd10\, Bowmanville\, Ontario\, L1C3K6\, Canada
CATEGORIES:Group Events
END:VEVENT
BEGIN:VEVENT
DTSTART;TZID=America/Toronto:20250913T140000
DTEND;TZID=America/Toronto:20250913T183000
DTSTAMP:20260423T153709
CREATED:20250820T133124Z
LAST-MODIFIED:20250909T163046Z
UID:10002235-1757772000-1757788200@mosportkartingcentre.com
SUMMARY:Open Practice
DESCRIPTION:
URL:https://mosportkartingcentre.com/event/open-practice-372/
LOCATION:Mosport Karting Centre\, 3233 Concession Rd10\, Bowmanville\, Ontario\, L1C3K6\, Canada
CATEGORIES:Open Practice
END:VEVENT
BEGIN:VEVENT
DTSTART;TZID=America/Toronto:20250913T130000
DTEND;TZID=America/Toronto:20250913T160000
DTSTAMP:20260423T153709
CREATED:20250820T132929Z
LAST-MODIFIED:20250820T132929Z
UID:10002233-1757768400-1757779200@mosportkartingcentre.com
SUMMARY:Group Event
DESCRIPTION:
URL:https://mosportkartingcentre.com/event/group-event-169/
LOCATION:Mosport Karting Centre\, 3233 Concession Rd10\, Bowmanville\, Ontario\, L1C3K6\, Canada
CATEGORIES:Group Events
END:VEVENT
BEGIN:VEVENT
DTSTART;TZID=America/Toronto:20250913T100000
DTEND;TZID=America/Toronto:20250913T130000
DTSTAMP:20260423T153709
CREATED:20250213T003824Z
LAST-MODIFIED:20250213T003824Z
UID:10001960-1757757600-1757768400@mosportkartingcentre.com
SUMMARY:MADRL Schedule 3 Race 10
DESCRIPTION:
URL:https://mosportkartingcentre.com/event/madrl-schedule-3-race-10-4/
LOCATION:Mosport Karting Centre\, 3233 Concession Rd10\, Bowmanville\, Ontario\, L1C3K6\, Canada
CATEGORIES:Arrive and Drive
ORGANIZER;CN="Mosport Karting Centre":MAILTO:info@mosportkartingcentre.com
END:VEVENT
BEGIN:VEVENT
DTSTART;TZID=America/Toronto:20250912T170000
DTEND;TZID=America/Toronto:20250912T200000
DTSTAMP:20260423T153709
CREATED:20250820T132757Z
LAST-MODIFIED:20250820T132757Z
UID:10002232-1757696400-1757707200@mosportkartingcentre.com
SUMMARY:MADRL Option 1 & Option 2 Practice
DESCRIPTION:
URL:https://mosportkartingcentre.com/event/madrl-option-1-option-2-practice-134/
LOCATION:Mosport Karting Centre\, 3233 Concession Rd10\, Bowmanville\, Ontario\, L1C3K6\, Canada
CATEGORIES:Arrive and Drive
END:VEVENT
BEGIN:VEVENT
DTSTART;TZID=America/Toronto:20250912T100000
DTEND;TZID=America/Toronto:20250912T163000
DTSTAMP:20260423T153709
CREATED:20250820T132643Z
LAST-MODIFIED:20250820T132643Z
UID:10002231-1757671200-1757694600@mosportkartingcentre.com
SUMMARY:Open Practice
DESCRIPTION:
URL:https://mosportkartingcentre.com/event/open-practice-371/
LOCATION:Mosport Karting Centre\, 3233 Concession Rd10\, Bowmanville\, Ontario\, L1C3K6\, Canada
CATEGORIES:Open Practice
END:VEVENT
BEGIN:VEVENT
DTSTART;TZID=America/Toronto:20250911T170000
DTEND;TZID=America/Toronto:20250911T200000
DTSTAMP:20260423T153709
CREATED:20250820T132541Z
LAST-MODIFIED:20250820T132541Z
UID:10002230-1757610000-1757620800@mosportkartingcentre.com
SUMMARY:MADRL Option 1 & Option 2 Practice
DESCRIPTION:
URL:https://mosportkartingcentre.com/event/madrl-option-1-option-2-practice-133/
LOCATION:Mosport Karting Centre\, 3233 Concession Rd10\, Bowmanville\, Ontario\, L1C3K6\, Canada
CATEGORIES:Arrive and Drive
END:VEVENT
BEGIN:VEVENT
DTSTART;TZID=America/Toronto:20250911T100000
DTEND;TZID=America/Toronto:20250911T163000
DTSTAMP:20260423T153709
CREATED:20250820T132449Z
LAST-MODIFIED:20250820T132449Z
UID:10002229-1757584800-1757608200@mosportkartingcentre.com
SUMMARY:Open Practice
DESCRIPTION:
URL:https://mosportkartingcentre.com/event/open-practice-370/
LOCATION:Mosport Karting Centre\, 3233 Concession Rd10\, Bowmanville\, Ontario\, L1C3K6\, Canada
CATEGORIES:Open Practice
END:VEVENT
BEGIN:VEVENT
DTSTART;TZID=America/Toronto:20250910T170000
DTEND;TZID=America/Toronto:20250910T200000
DTSTAMP:20260423T153709
CREATED:20250212T235701Z
LAST-MODIFIED:20250212T235701Z
UID:10001936-1757523600-1757534400@mosportkartingcentre.com
SUMMARY:MADRL Schedule 2 Race 10
DESCRIPTION:
URL:https://mosportkartingcentre.com/event/madrl-schedule-2-race-10-4/
LOCATION:Mosport Karting Centre\, 3233 Concession Rd10\, Bowmanville\, Ontario\, L1C3K6\, Canada
CATEGORIES:Arrive and Drive
ORGANIZER;CN="Mosport Karting Centre":MAILTO:info@mosportkartingcentre.com
END:VEVENT
BEGIN:VEVENT
DTSTART;TZID=America/Toronto:20250910T130000
DTEND;TZID=America/Toronto:20250910T160000
DTSTAMP:20260423T153709
CREATED:20250820T132334Z
LAST-MODIFIED:20250820T132358Z
UID:10002228-1757509200-1757520000@mosportkartingcentre.com
SUMMARY:Group Event
DESCRIPTION:
URL:https://mosportkartingcentre.com/event/group-event-168/
LOCATION:Mosport Karting Centre\, 3233 Concession Rd10\, Bowmanville\, Ontario\, L1C3K6\, Canada
CATEGORIES:Group Events
END:VEVENT
BEGIN:VEVENT
DTSTART;TZID=America/Toronto:20250910T100000
DTEND;TZID=America/Toronto:20250910T130000
DTSTAMP:20260423T153709
CREATED:20250820T132301Z
LAST-MODIFIED:20250820T132301Z
UID:10002227-1757498400-1757509200@mosportkartingcentre.com
SUMMARY:Group Event
DESCRIPTION:
URL:https://mosportkartingcentre.com/event/group-event-167/
LOCATION:Mosport Karting Centre\, 3233 Concession Rd10\, Bowmanville\, Ontario\, L1C3K6\, Canada
CATEGORIES:Group Events
END:VEVENT
END:VCALENDAR