BEGIN:VCALENDAR
VERSION:2.0
PRODID:-//Mosport Karting Centre - ECPv6.15.20//NONSGML v1.0//EN
CALSCALE:GREGORIAN
METHOD:PUBLISH
X-WR-CALNAME:Mosport Karting Centre
X-ORIGINAL-URL:https://mosportkartingcentre.com
X-WR-CALDESC:Events for Mosport Karting Centre
REFRESH-INTERVAL;VALUE=DURATION:PT1H
X-Robots-Tag:noindex
X-PUBLISHED-TTL:PT1H
BEGIN:VTIMEZONE
TZID:America/Toronto
BEGIN:DAYLIGHT
TZOFFSETFROM:-0500
TZOFFSETTO:-0400
TZNAME:EDT
DTSTART:20250309T070000
END:DAYLIGHT
BEGIN:STANDARD
TZOFFSETFROM:-0400
TZOFFSETTO:-0500
TZNAME:EST
DTSTART:20251102T060000
END:STANDARD
BEGIN:DAYLIGHT
TZOFFSETFROM:-0500
TZOFFSETTO:-0400
TZNAME:EDT
DTSTART:20260308T070000
END:DAYLIGHT
BEGIN:STANDARD
TZOFFSETFROM:-0400
TZOFFSETTO:-0500
TZNAME:EST
DTSTART:20261101T060000
END:STANDARD
BEGIN:DAYLIGHT
TZOFFSETFROM:-0500
TZOFFSETTO:-0400
TZNAME:EDT
DTSTART:20270314T070000
END:DAYLIGHT
BEGIN:STANDARD
TZOFFSETFROM:-0400
TZOFFSETTO:-0500
TZNAME:EST
DTSTART:20271107T060000
END:STANDARD
END:VTIMEZONE
BEGIN:VEVENT
DTSTART;TZID=America/Toronto:20260526T120000
DTEND;TZID=America/Toronto:20260526T140000
DTSTAMP:20260419T113924
CREATED:20260418T223517Z
LAST-MODIFIED:20260418T223517Z
UID:10002564-1779796800-1779804000@mosportkartingcentre.com
SUMMARY:MADRL Pre-Season Rookie Training
DESCRIPTION:
URL:https://mosportkartingcentre.com/event/madrl-pre-season-rookie-training-46/
LOCATION:Mosport Karting Centre\, 3233 Concession Rd10\, Bowmanville\, Ontario\, L1C3K6\, Canada
CATEGORIES:Arrive and Drive
END:VEVENT
BEGIN:VEVENT
DTSTART;TZID=America/Toronto:20260526T170000
DTEND;TZID=America/Toronto:20260526T190000
DTSTAMP:20260419T113924
CREATED:20260215T183025Z
LAST-MODIFIED:20260215T183025Z
UID:10002398-1779814800-1779822000@mosportkartingcentre.com
SUMMARY:MADRL Schedule 1 Race 2
DESCRIPTION:
URL:https://mosportkartingcentre.com/event/madrl-schedule-1-race-2-4/
LOCATION:Mosport Karting Centre\, 3233 Concession Rd10\, Bowmanville\, Ontario\, L1C3K6\, Canada
CATEGORIES:Arrive and Drive
END:VEVENT
BEGIN:VEVENT
DTSTART;TZID=America/Toronto:20260527T100000
DTEND;TZID=America/Toronto:20260527T120000
DTSTAMP:20260419T113924
CREATED:20260418T223713Z
LAST-MODIFIED:20260418T223713Z
UID:10002565-1779876000-1779883200@mosportkartingcentre.com
SUMMARY:Open Practice
DESCRIPTION:
URL:https://mosportkartingcentre.com/event/open-practice-443/
LOCATION:Mosport Karting Centre\, 3233 Concession Rd10\, Bowmanville\, Ontario\, L1C3K6\, Canada
CATEGORIES:Open Practice
END:VEVENT
BEGIN:VEVENT
DTSTART;TZID=America/Toronto:20260527T100000
DTEND;TZID=America/Toronto:20260527T120000
DTSTAMP:20260419T113924
CREATED:20260418T223933Z
LAST-MODIFIED:20260418T223933Z
UID:10002566-1779876000-1779883200@mosportkartingcentre.com
SUMMARY:MADRL Pre-Season Rookie Training
DESCRIPTION:
URL:https://mosportkartingcentre.com/event/madrl-pre-season-rookie-training-47/
LOCATION:Mosport Karting Centre\, 3233 Concession Rd10\, Bowmanville\, Ontario\, L1C3K6\, Canada
CATEGORIES:Arrive and Drive
END:VEVENT
BEGIN:VEVENT
DTSTART;TZID=America/Toronto:20260527T120000
DTEND;TZID=America/Toronto:20260527T140000
DTSTAMP:20260419T113924
CREATED:20260418T224040Z
LAST-MODIFIED:20260418T224040Z
UID:10002567-1779883200-1779890400@mosportkartingcentre.com
SUMMARY:MADRL Pre-Season Rookie Training
DESCRIPTION:
URL:https://mosportkartingcentre.com/event/madrl-pre-season-rookie-training-48/
LOCATION:Mosport Karting Centre\, 3233 Concession Rd10\, Bowmanville\, Ontario\, L1C3K6\, Canada
CATEGORIES:Arrive and Drive
END:VEVENT
BEGIN:VEVENT
DTSTART;TZID=America/Toronto:20260527T170000
DTEND;TZID=America/Toronto:20260527T190000
DTSTAMP:20260419T113924
CREATED:20260215T183154Z
LAST-MODIFIED:20260215T183154Z
UID:10002399-1779901200-1779908400@mosportkartingcentre.com
SUMMARY:MADRL Schedule 2 Race 2
DESCRIPTION:
URL:https://mosportkartingcentre.com/event/madrl-schedule-2-race-2-4/
LOCATION:Mosport Karting Centre\, 3233 Concession Rd10\, Bowmanville\, Ontario\, L1C3K6\, Canada
CATEGORIES:Arrive and Drive
END:VEVENT
BEGIN:VEVENT
DTSTART;TZID=America/Toronto:20260528T100000
DTEND;TZID=America/Toronto:20260528T120000
DTSTAMP:20260419T113924
CREATED:20260418T224220Z
LAST-MODIFIED:20260418T224220Z
UID:10002568-1779962400-1779969600@mosportkartingcentre.com
SUMMARY:MADRL Pre-Season Rookie Training
DESCRIPTION:
URL:https://mosportkartingcentre.com/event/madrl-pre-season-rookie-training-49/
LOCATION:Mosport Karting Centre\, 3233 Concession Rd10\, Bowmanville\, Ontario\, L1C3K6\, Canada
CATEGORIES:Arrive and Drive
END:VEVENT
BEGIN:VEVENT
DTSTART;TZID=America/Toronto:20260528T100000
DTEND;TZID=America/Toronto:20260528T170000
DTSTAMP:20260419T113924
CREATED:20260418T224414Z
LAST-MODIFIED:20260418T224414Z
UID:10002570-1779962400-1779987600@mosportkartingcentre.com
SUMMARY:Open Pracitce
DESCRIPTION:
URL:https://mosportkartingcentre.com/event/open-pracitce/
LOCATION:Mosport Karting Centre\, 3233 Concession Rd10\, Bowmanville\, Ontario\, L1C3K6\, Canada
CATEGORIES:Open Practice
END:VEVENT
BEGIN:VEVENT
DTSTART;TZID=America/Toronto:20260528T120000
DTEND;TZID=America/Toronto:20260528T140000
DTSTAMP:20260419T113924
CREATED:20260418T224318Z
LAST-MODIFIED:20260418T224318Z
UID:10002569-1779969600-1779976800@mosportkartingcentre.com
SUMMARY:MADRL Pre-Season Rookie Training
DESCRIPTION:
URL:https://mosportkartingcentre.com/event/madrl-pre-season-rookie-training-50/
LOCATION:Mosport Karting Centre\, 3233 Concession Rd10\, Bowmanville\, Ontario\, L1C3K6\, Canada
CATEGORIES:Arrive and Drive
END:VEVENT
BEGIN:VEVENT
DTSTART;TZID=America/Toronto:20260528T170000
DTEND;TZID=America/Toronto:20260528T190000
DTSTAMP:20260419T113924
CREATED:20260418T224512Z
LAST-MODIFIED:20260418T224512Z
UID:10002571-1779987600-1779994800@mosportkartingcentre.com
SUMMARY:MADRL Option 1 & Option 2 Practice
DESCRIPTION:
URL:https://mosportkartingcentre.com/event/madrl-option-1-option-2-practice-152/
LOCATION:Mosport Karting Centre\, 3233 Concession Rd10\, Bowmanville\, Ontario\, L1C3K6\, Canada
CATEGORIES:Arrive and Drive
END:VEVENT
BEGIN:VEVENT
DTSTART;TZID=America/Toronto:20260529T100000
DTEND;TZID=America/Toronto:20260529T130000
DTSTAMP:20260419T113924
CREATED:20260418T224643Z
LAST-MODIFIED:20260418T224643Z
UID:10002572-1780048800-1780059600@mosportkartingcentre.com
SUMMARY:Group Event
DESCRIPTION:
URL:https://mosportkartingcentre.com/event/group-event-204/
LOCATION:Mosport Karting Centre\, 3233 Concession Rd10\, Bowmanville\, Ontario\, L1C3K6\, Canada
CATEGORIES:Group Events
END:VEVENT
BEGIN:VEVENT
DTSTART;TZID=America/Toronto:20260529T130000
DTEND;TZID=America/Toronto:20260529T160000
DTSTAMP:20260419T113924
CREATED:20260418T224722Z
LAST-MODIFIED:20260418T224722Z
UID:10002573-1780059600-1780070400@mosportkartingcentre.com
SUMMARY:Group Event
DESCRIPTION:
URL:https://mosportkartingcentre.com/event/group-event-205/
LOCATION:Mosport Karting Centre\, 3233 Concession Rd10\, Bowmanville\, Ontario\, L1C3K6\, Canada
CATEGORIES:Group Events
END:VEVENT
BEGIN:VEVENT
DTSTART;TZID=America/Toronto:20260529T170000
DTEND;TZID=America/Toronto:20260529T190000
DTSTAMP:20260419T113924
CREATED:20260418T224819Z
LAST-MODIFIED:20260418T224819Z
UID:10002574-1780074000-1780081200@mosportkartingcentre.com
SUMMARY:MADRL Option 1 & Option 2 Practice
DESCRIPTION:
URL:https://mosportkartingcentre.com/event/madrl-option-1-option-2-practice-153/
LOCATION:Mosport Karting Centre\, 3233 Concession Rd10\, Bowmanville\, Ontario\, L1C3K6\, Canada
CATEGORIES:Arrive and Drive
END:VEVENT
BEGIN:VEVENT
DTSTART;TZID=America/Toronto:20260530T100000
DTEND;TZID=America/Toronto:20260530T120000
DTSTAMP:20260419T113924
CREATED:20260215T183314Z
LAST-MODIFIED:20260215T183314Z
UID:10002400-1780135200-1780142400@mosportkartingcentre.com
SUMMARY:MADRL Schedule 3 Race 2
DESCRIPTION:
URL:https://mosportkartingcentre.com/event/madrl-schedule-3-race-2-4/
LOCATION:Mosport Karting Centre\, 3233 Concession Rd10\, Bowmanville\, Ontario\, L1C3K6\, Canada
CATEGORIES:Arrive and Drive
END:VEVENT
BEGIN:VEVENT
DTSTART;TZID=America/Toronto:20260530T130000
DTEND;TZID=America/Toronto:20260530T160000
DTSTAMP:20260419T113924
CREATED:20260418T225040Z
LAST-MODIFIED:20260418T225040Z
UID:10002575-1780146000-1780156800@mosportkartingcentre.com
SUMMARY:Group Event
DESCRIPTION:
URL:https://mosportkartingcentre.com/event/group-event-206/
LOCATION:Mosport Karting Centre\, 3233 Concession Rd10\, Bowmanville\, Ontario\, L1C3K6\, Canada
CATEGORIES:Group Events
END:VEVENT
BEGIN:VEVENT
DTSTART;TZID=America/Toronto:20260530T160000
DTEND;TZID=America/Toronto:20260530T190000
DTSTAMP:20260419T113924
CREATED:20260418T225125Z
LAST-MODIFIED:20260418T225125Z
UID:10002576-1780156800-1780167600@mosportkartingcentre.com
SUMMARY:Group Event
DESCRIPTION:
URL:https://mosportkartingcentre.com/event/group-event-207/
LOCATION:Mosport Karting Centre\, 3233 Concession Rd10\, Bowmanville\, Ontario\, L1C3K6\, Canada
CATEGORIES:Group Events
END:VEVENT
BEGIN:VEVENT
DTSTART;TZID=America/Toronto:20260530T170000
DTEND;TZID=America/Toronto:20260530T190000
DTSTAMP:20260419T113924
CREATED:20260418T225222Z
LAST-MODIFIED:20260418T225222Z
UID:10002577-1780160400-1780167600@mosportkartingcentre.com
SUMMARY:Kid Kart 2-Hour Coaching
DESCRIPTION:
URL:https://mosportkartingcentre.com/event/kid-kart-2-hour-coaching-2/
LOCATION:Mosport Karting Centre\, 3233 Concession Rd10\, Bowmanville\, Ontario\, L1C3K6\, Canada
CATEGORIES:Kid Kart
END:VEVENT
BEGIN:VEVENT
DTSTART;TZID=America/Toronto:20260531T100000
DTEND;TZID=America/Toronto:20260531T130000
DTSTAMP:20260419T113924
CREATED:20260418T225344Z
LAST-MODIFIED:20260418T225344Z
UID:10002578-1780221600-1780232400@mosportkartingcentre.com
SUMMARY:Group Event
DESCRIPTION:
URL:https://mosportkartingcentre.com/event/group-event-208/
LOCATION:Mosport Karting Centre\, 3233 Concession Rd10\, Bowmanville\, Ontario\, L1C3K6\, Canada
CATEGORIES:Group Events
END:VEVENT
BEGIN:VEVENT
DTSTART;TZID=America/Toronto:20260531T130000
DTEND;TZID=America/Toronto:20260531T160000
DTSTAMP:20260419T113924
CREATED:20260418T225426Z
LAST-MODIFIED:20260418T225426Z
UID:10002579-1780232400-1780243200@mosportkartingcentre.com
SUMMARY:Group Event
DESCRIPTION:
URL:https://mosportkartingcentre.com/event/group-event-209/
LOCATION:Mosport Karting Centre\, 3233 Concession Rd10\, Bowmanville\, Ontario\, L1C3K6\, Canada
CATEGORIES:Group Events
END:VEVENT
BEGIN:VEVENT
DTSTART;TZID=America/Toronto:20260531T170000
DTEND;TZID=America/Toronto:20260531T190000
DTSTAMP:20260419T113924
CREATED:20260215T183356Z
LAST-MODIFIED:20260215T183356Z
UID:10002401-1780246800-1780254000@mosportkartingcentre.com
SUMMARY:MADRL Schedule 4 Race 2
DESCRIPTION:
URL:https://mosportkartingcentre.com/event/madrl-schedule-4-race-2-4/
LOCATION:Mosport Karting Centre\, 3233 Concession Rd10\, Bowmanville\, Ontario\, L1C3K6\, Canada
CATEGORIES:Arrive and Drive
END:VEVENT
BEGIN:VEVENT
DTSTART;VALUE=DATE:20260601
DTEND;VALUE=DATE:20260602
DTSTAMP:20260419T113924
CREATED:20260208T172052Z
LAST-MODIFIED:20260208T172204Z
UID:10002314-1780272000-1780358399@mosportkartingcentre.com
SUMMARY:Track Closed
DESCRIPTION:
URL:https://mosportkartingcentre.com/event/track-closed-64/
LOCATION:Mosport Karting Centre\, 3233 Concession Rd10\, Bowmanville\, Ontario\, L1C3K6\, Canada
CATEGORIES:Closed
END:VEVENT
BEGIN:VEVENT
DTSTART;TZID=America/Toronto:20260602T170000
DTEND;TZID=America/Toronto:20260602T190000
DTSTAMP:20260419T113924
CREATED:20260215T183549Z
LAST-MODIFIED:20260215T183549Z
UID:10002402-1780419600-1780426800@mosportkartingcentre.com
SUMMARY:MADRL Schedule 1 Race 3
DESCRIPTION:
URL:https://mosportkartingcentre.com/event/madrl-schedule-1-race-3-4/
LOCATION:Mosport Karting Centre\, 3233 Concession Rd10\, Bowmanville\, Ontario\, L1C3K6\, Canada
CATEGORIES:Arrive and Drive
END:VEVENT
BEGIN:VEVENT
DTSTART;TZID=America/Toronto:20260603T170000
DTEND;TZID=America/Toronto:20260603T190000
DTSTAMP:20260419T113924
CREATED:20260215T183641Z
LAST-MODIFIED:20260215T183641Z
UID:10002403-1780506000-1780513200@mosportkartingcentre.com
SUMMARY:MADRL Schedule 2 Race 3
DESCRIPTION:
URL:https://mosportkartingcentre.com/event/madrl-schedule-2-race-3-4/
LOCATION:Mosport Karting Centre\, 3233 Concession Rd10\, Bowmanville\, Ontario\, L1C3K6\, Canada
CATEGORIES:Arrive and Drive
END:VEVENT
BEGIN:VEVENT
DTSTART;TZID=America/Toronto:20260606T100000
DTEND;TZID=America/Toronto:20260606T120000
DTSTAMP:20260419T113924
CREATED:20260215T183752Z
LAST-MODIFIED:20260215T183752Z
UID:10002404-1780740000-1780747200@mosportkartingcentre.com
SUMMARY:MADRL Schedule 3 Race 3
DESCRIPTION:
URL:https://mosportkartingcentre.com/event/madrl-schedule-3-race-3-5/
LOCATION:Mosport Karting Centre\, 3233 Concession Rd10\, Bowmanville\, Ontario\, L1C3K6\, Canada
CATEGORIES:Arrive and Drive
END:VEVENT
BEGIN:VEVENT
DTSTART;TZID=America/Toronto:20260607T080000
DTEND;TZID=America/Toronto:20260607T170000
DTSTAMP:20260419T113924
CREATED:20260225T160614Z
LAST-MODIFIED:20260225T160614Z
UID:10002465-1780819200-1780851600@mosportkartingcentre.com
SUMMARY:MIKA Race 6
DESCRIPTION:
URL:https://mosportkartingcentre.com/event/mika-race-6-6/
LOCATION:Mosport Karting Centre\, 3233 Concession Rd10\, Bowmanville\, Ontario\, L1C3K6\, Canada
CATEGORIES:MIKA
END:VEVENT
BEGIN:VEVENT
DTSTART;TZID=America/Toronto:20260607T170000
DTEND;TZID=America/Toronto:20260607T190000
DTSTAMP:20260419T113924
CREATED:20260215T183838Z
LAST-MODIFIED:20260215T183838Z
UID:10002405-1780851600-1780858800@mosportkartingcentre.com
SUMMARY:MADRL Schedule 4 Race 3
DESCRIPTION:
URL:https://mosportkartingcentre.com/event/madrl-schedule-4-race-3-5/
LOCATION:Mosport Karting Centre\, 3233 Concession Rd10\, Bowmanville\, Ontario\, L1C3K6\, Canada
CATEGORIES:Arrive and Drive
END:VEVENT
BEGIN:VEVENT
DTSTART;VALUE=DATE:20260608
DTEND;VALUE=DATE:20260609
DTSTAMP:20260419T113924
CREATED:20260208T172128Z
LAST-MODIFIED:20260208T172128Z
UID:10002315-1780876800-1780963199@mosportkartingcentre.com
SUMMARY:Track Closed
DESCRIPTION:
URL:https://mosportkartingcentre.com/event/track-closed-65/
LOCATION:Mosport Karting Centre\, 3233 Concession Rd10\, Bowmanville\, Ontario\, L1C3K6\, Canada
CATEGORIES:Closed
END:VEVENT
BEGIN:VEVENT
DTSTART;VALUE=DATE:20260612
DTEND;VALUE=DATE:20260615
DTSTAMP:20260419T113924
CREATED:20260225T160902Z
LAST-MODIFIED:20260225T160931Z
UID:10002466-1781222400-1781481599@mosportkartingcentre.com
SUMMARY:MIKA Race 7/KartStars Round 2
DESCRIPTION:
URL:https://mosportkartingcentre.com/event/mika-race-kartstars-round-2/
LOCATION:Mosport Karting Centre\, 3233 Concession Rd10\, Bowmanville\, Ontario\, L1C3K6\, Canada
CATEGORIES:MIKA
END:VEVENT
BEGIN:VEVENT
DTSTART;VALUE=DATE:20260615
DTEND;VALUE=DATE:20260616
DTSTAMP:20260419T113924
CREATED:20260208T172300Z
LAST-MODIFIED:20260208T172417Z
UID:10002316-1781481600-1781567999@mosportkartingcentre.com
SUMMARY:Track Closed
DESCRIPTION:
URL:https://mosportkartingcentre.com/event/track-closed-66/
LOCATION:Mosport Karting Centre\, 3233 Concession Rd10\, Bowmanville\, Ontario\, L1C3K6\, Canada
CATEGORIES:Closed
END:VEVENT
BEGIN:VEVENT
DTSTART;VALUE=DATE:20260619
DTEND;VALUE=DATE:20260622
DTSTAMP:20260419T113924
CREATED:20260225T161125Z
LAST-MODIFIED:20260225T161125Z
UID:10002467-1781827200-1782086399@mosportkartingcentre.com
SUMMARY:RMC Ontario Race 2
DESCRIPTION:
URL:https://mosportkartingcentre.com/event/rmc-ontario-race-2/
LOCATION:Mosport Karting Centre\, 3233 Concession Rd10\, Bowmanville\, Ontario\, L1C3K6\, Canada
CATEGORIES:MIKA
END:VEVENT
END:VCALENDAR