BEGIN:VCALENDAR
VERSION:2.0
PRODID:-//Mosport Karting Centre - ECPv6.15.20//NONSGML v1.0//EN
CALSCALE:GREGORIAN
METHOD:PUBLISH
X-ORIGINAL-URL:https://mosportkartingcentre.com
X-WR-CALDESC:Events for Mosport Karting Centre
REFRESH-INTERVAL;VALUE=DURATION:PT1H
X-Robots-Tag:noindex
X-PUBLISHED-TTL:PT1H
BEGIN:VTIMEZONE
TZID:America/Toronto
BEGIN:DAYLIGHT
TZOFFSETFROM:-0500
TZOFFSETTO:-0400
TZNAME:EDT
DTSTART:20240310T070000
END:DAYLIGHT
BEGIN:STANDARD
TZOFFSETFROM:-0400
TZOFFSETTO:-0500
TZNAME:EST
DTSTART:20241103T060000
END:STANDARD
BEGIN:DAYLIGHT
TZOFFSETFROM:-0500
TZOFFSETTO:-0400
TZNAME:EDT
DTSTART:20250309T070000
END:DAYLIGHT
BEGIN:STANDARD
TZOFFSETFROM:-0400
TZOFFSETTO:-0500
TZNAME:EST
DTSTART:20251102T060000
END:STANDARD
BEGIN:DAYLIGHT
TZOFFSETFROM:-0500
TZOFFSETTO:-0400
TZNAME:EDT
DTSTART:20260308T070000
END:DAYLIGHT
BEGIN:STANDARD
TZOFFSETFROM:-0400
TZOFFSETTO:-0500
TZNAME:EST
DTSTART:20261101T060000
END:STANDARD
END:VTIMEZONE
BEGIN:VEVENT
DTSTART;TZID=America/Toronto:20250422T100000
DTEND;TZID=America/Toronto:20250422T180000
DTSTAMP:20260419T155055
CREATED:20250401T204411Z
LAST-MODIFIED:20250401T204411Z
UID:10002020-1745316000-1745344800@mosportkartingcentre.com
SUMMARY:Open Practice
DESCRIPTION:
URL:https://mosportkartingcentre.com/event/open-practice-287/
LOCATION:Mosport Karting Centre\, 3233 Concession Rd10\, Bowmanville\, Ontario\, L1C3K6\, Canada
CATEGORIES:Open Practice
END:VEVENT
BEGIN:VEVENT
DTSTART;TZID=America/Toronto:20250423T100000
DTEND;TZID=America/Toronto:20250423T180000
DTSTAMP:20260419T155055
CREATED:20250401T204424Z
LAST-MODIFIED:20250401T204424Z
UID:10002021-1745402400-1745431200@mosportkartingcentre.com
SUMMARY:Open Practice
DESCRIPTION:
URL:https://mosportkartingcentre.com/event/open-practice-288/
LOCATION:Mosport Karting Centre\, 3233 Concession Rd10\, Bowmanville\, Ontario\, L1C3K6\, Canada
CATEGORIES:Open Practice
END:VEVENT
BEGIN:VEVENT
DTSTART;TZID=America/Toronto:20250424T100000
DTEND;TZID=America/Toronto:20250424T180000
DTSTAMP:20260419T155055
CREATED:20250401T204447Z
LAST-MODIFIED:20250401T204447Z
UID:10002022-1745488800-1745517600@mosportkartingcentre.com
SUMMARY:Open Practice
DESCRIPTION:
URL:https://mosportkartingcentre.com/event/open-practice-289/
LOCATION:Mosport Karting Centre\, 3233 Concession Rd10\, Bowmanville\, Ontario\, L1C3K6\, Canada
CATEGORIES:Open Practice
END:VEVENT
BEGIN:VEVENT
DTSTART;TZID=America/Toronto:20250425T100000
DTEND;TZID=America/Toronto:20250425T180000
DTSTAMP:20260419T155055
CREATED:20250401T204500Z
LAST-MODIFIED:20250401T204500Z
UID:10002023-1745575200-1745604000@mosportkartingcentre.com
SUMMARY:Open Practice
DESCRIPTION:
URL:https://mosportkartingcentre.com/event/open-practice-290/
LOCATION:Mosport Karting Centre\, 3233 Concession Rd10\, Bowmanville\, Ontario\, L1C3K6\, Canada
CATEGORIES:Open Practice
END:VEVENT
BEGIN:VEVENT
DTSTART;TZID=America/Toronto:20250426T100000
DTEND;TZID=America/Toronto:20250426T180000
DTSTAMP:20260419T155055
CREATED:20250401T204524Z
LAST-MODIFIED:20250401T204524Z
UID:10002024-1745661600-1745690400@mosportkartingcentre.com
SUMMARY:Open Practice
DESCRIPTION:
URL:https://mosportkartingcentre.com/event/open-practice-291/
LOCATION:Mosport Karting Centre\, 3233 Concession Rd10\, Bowmanville\, Ontario\, L1C3K6\, Canada
CATEGORIES:Open Practice
END:VEVENT
BEGIN:VEVENT
DTSTART;TZID=America/Toronto:20250427T090000
DTEND;TZID=America/Toronto:20250427T170000
DTSTAMP:20260419T155055
CREATED:20250222T235611Z
LAST-MODIFIED:20250223T000827Z
UID:10001987-1745744400-1745773200@mosportkartingcentre.com
SUMMARY:MIKA Race 2
DESCRIPTION:
URL:https://mosportkartingcentre.com/event/mika-race-2-3/
LOCATION:Mosport Karting Centre\, 3233 Concession Rd10\, Bowmanville\, Ontario\, L1C3K6\, Canada
CATEGORIES:MIKA
END:VEVENT
BEGIN:VEVENT
DTSTART;VALUE=DATE:20250428
DTEND;VALUE=DATE:20250429
DTSTAMP:20260419T155055
CREATED:20250211T225817Z
LAST-MODIFIED:20250211T225817Z
UID:10001876-1745798400-1745884799@mosportkartingcentre.com
SUMMARY:Track Closed
DESCRIPTION:
URL:https://mosportkartingcentre.com/event/track-closed-33/
LOCATION:Mosport Karting Centre\, 3233 Concession Rd10\, Bowmanville\, Ontario\, L1C3K6\, Canada
CATEGORIES:Closed
ORGANIZER;CN="Mosport Karting Centre":MAILTO:info@mosportkartingcentre.com
END:VEVENT
BEGIN:VEVENT
DTSTART;TZID=America/Toronto:20250429T100000
DTEND;TZID=America/Toronto:20250429T160000
DTSTAMP:20260419T155055
CREATED:20250401T204750Z
LAST-MODIFIED:20250401T204750Z
UID:10002026-1745920800-1745942400@mosportkartingcentre.com
SUMMARY:Open Practice
DESCRIPTION:
URL:https://mosportkartingcentre.com/event/open-practice-292/
LOCATION:Mosport Karting Centre\, 3233 Concession Rd10\, Bowmanville\, Ontario\, L1C3K6\, Canada
CATEGORIES:Open Practice
END:VEVENT
BEGIN:VEVENT
DTSTART;TZID=America/Toronto:20250429T170000
DTEND;TZID=America/Toronto:20250429T200000
DTSTAMP:20260419T155055
CREATED:20250212T222017Z
LAST-MODIFIED:20250212T222017Z
UID:10001903-1745946000-1745956800@mosportkartingcentre.com
SUMMARY:MADRL Pre-Season Rookie Training
DESCRIPTION:
URL:https://mosportkartingcentre.com/event/madrl-pre-season-rookie-training/
LOCATION:Mosport Karting Centre\, 3233 Concession Rd10\, Bowmanville\, Ontario\, L1C3K6\, Canada
CATEGORIES:Arrive and Drive
ORGANIZER;CN="Mosport Karting Centre":MAILTO:info@mosportkartingcentre.com
END:VEVENT
BEGIN:VEVENT
DTSTART;TZID=America/Toronto:20250430T100000
DTEND;TZID=America/Toronto:20250430T160000
DTSTAMP:20260419T155055
CREATED:20250401T204806Z
LAST-MODIFIED:20250401T204806Z
UID:10002027-1746007200-1746028800@mosportkartingcentre.com
SUMMARY:Open Practice
DESCRIPTION:
URL:https://mosportkartingcentre.com/event/open-practice-293/
LOCATION:Mosport Karting Centre\, 3233 Concession Rd10\, Bowmanville\, Ontario\, L1C3K6\, Canada
CATEGORIES:Open Practice
END:VEVENT
BEGIN:VEVENT
DTSTART;TZID=America/Toronto:20250430T170000
DTEND;TZID=America/Toronto:20250430T200000
DTSTAMP:20260419T155055
CREATED:20250212T222211Z
LAST-MODIFIED:20250212T222211Z
UID:10001904-1746032400-1746043200@mosportkartingcentre.com
SUMMARY:MADRL Pre-Season Rookie Training
DESCRIPTION:
URL:https://mosportkartingcentre.com/event/madrl-pre-season-rookie-training-2/
LOCATION:Mosport Karting Centre\, 3233 Concession Rd10\, Bowmanville\, Ontario\, L1C3K6\, Canada
CATEGORIES:Arrive and Drive
ORGANIZER;CN="Mosport Karting Centre":MAILTO:info@mosportkartingcentre.com
END:VEVENT
BEGIN:VEVENT
DTSTART;TZID=America/Toronto:20250501T100000
DTEND;TZID=America/Toronto:20250501T160000
DTSTAMP:20260419T155055
CREATED:20250401T204831Z
LAST-MODIFIED:20250401T204831Z
UID:10002028-1746093600-1746115200@mosportkartingcentre.com
SUMMARY:Open Practice
DESCRIPTION:
URL:https://mosportkartingcentre.com/event/open-practice-294/
LOCATION:Mosport Karting Centre\, 3233 Concession Rd10\, Bowmanville\, Ontario\, L1C3K6\, Canada
CATEGORIES:Open Practice
END:VEVENT
BEGIN:VEVENT
DTSTART;TZID=America/Toronto:20250501T170000
DTEND;TZID=America/Toronto:20250501T200000
DTSTAMP:20260419T155055
CREATED:20250212T222721Z
LAST-MODIFIED:20250212T222721Z
UID:10001905-1746118800-1746129600@mosportkartingcentre.com
SUMMARY:MADRL Pre-Season Rookie Training
DESCRIPTION:
URL:https://mosportkartingcentre.com/event/madrl-pre-season-rookie-training-3/
LOCATION:Mosport Karting Centre\, 3233 Concession Rd10\, Bowmanville\, Ontario\, L1C3K6\, Canada
CATEGORIES:Arrive and Drive
ORGANIZER;CN="Mosport Karting Centre":MAILTO:info@mosportkartingcentre.com
END:VEVENT
BEGIN:VEVENT
DTSTART;TZID=America/Toronto:20250502T083000
DTEND;TZID=America/Toronto:20250502T170000
DTSTAMP:20260419T155055
CREATED:20250401T204918Z
LAST-MODIFIED:20250430T234744Z
UID:10002029-1746174600-1746205200@mosportkartingcentre.com
SUMMARY:Open Practice
DESCRIPTION:
URL:https://mosportkartingcentre.com/event/open-practice-295/
LOCATION:Mosport Karting Centre\, 3233 Concession Rd10\, Bowmanville\, Ontario\, L1C3K6\, Canada
CATEGORIES:Open Practice
ORGANIZER;CN="Mosport Karting Centre":MAILTO:info@mosportkartingcentre.com
END:VEVENT
BEGIN:VEVENT
DTSTART;TZID=America/Toronto:20250502T170000
DTEND;TZID=America/Toronto:20250502T200000
DTSTAMP:20260419T155055
CREATED:20250212T223310Z
LAST-MODIFIED:20250212T223310Z
UID:10001906-1746205200-1746216000@mosportkartingcentre.com
SUMMARY:MADRL Pre-Season Rookie Training
DESCRIPTION:
URL:https://mosportkartingcentre.com/event/madrl-pre-season-rookie-training-4/
LOCATION:Mosport Karting Centre\, 3233 Concession Rd10\, Bowmanville\, Ontario\, L1C3K6\, Canada
CATEGORIES:Arrive and Drive
ORGANIZER;CN="Mosport Karting Centre":MAILTO:info@mosportkartingcentre.com
END:VEVENT
BEGIN:VEVENT
DTSTART;TZID=America/Toronto:20250503T090000
DTEND;TZID=America/Toronto:20250503T180000
DTSTAMP:20260419T155055
CREATED:20250222T235840Z
LAST-MODIFIED:20250222T235840Z
UID:10001988-1746262800-1746295200@mosportkartingcentre.com
SUMMARY:MIKA Race 3 - ROK Canada Spring Shootout
DESCRIPTION:
URL:https://mosportkartingcentre.com/event/mika-race-3-rok-canada-spring-shootout/
LOCATION:Mosport Karting Centre\, 3233 Concession Rd10\, Bowmanville\, Ontario\, L1C3K6\, Canada
CATEGORIES:MIKA
END:VEVENT
BEGIN:VEVENT
DTSTART;TZID=America/Toronto:20250504T090000
DTEND;TZID=America/Toronto:20250504T170000
DTSTAMP:20260419T155055
CREATED:20250222T235928Z
LAST-MODIFIED:20250222T235928Z
UID:10001989-1746349200-1746378000@mosportkartingcentre.com
SUMMARY:MIKA Race 3 - ROK Canada Spring Shootout
DESCRIPTION:
URL:https://mosportkartingcentre.com/event/mika-race-3-rok-canada-spring-shootout-2/
LOCATION:Mosport Karting Centre\, 3233 Concession Rd10\, Bowmanville\, Ontario\, L1C3K6\, Canada
CATEGORIES:MIKA
END:VEVENT
BEGIN:VEVENT
DTSTART;TZID=America/Toronto:20250504T170000
DTEND;TZID=America/Toronto:20250504T200000
DTSTAMP:20260419T155055
CREATED:20250212T223638Z
LAST-MODIFIED:20250212T223638Z
UID:10001908-1746378000-1746388800@mosportkartingcentre.com
SUMMARY:MADRL Pre-Season Rookie Training
DESCRIPTION:
URL:https://mosportkartingcentre.com/event/madrl-pre-season-rookie-training-6/
LOCATION:Mosport Karting Centre\, 3233 Concession Rd10\, Bowmanville\, Ontario\, L1C3K6\, Canada
CATEGORIES:Arrive and Drive
ORGANIZER;CN="Mosport Karting Centre":MAILTO:info@mosportkartingcentre.com
END:VEVENT
BEGIN:VEVENT
DTSTART;VALUE=DATE:20250505
DTEND;VALUE=DATE:20250506
DTSTAMP:20260419T155055
CREATED:20250211T225912Z
LAST-MODIFIED:20250211T225912Z
UID:10001877-1746403200-1746489599@mosportkartingcentre.com
SUMMARY:Track Closed
DESCRIPTION:
URL:https://mosportkartingcentre.com/event/track-closed-34/
LOCATION:Mosport Karting Centre\, 3233 Concession Rd10\, Bowmanville\, Ontario\, L1C3K6\, Canada
CATEGORIES:Closed
ORGANIZER;CN="Mosport Karting Centre":MAILTO:info@mosportkartingcentre.com
END:VEVENT
BEGIN:VEVENT
DTSTART;TZID=America/Toronto:20250506T100000
DTEND;TZID=America/Toronto:20250506T163000
DTSTAMP:20260419T155055
CREATED:20250426T171935Z
LAST-MODIFIED:20250426T171935Z
UID:10002030-1746525600-1746549000@mosportkartingcentre.com
SUMMARY:Open Practice
DESCRIPTION:
URL:https://mosportkartingcentre.com/event/open-practice-296/
LOCATION:Mosport Karting Centre\, 3233 Concession Rd10\, Bowmanville\, Ontario\, L1C3K6\, Canada
CATEGORIES:Open Practice
END:VEVENT
BEGIN:VEVENT
DTSTART;TZID=America/Toronto:20250506T170000
DTEND;TZID=America/Toronto:20250506T200000
DTSTAMP:20260419T155055
CREATED:20250212T224140Z
LAST-MODIFIED:20250212T224140Z
UID:10001909-1746550800-1746561600@mosportkartingcentre.com
SUMMARY:MADRL Pre-Season Rookie Training
DESCRIPTION:
URL:https://mosportkartingcentre.com/event/madrl-pre-season-rookie-training-7/
LOCATION:Mosport Karting Centre\, 3233 Concession Rd10\, Bowmanville\, Ontario\, L1C3K6\, Canada
CATEGORIES:Arrive and Drive
ORGANIZER;CN="Mosport Karting Centre":MAILTO:info@mosportkartingcentre.com
END:VEVENT
BEGIN:VEVENT
DTSTART;TZID=America/Toronto:20250507T100000
DTEND;TZID=America/Toronto:20250507T163000
DTSTAMP:20260419T155055
CREATED:20250426T172117Z
LAST-MODIFIED:20250426T172117Z
UID:10002031-1746612000-1746635400@mosportkartingcentre.com
SUMMARY:Open Practice
DESCRIPTION:
URL:https://mosportkartingcentre.com/event/open-practice-297/
LOCATION:Mosport Karting Centre\, 3233 Concession Rd10\, Bowmanville\, Ontario\, L1C3K6\, Canada
CATEGORIES:Open Practice
END:VEVENT
BEGIN:VEVENT
DTSTART;TZID=America/Toronto:20250507T170000
DTEND;TZID=America/Toronto:20250507T200000
DTSTAMP:20260419T155055
CREATED:20250212T224300Z
LAST-MODIFIED:20250212T224300Z
UID:10001910-1746637200-1746648000@mosportkartingcentre.com
SUMMARY:MADRL Pre-Season Rookie Training
DESCRIPTION:
URL:https://mosportkartingcentre.com/event/madrl-pre-season-rookie-training-8/
LOCATION:Mosport Karting Centre\, 3233 Concession Rd10\, Bowmanville\, Ontario\, L1C3K6\, Canada
CATEGORIES:Arrive and Drive
ORGANIZER;CN="Mosport Karting Centre":MAILTO:info@mosportkartingcentre.com
END:VEVENT
BEGIN:VEVENT
DTSTART;TZID=America/Toronto:20250508T100000
DTEND;TZID=America/Toronto:20250508T163000
DTSTAMP:20260419T155055
CREATED:20250426T172740Z
LAST-MODIFIED:20250426T172740Z
UID:10002032-1746698400-1746721800@mosportkartingcentre.com
SUMMARY:Open Practice
DESCRIPTION:
URL:https://mosportkartingcentre.com/event/open-practice-298/
LOCATION:Mosport Karting Centre\, 3233 Concession Rd10\, Bowmanville\, Ontario\, L1C3K6\, Canada
CATEGORIES:Open Practice
END:VEVENT
BEGIN:VEVENT
DTSTART;TZID=America/Toronto:20250508T170000
DTEND;TZID=America/Toronto:20250508T200000
DTSTAMP:20260419T155055
CREATED:20250212T224414Z
LAST-MODIFIED:20250212T224414Z
UID:10001911-1746723600-1746734400@mosportkartingcentre.com
SUMMARY:MADRL Pre-Season Rookie Training
DESCRIPTION:
URL:https://mosportkartingcentre.com/event/madrl-pre-season-rookie-training-9/
LOCATION:Mosport Karting Centre\, 3233 Concession Rd10\, Bowmanville\, Ontario\, L1C3K6\, Canada
CATEGORIES:Arrive and Drive
ORGANIZER;CN="Mosport Karting Centre":MAILTO:info@mosportkartingcentre.com
END:VEVENT
BEGIN:VEVENT
DTSTART;TZID=America/Toronto:20250509T100000
DTEND;TZID=America/Toronto:20250509T163000
DTSTAMP:20260419T155055
CREATED:20250426T174428Z
LAST-MODIFIED:20250426T174428Z
UID:10002033-1746784800-1746808200@mosportkartingcentre.com
SUMMARY:Open Practice
DESCRIPTION:
URL:https://mosportkartingcentre.com/event/open-practice-299/
LOCATION:Mosport Karting Centre\, 3233 Concession Rd10\, Bowmanville\, Ontario\, L1C3K6\, Canada
CATEGORIES:Open Practice
END:VEVENT
BEGIN:VEVENT
DTSTART;TZID=America/Toronto:20250509T170000
DTEND;TZID=America/Toronto:20250509T200000
DTSTAMP:20260419T155055
CREATED:20250212T225548Z
LAST-MODIFIED:20250212T225548Z
UID:10001912-1746810000-1746820800@mosportkartingcentre.com
SUMMARY:MADRL Pre-Season Rookie Training
DESCRIPTION:
URL:https://mosportkartingcentre.com/event/madrl-pre-season-rookie-training-10/
LOCATION:Mosport Karting Centre\, 3233 Concession Rd10\, Bowmanville\, Ontario\, L1C3K6\, Canada
CATEGORIES:Arrive and Drive
ORGANIZER;CN="Mosport Karting Centre":MAILTO:info@mosportkartingcentre.com
END:VEVENT
BEGIN:VEVENT
DTSTART;TZID=America/Toronto:20250510T100000
DTEND;TZID=America/Toronto:20250510T180000
DTSTAMP:20260419T155055
CREATED:20250426T174523Z
LAST-MODIFIED:20250426T174523Z
UID:10002034-1746871200-1746900000@mosportkartingcentre.com
SUMMARY:Open Practice
DESCRIPTION:
URL:https://mosportkartingcentre.com/event/open-practice-300/
LOCATION:Mosport Karting Centre\, 3233 Concession Rd10\, Bowmanville\, Ontario\, L1C3K6\, Canada
CATEGORIES:Open Practice
END:VEVENT
BEGIN:VEVENT
DTSTART;TZID=America/Toronto:20250510T170000
DTEND;TZID=America/Toronto:20250510T200000
DTSTAMP:20260419T155055
CREATED:20250212T225833Z
LAST-MODIFIED:20250212T225833Z
UID:10001913-1746896400-1746907200@mosportkartingcentre.com
SUMMARY:MADRL Pre-Season Rookie Training
DESCRIPTION:
URL:https://mosportkartingcentre.com/event/madrl-pre-season-rookie-training-11/
LOCATION:Mosport Karting Centre\, 3233 Concession Rd10\, Bowmanville\, Ontario\, L1C3K6\, Canada
CATEGORIES:Arrive and Drive
ORGANIZER;CN="Mosport Karting Centre":MAILTO:info@mosportkartingcentre.com
END:VEVENT
BEGIN:VEVENT
DTSTART;TZID=America/Toronto:20250511T090000
DTEND;TZID=America/Toronto:20250511T170000
DTSTAMP:20260419T155055
CREATED:20250223T000708Z
LAST-MODIFIED:20250223T000708Z
UID:10001990-1746954000-1746982800@mosportkartingcentre.com
SUMMARY:MIKA Race 4
DESCRIPTION:
URL:https://mosportkartingcentre.com/event/mika-race-4-2/
LOCATION:Mosport Karting Centre\, 3233 Concession Rd10\, Bowmanville\, Ontario\, L1C3K6\, Canada
CATEGORIES:MIKA
END:VEVENT
END:VCALENDAR