BEGIN:VCALENDAR
VERSION:2.0
PRODID:-//Mosport Karting Centre - ECPv6.15.20//NONSGML v1.0//EN
CALSCALE:GREGORIAN
METHOD:PUBLISH
X-ORIGINAL-URL:https://mosportkartingcentre.com
X-WR-CALDESC:Events for Mosport Karting Centre
REFRESH-INTERVAL;VALUE=DURATION:PT1H
X-Robots-Tag:noindex
X-PUBLISHED-TTL:PT1H
BEGIN:VTIMEZONE
TZID:America/Toronto
BEGIN:DAYLIGHT
TZOFFSETFROM:-0500
TZOFFSETTO:-0400
TZNAME:EDT
DTSTART:20250309T070000
END:DAYLIGHT
BEGIN:STANDARD
TZOFFSETFROM:-0400
TZOFFSETTO:-0500
TZNAME:EST
DTSTART:20251102T060000
END:STANDARD
BEGIN:DAYLIGHT
TZOFFSETFROM:-0500
TZOFFSETTO:-0400
TZNAME:EDT
DTSTART:20260308T070000
END:DAYLIGHT
BEGIN:STANDARD
TZOFFSETFROM:-0400
TZOFFSETTO:-0500
TZNAME:EST
DTSTART:20261101T060000
END:STANDARD
BEGIN:DAYLIGHT
TZOFFSETFROM:-0500
TZOFFSETTO:-0400
TZNAME:EDT
DTSTART:20270314T070000
END:DAYLIGHT
BEGIN:STANDARD
TZOFFSETFROM:-0400
TZOFFSETTO:-0500
TZNAME:EST
DTSTART:20271107T060000
END:STANDARD
END:VTIMEZONE
BEGIN:VEVENT
DTSTART;TZID=America/Toronto:20260904T090000
DTEND;TZID=America/Toronto:20260904T170000
DTSTAMP:20260425T101618
CREATED:20260215T191303Z
LAST-MODIFIED:20260215T191303Z
UID:10002439-1788512400-1788541200@mosportkartingcentre.com
SUMMARY:1-Day Summer Camp
DESCRIPTION:
URL:https://mosportkartingcentre.com/event/1-day-summer-camp-3/
LOCATION:Mosport Karting Centre\, 3233 Concession Rd10\, Bowmanville\, Ontario\, L1C3K6\, Canada
CATEGORIES:Racing Camp/Schools
END:VEVENT
BEGIN:VEVENT
DTSTART;TZID=America/Toronto:20260905T100000
DTEND;TZID=America/Toronto:20260905T120000
DTSTAMP:20260425T101618
CREATED:20260215T191347Z
LAST-MODIFIED:20260215T191347Z
UID:10002440-1788602400-1788609600@mosportkartingcentre.com
SUMMARY:MADRL Schedule 3 Race 9
DESCRIPTION:
URL:https://mosportkartingcentre.com/event/madrl-schedule-3-race-9-5/
LOCATION:Mosport Karting Centre\, 3233 Concession Rd10\, Bowmanville\, Ontario\, L1C3K6\, Canada
CATEGORIES:Arrive and Drive
END:VEVENT
BEGIN:VEVENT
DTSTART;TZID=America/Toronto:20260906T100000
DTEND;TZID=America/Toronto:20260906T120000
DTSTAMP:20260425T101618
CREATED:20260215T191552Z
LAST-MODIFIED:20260215T191552Z
UID:10002442-1788688800-1788696000@mosportkartingcentre.com
SUMMARY:MTCC Round 4 - Labour Day Cup
DESCRIPTION:
URL:https://mosportkartingcentre.com/event/mtcc-round-4-labour-day-cup-3/
LOCATION:Mosport Karting Centre\, 3233 Concession Rd10\, Bowmanville\, Ontario\, L1C3K6\, Canada
CATEGORIES:Arrive and Drive
END:VEVENT
BEGIN:VEVENT
DTSTART;TZID=America/Toronto:20260906T170000
DTEND;TZID=America/Toronto:20260906T190000
DTSTAMP:20260425T101618
CREATED:20260215T191450Z
LAST-MODIFIED:20260215T191450Z
UID:10002441-1788714000-1788721200@mosportkartingcentre.com
SUMMARY:MADRL Schedule 4 Race 9
DESCRIPTION:
URL:https://mosportkartingcentre.com/event/madrl-schedule-4-race-9-5/
LOCATION:Mosport Karting Centre\, 3233 Concession Rd10\, Bowmanville\, Ontario\, L1C3K6\, Canada
CATEGORIES:Arrive and Drive
END:VEVENT
BEGIN:VEVENT
DTSTART;VALUE=DATE:20260907
DTEND;VALUE=DATE:20260908
DTSTAMP:20260425T101618
CREATED:20260208T173327Z
LAST-MODIFIED:20260208T173327Z
UID:10002328-1788739200-1788825599@mosportkartingcentre.com
SUMMARY:Track Closed
DESCRIPTION:
URL:https://mosportkartingcentre.com/event/track-closed-78/
LOCATION:Mosport Karting Centre\, 3233 Concession Rd10\, Bowmanville\, Ontario\, L1C3K6\, Canada
CATEGORIES:Closed
END:VEVENT
BEGIN:VEVENT
DTSTART;TZID=America/Toronto:20260908T170000
DTEND;TZID=America/Toronto:20260908T190000
DTSTAMP:20260425T101618
CREATED:20260215T191704Z
LAST-MODIFIED:20260215T191704Z
UID:10002443-1788886800-1788894000@mosportkartingcentre.com
SUMMARY:MADRL Schedule 1 Race 10
DESCRIPTION:
URL:https://mosportkartingcentre.com/event/madrl-schedule-1-race-10-5/
LOCATION:Mosport Karting Centre\, 3233 Concession Rd10\, Bowmanville\, Ontario\, L1C3K6\, Canada
CATEGORIES:Arrive and Drive
END:VEVENT
BEGIN:VEVENT
DTSTART;TZID=America/Toronto:20260909T170000
DTEND;TZID=America/Toronto:20260909T190000
DTSTAMP:20260425T101618
CREATED:20260215T191738Z
LAST-MODIFIED:20260215T191738Z
UID:10002444-1788973200-1788980400@mosportkartingcentre.com
SUMMARY:MADRL Schedule 2 Race 10
DESCRIPTION:
URL:https://mosportkartingcentre.com/event/madrl-schedule-2-race-10-5/
LOCATION:Mosport Karting Centre\, 3233 Concession Rd10\, Bowmanville\, Ontario\, L1C3K6\, Canada
CATEGORIES:Arrive and Drive
END:VEVENT
BEGIN:VEVENT
DTSTART;TZID=America/Toronto:20260912T100000
DTEND;TZID=America/Toronto:20260912T120000
DTSTAMP:20260425T101618
CREATED:20260215T191826Z
LAST-MODIFIED:20260215T191826Z
UID:10002445-1789207200-1789214400@mosportkartingcentre.com
SUMMARY:MADRL Schedule 3 Race 10
DESCRIPTION:
URL:https://mosportkartingcentre.com/event/madrl-schedule-3-race-10-5/
LOCATION:Mosport Karting Centre\, 3233 Concession Rd10\, Bowmanville\, Ontario\, L1C3K6\, Canada
CATEGORIES:Arrive and Drive
END:VEVENT
BEGIN:VEVENT
DTSTART;TZID=America/Toronto:20260913T170000
DTEND;TZID=America/Toronto:20260913T190000
DTSTAMP:20260425T101618
CREATED:20260215T191912Z
LAST-MODIFIED:20260215T191912Z
UID:10002446-1789318800-1789326000@mosportkartingcentre.com
SUMMARY:MADRL Schedule 4 Race 10
DESCRIPTION:
URL:https://mosportkartingcentre.com/event/madrl-schedule-4-race-10-5/
LOCATION:Mosport Karting Centre\, 3233 Concession Rd10\, Bowmanville\, Ontario\, L1C3K6\, Canada
CATEGORIES:Arrive and Drive
END:VEVENT
BEGIN:VEVENT
DTSTART;VALUE=DATE:20260914
DTEND;VALUE=DATE:20260915
DTSTAMP:20260425T101618
CREATED:20260208T173419Z
LAST-MODIFIED:20260208T173419Z
UID:10002329-1789344000-1789430399@mosportkartingcentre.com
SUMMARY:Track Closed
DESCRIPTION:
URL:https://mosportkartingcentre.com/event/track-closed-79/
LOCATION:Mosport Karting Centre\, 3233 Concession Rd10\, Bowmanville\, Ontario\, L1C3K6\, Canada
CATEGORIES:Closed
END:VEVENT
BEGIN:VEVENT
DTSTART;TZID=America/Toronto:20260915T163000
DTEND;TZID=America/Toronto:20260915T190000
DTSTAMP:20260425T101618
CREATED:20260215T192018Z
LAST-MODIFIED:20260215T192519Z
UID:10002447-1789489800-1789498800@mosportkartingcentre.com
SUMMARY:MADRL Schedule 1 Semi-Final 1
DESCRIPTION:
URL:https://mosportkartingcentre.com/event/madrl-schedule-1-semi-final-1-5/
LOCATION:Mosport Karting Centre\, 3233 Concession Rd10\, Bowmanville\, Ontario\, L1C3K6\, Canada
CATEGORIES:Arrive and Drive
END:VEVENT
BEGIN:VEVENT
DTSTART;TZID=America/Toronto:20260916T163000
DTEND;TZID=America/Toronto:20260916T190000
DTSTAMP:20260425T101618
CREATED:20260215T192055Z
LAST-MODIFIED:20260215T192500Z
UID:10002448-1789576200-1789585200@mosportkartingcentre.com
SUMMARY:MADRL Schedule 2 Semi-Final 1
DESCRIPTION:
URL:https://mosportkartingcentre.com/event/madrl-schedule-2-semi-final-1-5/
LOCATION:Mosport Karting Centre\, 3233 Concession Rd10\, Bowmanville\, Ontario\, L1C3K6\, Canada
CATEGORIES:Arrive and Drive
END:VEVENT
BEGIN:VEVENT
DTSTART;TZID=America/Toronto:20260919T100000
DTEND;TZID=America/Toronto:20260919T120000
DTSTAMP:20260425T101618
CREATED:20260215T192148Z
LAST-MODIFIED:20260215T192148Z
UID:10002449-1789812000-1789819200@mosportkartingcentre.com
SUMMARY:MADRL Schedule 3 Semi-Final 1
DESCRIPTION:
URL:https://mosportkartingcentre.com/event/madrl-schedule-3-semi-final-1-5/
LOCATION:Mosport Karting Centre\, 3233 Concession Rd10\, Bowmanville\, Ontario\, L1C3K6\, Canada
CATEGORIES:Arrive and Drive
END:VEVENT
BEGIN:VEVENT
DTSTART;TZID=America/Toronto:20260920T163000
DTEND;TZID=America/Toronto:20260920T190000
DTSTAMP:20260425T101618
CREATED:20260215T192232Z
LAST-MODIFIED:20260215T192421Z
UID:10002450-1789921800-1789930800@mosportkartingcentre.com
SUMMARY:MADRL Schedule 4 Semi-Final 1
DESCRIPTION:
URL:https://mosportkartingcentre.com/event/madrl-schedule-4-semi-final-1-5/
LOCATION:Mosport Karting Centre\, 3233 Concession Rd10\, Bowmanville\, Ontario\, L1C3K6\, Canada
CATEGORIES:Arrive and Drive
END:VEVENT
BEGIN:VEVENT
DTSTART;VALUE=DATE:20260921
DTEND;VALUE=DATE:20260922
DTSTAMP:20260425T101618
CREATED:20260208T173528Z
LAST-MODIFIED:20260208T173541Z
UID:10002330-1789948800-1790035199@mosportkartingcentre.com
SUMMARY:Track Closed
DESCRIPTION:
URL:https://mosportkartingcentre.com/event/track-closed-80/
LOCATION:Mosport Karting Centre\, 3233 Concession Rd10\, Bowmanville\, Ontario\, L1C3K6\, Canada
CATEGORIES:Closed
END:VEVENT
BEGIN:VEVENT
DTSTART;TZID=America/Toronto:20260927T080000
DTEND;TZID=America/Toronto:20260927T170000
DTSTAMP:20260425T101618
CREATED:20260225T161636Z
LAST-MODIFIED:20260225T161636Z
UID:10002471-1790496000-1790528400@mosportkartingcentre.com
SUMMARY:MIKA Race 12
DESCRIPTION:
URL:https://mosportkartingcentre.com/event/mika-race-12-3/
LOCATION:Mosport Karting Centre\, 3233 Concession Rd10\, Bowmanville\, Ontario\, L1C3K6\, Canada
CATEGORIES:MIKA
END:VEVENT
BEGIN:VEVENT
DTSTART;VALUE=DATE:20260928
DTEND;VALUE=DATE:20260929
DTSTAMP:20260425T101618
CREATED:20260208T173637Z
LAST-MODIFIED:20260208T173637Z
UID:10002331-1790553600-1790639999@mosportkartingcentre.com
SUMMARY:Track Closed
DESCRIPTION:
URL:https://mosportkartingcentre.com/event/track-closed-81/
LOCATION:Mosport Karting Centre\, 3233 Concession Rd10\, Bowmanville\, Ontario\, L1C3K6\, Canada
CATEGORIES:Closed
END:VEVENT
BEGIN:VEVENT
DTSTART;TZID=America/Toronto:20260929T163000
DTEND;TZID=America/Toronto:20260929T190000
DTSTAMP:20260425T101618
CREATED:20260215T192347Z
LAST-MODIFIED:20260215T192347Z
UID:10002451-1790699400-1790708400@mosportkartingcentre.com
SUMMARY:MADRL Schedule 1 Semi-Final 2
DESCRIPTION:
URL:https://mosportkartingcentre.com/event/madrl-schedule-1-semi-final-2-5/
LOCATION:Mosport Karting Centre\, 3233 Concession Rd10\, Bowmanville\, Ontario\, L1C3K6\, Canada
CATEGORIES:Arrive and Drive
END:VEVENT
BEGIN:VEVENT
DTSTART;TZID=America/Toronto:20260930T163000
DTEND;TZID=America/Toronto:20260930T190000
DTSTAMP:20260425T101618
CREATED:20260215T192618Z
LAST-MODIFIED:20260215T192618Z
UID:10002452-1790785800-1790794800@mosportkartingcentre.com
SUMMARY:MADRL Schedule 2 Semi-Final 2
DESCRIPTION:
URL:https://mosportkartingcentre.com/event/madrl-schedule-2-semi-final-2-5/
LOCATION:Mosport Karting Centre\, 3233 Concession Rd10\, Bowmanville\, Ontario\, L1C3K6\, Canada
CATEGORIES:Arrive and Drive
END:VEVENT
BEGIN:VEVENT
DTSTART;TZID=America/Toronto:20261003T100000
DTEND;TZID=America/Toronto:20261003T120000
DTSTAMP:20260425T101618
CREATED:20260215T192721Z
LAST-MODIFIED:20260215T192721Z
UID:10002453-1791021600-1791028800@mosportkartingcentre.com
SUMMARY:MADRL Schedule 3 Semi-Final 2
DESCRIPTION:
URL:https://mosportkartingcentre.com/event/madrl-schedule-3-semi-final-2-5/
LOCATION:Mosport Karting Centre\, 3233 Concession Rd10\, Bowmanville\, Ontario\, L1C3K6\, Canada
CATEGORIES:Arrive and Drive
END:VEVENT
BEGIN:VEVENT
DTSTART;TZID=America/Toronto:20261004T163000
DTEND;TZID=America/Toronto:20261004T190000
DTSTAMP:20260425T101618
CREATED:20260215T192756Z
LAST-MODIFIED:20260215T192756Z
UID:10002454-1791131400-1791140400@mosportkartingcentre.com
SUMMARY:MADRL Schedule 4 Semi-Final 2
DESCRIPTION:
URL:https://mosportkartingcentre.com/event/madrl-schedule-4-semi-final-2-5/
LOCATION:Mosport Karting Centre\, 3233 Concession Rd10\, Bowmanville\, Ontario\, L1C3K6\, Canada
CATEGORIES:Arrive and Drive
END:VEVENT
BEGIN:VEVENT
DTSTART;VALUE=DATE:20261005
DTEND;VALUE=DATE:20261006
DTSTAMP:20260425T101618
CREATED:20260208T173747Z
LAST-MODIFIED:20260208T173747Z
UID:10002332-1791158400-1791244799@mosportkartingcentre.com
SUMMARY:Track Closed
DESCRIPTION:
URL:https://mosportkartingcentre.com/event/track-closed-82/
LOCATION:Mosport Karting Centre\, 3233 Concession Rd10\, Bowmanville\, Ontario\, L1C3K6\, Canada
CATEGORIES:Closed
END:VEVENT
BEGIN:VEVENT
DTSTART;TZID=America/Toronto:20261010T080000
DTEND;TZID=America/Toronto:20261010T170000
DTSTAMP:20260425T101618
CREATED:20260225T161717Z
LAST-MODIFIED:20260225T161717Z
UID:10002472-1791619200-1791651600@mosportkartingcentre.com
SUMMARY:MIKA Race 13
DESCRIPTION:
URL:https://mosportkartingcentre.com/event/mika-race-13-4/
LOCATION:Mosport Karting Centre\, 3233 Concession Rd10\, Bowmanville\, Ontario\, L1C3K6\, Canada
CATEGORIES:MIKA
END:VEVENT
BEGIN:VEVENT
DTSTART;TZID=America/Toronto:20261011T100000
DTEND;TZID=America/Toronto:20261011T170000
DTSTAMP:20260425T101618
CREATED:20260225T161827Z
LAST-MODIFIED:20260225T161827Z
UID:10002473-1791712800-1791738000@mosportkartingcentre.com
SUMMARY:MIKA Enduro
DESCRIPTION:
URL:https://mosportkartingcentre.com/event/mika-enduro/
LOCATION:Mosport Karting Centre\, 3233 Concession Rd10\, Bowmanville\, Ontario\, L1C3K6\, Canada
CATEGORIES:MIKA
END:VEVENT
BEGIN:VEVENT
DTSTART;TZID=America/Toronto:20261012T100000
DTEND;TZID=America/Toronto:20261012T120000
DTSTAMP:20260425T101618
CREATED:20260215T192919Z
LAST-MODIFIED:20260215T192919Z
UID:10002455-1791799200-1791806400@mosportkartingcentre.com
SUMMARY:MTCC Round 5 - The Turkey Cup
DESCRIPTION:
URL:https://mosportkartingcentre.com/event/mtcc-round-5-the-turkey-cup-3/
LOCATION:Mosport Karting Centre\, 3233 Concession Rd10\, Bowmanville\, Ontario\, L1C3K6\, Canada
CATEGORIES:Arrive and Drive
END:VEVENT
BEGIN:VEVENT
DTSTART;TZID=America/Toronto:20261012T130000
DTEND;TZID=America/Toronto:20261012T200000
DTSTAMP:20260425T101618
CREATED:20260208T173818Z
LAST-MODIFIED:20260208T174004Z
UID:10002333-1791810000-1791835200@mosportkartingcentre.com
SUMMARY:Track Closed
DESCRIPTION:
URL:https://mosportkartingcentre.com/event/track-closed-83/
LOCATION:Mosport Karting Centre\, 3233 Concession Rd10\, Bowmanville\, Ontario\, L1C3K6\, Canada
CATEGORIES:Closed
END:VEVENT
BEGIN:VEVENT
DTSTART;TZID=America/Toronto:20261017T090000
DTEND;TZID=America/Toronto:20261017T170000
DTSTAMP:20260425T101618
CREATED:20260215T193043Z
LAST-MODIFIED:20260215T193043Z
UID:10002456-1792227600-1792256400@mosportkartingcentre.com
SUMMARY:MADRL Championship Finals
DESCRIPTION:
URL:https://mosportkartingcentre.com/event/madrl-championship-finals-9/
LOCATION:Mosport Karting Centre\, 3233 Concession Rd10\, Bowmanville\, Ontario\, L1C3K6\, Canada
CATEGORIES:Arrive and Drive
END:VEVENT
BEGIN:VEVENT
DTSTART;TZID=America/Toronto:20261018T090000
DTEND;TZID=America/Toronto:20261018T170000
DTSTAMP:20260425T101618
CREATED:20260215T193110Z
LAST-MODIFIED:20260215T193110Z
UID:10002457-1792314000-1792342800@mosportkartingcentre.com
SUMMARY:MADRL Championship Finals
DESCRIPTION:
URL:https://mosportkartingcentre.com/event/madrl-championship-finals-10/
LOCATION:Mosport Karting Centre\, 3233 Concession Rd10\, Bowmanville\, Ontario\, L1C3K6\, Canada
CATEGORIES:Arrive and Drive
END:VEVENT
BEGIN:VEVENT
DTSTART;VALUE=DATE:20261019
DTEND;VALUE=DATE:20261020
DTSTAMP:20260425T101618
CREATED:20260208T174104Z
LAST-MODIFIED:20260208T174119Z
UID:10002334-1792368000-1792454399@mosportkartingcentre.com
SUMMARY:Track Closed
DESCRIPTION:
URL:https://mosportkartingcentre.com/event/track-closed-84/
LOCATION:Mosport Karting Centre\, 3233 Concession Rd10\, Bowmanville\, Ontario\, L1C3K6\, Canada
CATEGORIES:Closed
END:VEVENT
BEGIN:VEVENT
DTSTART;TZID=America/Toronto:20261025T100000
DTEND;TZID=America/Toronto:20261025T170000
DTSTAMP:20260425T101618
CREATED:20260215T193217Z
LAST-MODIFIED:20260215T193217Z
UID:10002458-1792922400-1792947600@mosportkartingcentre.com
SUMMARY:MADRL Race Of Champions
DESCRIPTION:
URL:https://mosportkartingcentre.com/event/madrl-race-of-champions-5/
LOCATION:Mosport Karting Centre\, 3233 Concession Rd10\, Bowmanville\, Ontario\, L1C3K6\, Canada
CATEGORIES:Arrive and Drive
END:VEVENT
END:VCALENDAR