BEGIN:VCALENDAR
VERSION:2.0
PRODID:-//Mosport Karting Centre - ECPv6.15.20//NONSGML v1.0//EN
CALSCALE:GREGORIAN
METHOD:PUBLISH
X-WR-CALNAME:Mosport Karting Centre
X-ORIGINAL-URL:https://mosportkartingcentre.com
X-WR-CALDESC:Events for Mosport Karting Centre
REFRESH-INTERVAL;VALUE=DURATION:PT1H
X-Robots-Tag:noindex
X-PUBLISHED-TTL:PT1H
BEGIN:VTIMEZONE
TZID:America/Toronto
BEGIN:DAYLIGHT
TZOFFSETFROM:-0500
TZOFFSETTO:-0400
TZNAME:EDT
DTSTART:20240310T070000
END:DAYLIGHT
BEGIN:STANDARD
TZOFFSETFROM:-0400
TZOFFSETTO:-0500
TZNAME:EST
DTSTART:20241103T060000
END:STANDARD
BEGIN:DAYLIGHT
TZOFFSETFROM:-0500
TZOFFSETTO:-0400
TZNAME:EDT
DTSTART:20250309T070000
END:DAYLIGHT
BEGIN:STANDARD
TZOFFSETFROM:-0400
TZOFFSETTO:-0500
TZNAME:EST
DTSTART:20251102T060000
END:STANDARD
BEGIN:DAYLIGHT
TZOFFSETFROM:-0500
TZOFFSETTO:-0400
TZNAME:EDT
DTSTART:20260308T070000
END:DAYLIGHT
BEGIN:STANDARD
TZOFFSETFROM:-0400
TZOFFSETTO:-0500
TZNAME:EST
DTSTART:20261101T060000
END:STANDARD
END:VTIMEZONE
BEGIN:VEVENT
DTSTART;TZID=America/Toronto:20250518T100000
DTEND;TZID=America/Toronto:20250518T130000
DTSTAMP:20260425T063216
CREATED:20250213T010144Z
LAST-MODIFIED:20250213T010144Z
UID:10001977-1747562400-1747573200@mosportkartingcentre.com
SUMMARY:MTCC Round 1 - Victoria Day Cup
DESCRIPTION:
URL:https://mosportkartingcentre.com/event/mtcc-round-1-victoria-day-cup-3/
LOCATION:Mosport Karting Centre\, 3233 Concession Rd10\, Bowmanville\, Ontario\, L1C3K6\, Canada
CATEGORIES:Arrive and Drive
ORGANIZER;CN="Mosport Karting Centre":MAILTO:info@mosportkartingcentre.com
END:VEVENT
BEGIN:VEVENT
DTSTART;TZID=America/Toronto:20250518T130000
DTEND;TZID=America/Toronto:20250518T170000
DTSTAMP:20260425T063216
CREATED:20250426T175753Z
LAST-MODIFIED:20250426T175753Z
UID:10002043-1747573200-1747587600@mosportkartingcentre.com
SUMMARY:Group Event
DESCRIPTION:
URL:https://mosportkartingcentre.com/event/group-event-93/
LOCATION:Mosport Karting Centre\, 3233 Concession Rd10\, Bowmanville\, Ontario\, L1C3K6\, Canada
CATEGORIES:Group Events
END:VEVENT
BEGIN:VEVENT
DTSTART;TZID=America/Toronto:20250518T170000
DTEND;TZID=America/Toronto:20250518T200000
DTSTAMP:20260425T063216
CREATED:20250213T000613Z
LAST-MODIFIED:20250213T000613Z
UID:10001939-1747587600-1747598400@mosportkartingcentre.com
SUMMARY:MADRL Schedule 4 Race 1
DESCRIPTION:
URL:https://mosportkartingcentre.com/event/madrl-schedule-4-race-1-3/
LOCATION:Mosport Karting Centre\, 3233 Concession Rd10\, Bowmanville\, Ontario\, L1C3K6\, Canada
CATEGORIES:Arrive and Drive
ORGANIZER;CN="Mosport Karting Centre":MAILTO:info@mosportkartingcentre.com
END:VEVENT
BEGIN:VEVENT
DTSTART;VALUE=DATE:20250519
DTEND;VALUE=DATE:20250520
DTSTAMP:20260425T063216
CREATED:20250211T230004Z
LAST-MODIFIED:20250211T230004Z
UID:10001879-1747612800-1747699199@mosportkartingcentre.com
SUMMARY:Track Closed
DESCRIPTION:
URL:https://mosportkartingcentre.com/event/track-closed-36/
LOCATION:Mosport Karting Centre\, 3233 Concession Rd10\, Bowmanville\, Ontario\, L1C3K6\, Canada
CATEGORIES:Closed
ORGANIZER;CN="Mosport Karting Centre":MAILTO:info@mosportkartingcentre.com
END:VEVENT
BEGIN:VEVENT
DTSTART;TZID=America/Toronto:20250520T100000
DTEND;TZID=America/Toronto:20250520T163000
DTSTAMP:20260425T063216
CREATED:20250426T180918Z
LAST-MODIFIED:20250426T180918Z
UID:10002046-1747735200-1747758600@mosportkartingcentre.com
SUMMARY:Open Practice
DESCRIPTION:
URL:https://mosportkartingcentre.com/event/open-practice-305/
LOCATION:Mosport Karting Centre\, 3233 Concession Rd10\, Bowmanville\, Ontario\, L1C3K6\, Canada
CATEGORIES:Open Practice
END:VEVENT
BEGIN:VEVENT
DTSTART;TZID=America/Toronto:20250520T170000
DTEND;TZID=America/Toronto:20250520T200000
DTSTAMP:20260425T063216
CREATED:20250426T180540Z
LAST-MODIFIED:20250426T181339Z
UID:10002045-1747760400-1747771200@mosportkartingcentre.com
SUMMARY:MADRL Option 1 & Option 2 Practice
DESCRIPTION:
URL:https://mosportkartingcentre.com/event/madrl-option-1-option-2-practice-104/
LOCATION:Mosport Karting Centre\, 3233 Concession Rd10\, Bowmanville\, Ontario\, L1C3K6\, Canada
CATEGORIES:Arrive and Drive
END:VEVENT
BEGIN:VEVENT
DTSTART;TZID=America/Toronto:20250521T100000
DTEND;TZID=America/Toronto:20250521T163000
DTSTAMP:20260425T063216
CREATED:20250426T181053Z
LAST-MODIFIED:20250426T181053Z
UID:10002047-1747821600-1747845000@mosportkartingcentre.com
SUMMARY:Open Practice
DESCRIPTION:
URL:https://mosportkartingcentre.com/event/open-practice-306/
LOCATION:Mosport Karting Centre\, 3233 Concession Rd10\, Bowmanville\, Ontario\, L1C3K6\, Canada
CATEGORIES:Open Practice
END:VEVENT
BEGIN:VEVENT
DTSTART;TZID=America/Toronto:20250521T170000
DTEND;TZID=America/Toronto:20250521T200000
DTSTAMP:20260425T063216
CREATED:20250426T181145Z
LAST-MODIFIED:20250426T181145Z
UID:10002048-1747846800-1747857600@mosportkartingcentre.com
SUMMARY:MADRL Option 1 & Option 2 Practice
DESCRIPTION:
URL:https://mosportkartingcentre.com/event/madrl-option-1-option-2-practice-105/
LOCATION:Mosport Karting Centre\, 3233 Concession Rd10\, Bowmanville\, Ontario\, L1C3K6\, Canada
CATEGORIES:Arrive and Drive
END:VEVENT
BEGIN:VEVENT
DTSTART;TZID=America/Toronto:20250522T100000
DTEND;TZID=America/Toronto:20250522T163000
DTSTAMP:20260425T063216
CREATED:20250426T181455Z
LAST-MODIFIED:20250426T181455Z
UID:10002049-1747908000-1747931400@mosportkartingcentre.com
SUMMARY:Open Practice
DESCRIPTION:
URL:https://mosportkartingcentre.com/event/open-practice-307/
LOCATION:Mosport Karting Centre\, 3233 Concession Rd10\, Bowmanville\, Ontario\, L1C3K6\, Canada
CATEGORIES:Open Practice
END:VEVENT
BEGIN:VEVENT
DTSTART;TZID=America/Toronto:20250522T170000
DTEND;TZID=America/Toronto:20250522T200000
DTSTAMP:20260425T063216
CREATED:20250426T183311Z
LAST-MODIFIED:20250426T183311Z
UID:10002050-1747933200-1747944000@mosportkartingcentre.com
SUMMARY:MADRL Option 1 & Option 2 Practice
DESCRIPTION:
URL:https://mosportkartingcentre.com/event/madrl-option-1-option-2-practice-106/
LOCATION:Mosport Karting Centre\, 3233 Concession Rd10\, Bowmanville\, Ontario\, L1C3K6\, Canada
CATEGORIES:Arrive and Drive
END:VEVENT
BEGIN:VEVENT
DTSTART;TZID=America/Toronto:20250523T100000
DTEND;TZID=America/Toronto:20250523T163000
DTSTAMP:20260425T063216
CREATED:20250426T183345Z
LAST-MODIFIED:20250426T183345Z
UID:10002051-1747994400-1748017800@mosportkartingcentre.com
SUMMARY:Open Practice
DESCRIPTION:
URL:https://mosportkartingcentre.com/event/open-practice-308/
LOCATION:Mosport Karting Centre\, 3233 Concession Rd10\, Bowmanville\, Ontario\, L1C3K6\, Canada
CATEGORIES:Open Practice
END:VEVENT
BEGIN:VEVENT
DTSTART;TZID=America/Toronto:20250523T170000
DTEND;TZID=America/Toronto:20250523T200000
DTSTAMP:20260425T063216
CREATED:20250426T183431Z
LAST-MODIFIED:20250426T183431Z
UID:10002052-1748019600-1748030400@mosportkartingcentre.com
SUMMARY:MADRL Option 1 & Option 2 Practice
DESCRIPTION:
URL:https://mosportkartingcentre.com/event/madrl-option-1-option-2-practice-107/
LOCATION:Mosport Karting Centre\, 3233 Concession Rd10\, Bowmanville\, Ontario\, L1C3K6\, Canada
CATEGORIES:Arrive and Drive
END:VEVENT
BEGIN:VEVENT
DTSTART;TZID=America/Toronto:20250524T093000
DTEND;TZID=America/Toronto:20250524T123000
DTSTAMP:20260425T063216
CREATED:20250426T183518Z
LAST-MODIFIED:20250426T183518Z
UID:10002053-1748079000-1748089800@mosportkartingcentre.com
SUMMARY:Group Event
DESCRIPTION:
URL:https://mosportkartingcentre.com/event/group-event-94/
LOCATION:Mosport Karting Centre\, 3233 Concession Rd10\, Bowmanville\, Ontario\, L1C3K6\, Canada
CATEGORIES:Group Events
END:VEVENT
BEGIN:VEVENT
DTSTART;TZID=America/Toronto:20250524T120000
DTEND;TZID=America/Toronto:20250524T153000
DTSTAMP:20260425T063216
CREATED:20250426T183712Z
LAST-MODIFIED:20250426T183712Z
UID:10002054-1748088000-1748100600@mosportkartingcentre.com
SUMMARY:Group Event
DESCRIPTION:
URL:https://mosportkartingcentre.com/event/group-event-95/
LOCATION:Mosport Karting Centre\, 3233 Concession Rd10\, Bowmanville\, Ontario\, L1C3K6\, Canada
CATEGORIES:Group Events
END:VEVENT
BEGIN:VEVENT
DTSTART;TZID=America/Toronto:20250524T160000
DTEND;TZID=America/Toronto:20250524T170000
DTSTAMP:20260425T063216
CREATED:20250426T183822Z
LAST-MODIFIED:20250426T183822Z
UID:10002055-1748102400-1748106000@mosportkartingcentre.com
SUMMARY:Group Event
DESCRIPTION:
URL:https://mosportkartingcentre.com/event/group-event-96/
LOCATION:Mosport Karting Centre\, 3233 Concession Rd10\, Bowmanville\, Ontario\, L1C3K6\, Canada
CATEGORIES:Group Events
END:VEVENT
BEGIN:VEVENT
DTSTART;TZID=America/Toronto:20250525T100000
DTEND;TZID=America/Toronto:20250525T130000
DTSTAMP:20260425T063216
CREATED:20250521T201651Z
LAST-MODIFIED:20250521T201651Z
UID:10002115-1748167200-1748178000@mosportkartingcentre.com
SUMMARY:Open Practice
DESCRIPTION:
URL:https://mosportkartingcentre.com/event/open-practice-329/
LOCATION:Mosport Karting Centre\, 3233 Concession Rd10\, Bowmanville\, Ontario\, L1C3K6\, Canada
CATEGORIES:Open Practice
END:VEVENT
BEGIN:VEVENT
DTSTART;TZID=America/Toronto:20250525T130000
DTEND;TZID=America/Toronto:20250525T160000
DTSTAMP:20260425T063216
CREATED:20250426T183958Z
LAST-MODIFIED:20250426T183958Z
UID:10002057-1748178000-1748188800@mosportkartingcentre.com
SUMMARY:Group Event
DESCRIPTION:
URL:https://mosportkartingcentre.com/event/group-event-98/
LOCATION:Mosport Karting Centre\, 3233 Concession Rd10\, Bowmanville\, Ontario\, L1C3K6\, Canada
CATEGORIES:Group Events
END:VEVENT
BEGIN:VEVENT
DTSTART;TZID=America/Toronto:20250525T170000
DTEND;TZID=America/Toronto:20250525T200000
DTSTAMP:20260425T063216
CREATED:20250426T184130Z
LAST-MODIFIED:20250426T184130Z
UID:10002058-1748192400-1748203200@mosportkartingcentre.com
SUMMARY:Keaton Pipe Enduro
DESCRIPTION:
URL:https://mosportkartingcentre.com/event/keaton-pipe-enduro/
LOCATION:Mosport Karting Centre\, 3233 Concession Rd10\, Bowmanville\, Ontario\, L1C3K6\, Canada
CATEGORIES:MIKA
END:VEVENT
BEGIN:VEVENT
DTSTART;VALUE=DATE:20250526
DTEND;VALUE=DATE:20250527
DTSTAMP:20260425T063216
CREATED:20250211T230023Z
LAST-MODIFIED:20250211T230023Z
UID:10001880-1748217600-1748303999@mosportkartingcentre.com
SUMMARY:Track Closed
DESCRIPTION:
URL:https://mosportkartingcentre.com/event/track-closed-37/
LOCATION:Mosport Karting Centre\, 3233 Concession Rd10\, Bowmanville\, Ontario\, L1C3K6\, Canada
CATEGORIES:Closed
ORGANIZER;CN="Mosport Karting Centre":MAILTO:info@mosportkartingcentre.com
END:VEVENT
BEGIN:VEVENT
DTSTART;TZID=America/Toronto:20250527T100000
DTEND;TZID=America/Toronto:20250527T163000
DTSTAMP:20260425T063216
CREATED:20250426T184240Z
LAST-MODIFIED:20250426T184240Z
UID:10002059-1748340000-1748363400@mosportkartingcentre.com
SUMMARY:Open Practice
DESCRIPTION:
URL:https://mosportkartingcentre.com/event/open-practice-309/
LOCATION:Mosport Karting Centre\, 3233 Concession Rd10\, Bowmanville\, Ontario\, L1C3K6\, Canada
CATEGORIES:Open Practice
END:VEVENT
BEGIN:VEVENT
DTSTART;TZID=America/Toronto:20250527T170000
DTEND;TZID=America/Toronto:20250527T200000
DTSTAMP:20260425T063216
CREATED:20250212T231255Z
LAST-MODIFIED:20250212T231255Z
UID:10001916-1748365200-1748376000@mosportkartingcentre.com
SUMMARY:MADRL Schedule 1 Race 2
DESCRIPTION:
URL:https://mosportkartingcentre.com/event/madrl-schedule-1-race-2-3/
LOCATION:Mosport Karting Centre\, 3233 Concession Rd10\, Bowmanville\, Ontario\, L1C3K6\, Canada
CATEGORIES:Arrive and Drive
ORGANIZER;CN="Mosport Karting Centre":MAILTO:info@mosportkartingcentre.com
END:VEVENT
BEGIN:VEVENT
DTSTART;TZID=America/Toronto:20250528T100000
DTEND;TZID=America/Toronto:20250528T163000
DTSTAMP:20260425T063216
CREATED:20250426T184329Z
LAST-MODIFIED:20250426T184329Z
UID:10002060-1748426400-1748449800@mosportkartingcentre.com
SUMMARY:Open Practice
DESCRIPTION:
URL:https://mosportkartingcentre.com/event/open-practice-310/
LOCATION:Mosport Karting Centre\, 3233 Concession Rd10\, Bowmanville\, Ontario\, L1C3K6\, Canada
CATEGORIES:Open Practice
END:VEVENT
BEGIN:VEVENT
DTSTART;TZID=America/Toronto:20250528T170000
DTEND;TZID=America/Toronto:20250528T200000
DTSTAMP:20260425T063216
CREATED:20250212T234549Z
LAST-MODIFIED:20250212T234549Z
UID:10001928-1748451600-1748462400@mosportkartingcentre.com
SUMMARY:MADRL Schedule 2 Race 2
DESCRIPTION:
URL:https://mosportkartingcentre.com/event/madrl-schedule-2-race-2-3/
LOCATION:Mosport Karting Centre\, 3233 Concession Rd10\, Bowmanville\, Ontario\, L1C3K6\, Canada
CATEGORIES:Arrive and Drive
ORGANIZER;CN="Mosport Karting Centre":MAILTO:info@mosportkartingcentre.com
END:VEVENT
BEGIN:VEVENT
DTSTART;TZID=America/Toronto:20250529T100000
DTEND;TZID=America/Toronto:20250529T163000
DTSTAMP:20260425T063216
CREATED:20250520T173557Z
LAST-MODIFIED:20250520T173557Z
UID:10002067-1748512800-1748536200@mosportkartingcentre.com
SUMMARY:Open Practice
DESCRIPTION:
URL:https://mosportkartingcentre.com/event/open-practice-313/
LOCATION:Mosport Karting Centre\, 3233 Concession Rd10\, Bowmanville\, Ontario\, L1C3K6\, Canada
CATEGORIES:Open Practice
ORGANIZER;CN="Mosport Karting Centre":MAILTO:info@mosportkartingcentre.com
END:VEVENT
BEGIN:VEVENT
DTSTART;TZID=America/Toronto:20250529T163000
DTEND;TZID=America/Toronto:20250529T193000
DTSTAMP:20260425T063216
CREATED:20250426T185042Z
LAST-MODIFIED:20250520T173656Z
UID:10002065-1748536200-1748547000@mosportkartingcentre.com
SUMMARY:Group Event
DESCRIPTION:
URL:https://mosportkartingcentre.com/event/group-event-100/
LOCATION:Mosport Karting Centre\, 3233 Concession Rd10\, Bowmanville\, Ontario\, L1C3K6\, Canada
CATEGORIES:Group Events
ORGANIZER;CN="Mosport Karting Centre":MAILTO:info@mosportkartingcentre.com
END:VEVENT
BEGIN:VEVENT
DTSTART;TZID=America/Toronto:20250530T100000
DTEND;TZID=America/Toronto:20250530T130000
DTSTAMP:20260425T063216
CREATED:20250426T184452Z
LAST-MODIFIED:20250520T173821Z
UID:10002061-1748599200-1748610000@mosportkartingcentre.com
SUMMARY:Open Practice
DESCRIPTION:
URL:https://mosportkartingcentre.com/event/open-practice-311/
LOCATION:Mosport Karting Centre\, 3233 Concession Rd10\, Bowmanville\, Ontario\, L1C3K6\, Canada
CATEGORIES:Open Practice
ORGANIZER;CN="Mosport Karting Centre":MAILTO:info@mosportkartingcentre.com
END:VEVENT
BEGIN:VEVENT
DTSTART;TZID=America/Toronto:20250530T130000
DTEND;TZID=America/Toronto:20250530T163000
DTSTAMP:20260425T063216
CREATED:20250430T234935Z
LAST-MODIFIED:20250520T173914Z
UID:10002066-1748610000-1748622600@mosportkartingcentre.com
SUMMARY:Group Event
DESCRIPTION:
URL:https://mosportkartingcentre.com/event/group-event-101/
LOCATION:Mosport Karting Centre\, 3233 Concession Rd10\, Bowmanville\, Ontario\, L1C3K6\, Canada
CATEGORIES:Group Events
ORGANIZER;CN="Mosport Karting Centre":MAILTO:info@mosportkartingcentre.com
END:VEVENT
BEGIN:VEVENT
DTSTART;TZID=America/Toronto:20250530T170000
DTEND;TZID=America/Toronto:20250530T190000
DTSTAMP:20260425T063216
CREATED:20250520T174110Z
LAST-MODIFIED:20250520T174110Z
UID:10002068-1748624400-1748631600@mosportkartingcentre.com
SUMMARY:MADRL Option 1 & Option 2 Practice
DESCRIPTION:
URL:https://mosportkartingcentre.com/event/madrl-option-1-option-2-practice-108/
LOCATION:Mosport Karting Centre\, 3233 Concession Rd10\, Bowmanville\, Ontario\, L1C3K6\, Canada
CATEGORIES:Arrive and Drive
ORGANIZER;CN="Mosport Karting Centre":MAILTO:info@mosportkartingcentre.com
END:VEVENT
BEGIN:VEVENT
DTSTART;TZID=America/Toronto:20250531T100000
DTEND;TZID=America/Toronto:20250531T130000
DTSTAMP:20260425T063216
CREATED:20250213T003259Z
LAST-MODIFIED:20250213T003259Z
UID:10001952-1748685600-1748696400@mosportkartingcentre.com
SUMMARY:MADRL Schedule 3 Race 2
DESCRIPTION:
URL:https://mosportkartingcentre.com/event/madrl-schedule-3-race-2-3/
LOCATION:Mosport Karting Centre\, 3233 Concession Rd10\, Bowmanville\, Ontario\, L1C3K6\, Canada
CATEGORIES:Arrive and Drive
ORGANIZER;CN="Mosport Karting Centre":MAILTO:info@mosportkartingcentre.com
END:VEVENT
BEGIN:VEVENT
DTSTART;TZID=America/Toronto:20250531T130000
DTEND;TZID=America/Toronto:20250531T180000
DTSTAMP:20260425T063216
CREATED:20250426T184638Z
LAST-MODIFIED:20250426T184638Z
UID:10002063-1748696400-1748714400@mosportkartingcentre.com
SUMMARY:Open Practice
DESCRIPTION:
URL:https://mosportkartingcentre.com/event/open-practice-312/
LOCATION:Mosport Karting Centre\, 3233 Concession Rd10\, Bowmanville\, Ontario\, L1C3K6\, Canada
CATEGORIES:Open Practice
END:VEVENT
END:VCALENDAR